Workbook

Sheet Summary
B2: Flux (Part/GeV/cmq/pr) Over all Energy Bands
C3: Enter | D3: Exit | E3: Reflected
B4: No Spread | C4: =Data!G3 -> 9.9999997e-09 | D4: =Data!H3 -> 1.1756e-09 | E4: =Data!I3 -> 8.3451995e-09
B5: Gauss: 1 | C5: =Data!R3 -> 3.2584001e-09 | D5: =Data!S3 -> 3.0603999e-09 | E5: =Data!T3 -> 5.4076e-09
B6: Gauss: 10 | C6: =Data!AC3 -> 3.6740002e-10 | D6: =Data!AD3 -> 1.27186e-08 | E6: =Data!AE3 -> 1.04736e-08
B8: Percent of Initial Entering Flux
C9: Enter | D9: Exit | E9: Reflected
B10: No Spread | C10: =C4/$C4 -> 1 | D10: =D4/$C4 -> 0.11756 | E10: =E4/$C4 -> 0.83451998
B11: Gauss: 1 | C11: =C5/$C5 -> 1 | D11: =D5/$C5 -> 0.93923391 | E11: =E5/$C5 -> 1.6595875
B12: Gauss: 10 | C12: =C6/$C6 -> 1 | D12: =D6/$C6 -> 34.617854 | E12: =E6/$C6 -> 28.507348
B14: Cumulative Flux (Part/cmq/pr) Over all Energy Bands
C15: Enter | D15: Exit | E15: Reflected
B16: No Spread | C16: =Data!K3 -> 1.779999e-06 | D16: =Data!L3 -> 2.3905401e-08 | E16: =Data!M3 -> 9.1915216e-07
B17: Gauss: 1 | C17: =Data!V3 -> 1.2182812e-06 | D17: =Data!W3 -> 4.021806e-07 | E17: =Data!X3 -> 5.2524702e-07
B18: Gauss: 10 | C18: =Data!AG3 -> 1.4437161e-07 | D18: =Data!AH3 -> 1.712271e-06 | E18: =Data!AI3 -> 9.7772861e-07
B20: Percent of Initial Entering Cumulative Flux
C21: Enter | D21: Exit | E21: Reflected
B22: No Spread | C22: =C16/$C16 -> 1 | D22: =D16/$C16 -> 0.013430008 | E22: =E16/$C16 -> 0.5163779
B23: Gauss: 1 | C23: =C17/$C17 -> 1 | D23: =D17/$C17 -> 0.33012132 | E23: =E17/$C17 -> 0.43113775
B24: Gauss: 10 | C24: =C18/$C18 -> 1 | D24: =D18/$C18 -> 11.860165 | E24: =E18/$C18 -> 6.7723055

Sheet Data
D1: 2MeV No Energy Spread | O1: 2MeV Gauss Energy Spread: 1 | Z1: 2MeV Gauss Energy Spread: 1
A2: Division Between Fast and Thermal Neutrons | G2: Entrance | H2: Exit | I2: Reflected | K2: Entrance | L2: Exit | M2: Reflected | R2: Entrance | S2: Exit | T2: Reflected | V2: Entrance | W2: Exit | X2: Reflected | AC2: Entrance | AD2: Exit | AE2: Reflected | AG2: Entrance | AH2: Exit | AI2: Reflected
A3: 2e-09 | F3: total | G3: =SUM(G13:G273) -> 9.9999997e-09 | H3: =SUM(H13:H273) -> 1.1756e-09 | I3: =SUM(I13:I273) -> 8.3451995e-09 | K3: =SUM(K13:K273) -> 1.779999e-06 | L3: =SUM(L13:L273) -> 2.3905401e-08 | M3: =SUM(M13:M273) -> 9.1915216e-07 | Q3: total | R3: =SUM(R13:R273) -> 3.2584001e-09 | S3: =SUM(S13:S273) -> 3.0603999e-09 | T3: =SUM(T13:T273) -> 5.4076e-09 | V3: =SUM(V13:V273) -> 1.2182812e-06 | W3: =SUM(W13:W273) -> 4.021806e-07 | X3: =SUM(X13:X273) -> 5.2524702e-07 | AB3: total | AC3: =SUM(AC13:AC273) -> 3.6740002e-10 | AD3: =SUM(AD13:AD273) -> 1.27186e-08 | AE3: =SUM(AE13:AE273) -> 1.04736e-08 | AG3: =SUM(AG13:AG273) -> 1.4437161e-07 | AH3: =SUM(AH13:AH273) -> 1.712271e-06 | AI3: =SUM(AI13:AI273) -> 9.7772861e-07
F4: Fast | G4: =SUMIF($A12:$A273,">="&$A3, G12:G273) -> 9.9999997e-09 | H4: =SUMIF($A12:$A273,">="&$A3, H12:H273) -> 1.09e-10 | I4: =SUMIF($A12:$A273,">="&$A3, I12:I273) -> 6.5975994e-09 | K4: =SUMIF($A12:$A273,">="&$A3, K12:K273) -> 1.4899992e-06 | L4: =SUMIF($A12:$A273,">="&$A3, L12:L273) -> 4.0124001e-09 | M4: =SUMIF($A12:$A273,">="&$A3, M12:M273) -> 6.9901976e-07 | Q4: Fast | R4: =SUMIF($A12:$A273,">="&$A3, R12:R273) -> 3.2574001e-09 | S4: =SUMIF($A12:$A273,">="&$A3, S12:S273) -> 1.4812e-09 | T4: =SUMIF($A12:$A273,">="&$A3, T12:T273) -> 3.5504001e-09 | V4: =SUMIF($A12:$A273,">="&$A3, V12:V273) -> 1.059175e-06 | W4: =SUMIF($A12:$A273,">="&$A3, W12:W273) -> 3.15362e-07 | X4: =SUMIF($A12:$A273,">="&$A3, X12:X273) -> 3.8993982e-07 | AB4: Fast | AC4: =SUMIF($A12:$A273,">="&$A3, AC12:AC273) -> 3.6720002e-10 | AD4: =SUMIF($A12:$A273,">="&$A3, AD12:AD273) -> 7.2566002e-09 | AE4: =SUMIF($A12:$A273,">="&$A3, AE12:AE273) -> 5.1176001e-09 | AG4: =SUMIF($A12:$A273,">="&$A3, AG12:AG273) -> 1.256748e-07 | AH4: =SUMIF($A12:$A273,">="&$A3, AH12:AH273) -> 1.3491782e-06 | AI4: =SUMIF($A12:$A273,">="&$A3, AI12:AI273) -> 7.1979041e-07
F5: Thermal | G5: =SUMIF($A12:$A273,"<"&$A3, G12:G273) -> 0 | H5: =SUMIF($A12:$A273,"<"&$A3, H12:H273) -> 1.0666e-09 | I5: =SUMIF($A12:$A273,"<"&$A3, I12:I273) -> 1.7476001e-09 | K5: =SUMIF($A12:$A273,"<"&$A3, K12:K273) -> 2.8999984e-07 | L5: =SUMIF($A12:$A273,"<"&$A3, L12:L273) -> 1.9893001e-08 | M5: =SUMIF($A12:$A273,"<"&$A3, M12:M273) -> 2.2013239e-07 | Q5: Thermal | R5: =SUMIF($A12:$A273,"<"&$A3, R12:R273) -> 0 | S5: =SUMIF($A12:$A273,"<"&$A3, S12:S273) -> 1.5791998e-09 | T5: =SUMIF($A12:$A273,"<"&$A3, T12:T273) -> 1.8571998e-09 | V5: =SUMIF($A12:$A273,"<"&$A3, V12:V273) -> 1.591062e-07 | W5: =SUMIF($A12:$A273,"<"&$A3, W12:W273) -> 8.6818601e-08 | X5: =SUMIF($A12:$A273,"<"&$A3, X12:X273) -> 1.353072e-07 | AB5: Thermal | AC5: =SUMIF($A12:$A273,"<"&$A3, AC12:AC273) -> 0 | AD5: =SUMIF($A12:$A273,"<"&$A3, AD12:AD273) -> 5.4619999e-09 | AE5: =SUMIF($A12:$A273,"<"&$A3, AE12:AE273) -> 5.3559998e-09 | AG5: =SUMIF($A12:$A273,"<"&$A3, AG12:AG273) -> 1.8696801e-08 | AH5: =SUMIF($A12:$A273,"<"&$A3, AH12:AH273) -> 3.6309281e-07 | AI5: =SUMIF($A12:$A273,"<"&$A3, AI12:AI273) -> 2.5793821e-07
F6: Fast % | G6: =G4/sum(G4:G5) -> 1 | H6: =H4/sum(H4:H5) -> 0.092718618 | I6: =I4/sum(I4:I5) -> 0.79058618 | K6: =K4/sum(K4:K5) -> 0.83707865 | L6: =L4/sum(L4:L5) -> 0.16784492 | M6: =M4/sum(M4:M5) -> 0.76050495 | Q6: Fast % | R6: =R4/sum(R4:R5) -> 0.9996931 | S6: =S4/sum(S4:S5) -> 0.48398905 | T6: =T4/sum(T4:T5) -> 0.65655747 | V6: =V4/sum(V4:V5) -> 0.86940109 | W6: =W4/sum(W4:W5) -> 0.78413031 | X6: =X4/sum(X4:X5) -> 0.7423932 | AB6: Fast % | AC6: =AC4/sum(AC4:AC5) -> 0.99945563 | AD6: =AD4/sum(AD4:AD5) -> 0.57055023 | AE6: =AE4/sum(AE4:AE5) -> 0.48861902 | AG6: =AG4/sum(AG4:AG5) -> 0.8704953 | AH6: =AH4/sum(AH4:AH5) -> 0.78794665 | AI6: =AI4/sum(AI4:AI5) -> 0.7361863
F7: Thermal % | G7: =G5/sum(G4:G5) -> 0 | H7: =H5/sum(H4:H5) -> 0.90728138 | I7: =I5/sum(I4:I5) -> 0.20941382 | K7: =K5/sum(K4:K5) -> 0.16292135 | L7: =L5/sum(L4:L5) -> 0.83215508 | M7: =M5/sum(M4:M5) -> 0.23949505 | Q7: Thermal % | R7: =R5/sum(R4:R5) -> 0.00030689908 | S7: =S5/sum(S4:S5) -> 0.51601095 | T7: =T5/sum(T4:T5) -> 0.34344253 | V7: =V5/sum(V4:V5) -> 0.13059891 | W7: =W5/sum(W4:W5) -> 0.21586969 | X7: =X5/sum(X4:X5) -> 0.2576068 | AB7: Thermal % | AC7: =AC5/sum(AC4:AC5) -> 0.00054436585 | AD7: =AD5/sum(AD4:AD5) -> 0.42944977 | AE7: =AE5/sum(AE4:AE5) -> 0.51138098 | AG7: =AG5/sum(AG4:AG5) -> 0.1295047 | AH7: =AH5/sum(AH4:AH5) -> 0.21205335 | AI7: =AI5/sum(AI4:AI5) -> 0.2638137
F8: % of Original | G8: =sum(G4:G5)/$G$3 -> 1 | H8: =sum(H4:H5)/$G$3 -> 0.11756 | I8: =sum(I4:I5)/$G$3 -> 0.83451998 | K8: =sum(K4:K5)/$K$3 -> 1 | L8: =sum(L4:L5)/$K$3 -> 0.013430008 | M8: =sum(M4:M5)/$K$3 -> 0.5163779 | Q8: % of Original | R8: =sum(R4:R5)/$G$3 -> 0.32584002 | S8: =sum(S4:S5)/$G$3 -> 0.30604 | T8: =sum(T4:T5)/$G$3 -> 0.54076001 | V8: =sum(V4:V5)/$K$3 -> 0.68442802 | W8: =sum(W4:W5)/$K$3 -> 0.22594428 | X8: =sum(X4:X5)/$K$3 -> 0.29508275 | AB8: % of Original | AC8: =sum(AC4:AC5)/$AC$3 -> 1 | AD8: =sum(AD4:AD5)/$AC$3 -> 34.617854 | AE8: =sum(AE4:AE5)/$AC$3 -> 28.507348 | AG8: =sum(AG4:AG5)/$AG$3 -> 1 | AH8: =sum(AH4:AH5)/$AG$3 -> 11.860165 | AI8: =sum(AI4:AI5)/$AG$3 -> 6.7723055
H9: =I8+H8 -> 0.95207998 | L9: =M8+L8 -> 0.5298079 | S9: =T8+S8 -> 0.84680001 | W9: =X8+W8 -> 0.52102704
D11: Flux | G11: Flux * bin width | K11: Cumulative Flux | O11: Flux | R11: Flux * bin width | V11: Cumulative Flux | Z11: Flux | AC11: Flux * bin width | AG11: Cumulative Flux
A12: Energy Boundaries (GeV) | B12: Boundary Width (GeV) | D12: Enter | E12: Exit | F12: Relfected | G12: Enter | H12: Exit | I12: Relfected | K12: Enter | L12: Exit | M12: Relfected | O12: Enter | P12: Exit | Q12: Relfected | R12: Enter | S12: Exit | T12: Relfected | V12: Enter | W12: Exit | X12: Relfected | Z12: Enter | AA12: Exit | AB12: Relfected | AC12: Enter | AD12: Exit | AE12: Relfected | AG12: Enter | AH12: Exit | AI12: Relfected
A13: 0.02 | B13: =A13-A14 -> 0.0003597 | D13: 0 | E13: 0 | F13: 0 | G13: =D13*$B13 -> 0 | H13: =E13*$B13 -> 0 | I13: =F13*$B13 -> 0 | K13: 0 | L13: 0 | M13: 0 | O13: 8.4514873e-08 | P13: 1.7236587e-08 | Q13: 5.00417e-09 | R13: =O13*$B13 -> 0 | S13: =P13*$B13 -> 0 | T13: =Q13*$B13 -> 0 | V13: 2.2586e-09 | W13: 6.4720002e-10 | X13: 7.3599994e-11 | Z13: 6.6722272e-09 | AA13: 6.1162083e-08 | AB13: 2.9469001e-08 | AC13: =Z13*$B13 -> 0 | AD13: =AA13*$B13 -> 0 | AE13: =AB13*$B13 -> 0 | AG13: 2.7979999e-10 | AH13: 2.2382001e-09 | AI13: 8.162e-10
A14: 0.0196403 | B14: =A14-A15 -> 0.0004849 | E14: 0 | F14: 0 | G14: =D14*$B14 -> 0 | H14: =E14*$B14 -> 0 | I14: =F14*$B14 -> 0 | K14: 0 | L14: 0 | M14: 0 | O14: 8.4965976e-08 | P14: 1.1961229e-08 | Q14: 3.2996494e-09 | R14: =O14*$B14 -> 0 | S14: =P14*$B14 -> 0 | T14: =Q14*$B14 -> 0 | V14: 2.2998001e-09 | W14: 6.5299999e-10 | X14: 7.5199999e-11 | Z14: 1.1961229e-08 | AA14: 5.3619306e-08 | AB14: 2.3922459e-08 | AC14: =Z14*$B14 -> 0 | AD14: =AA14*$B14 -> 0 | AE14: =AB14*$B14 -> 0 | AG14: 2.8560002e-10 | AH14: 2.2642002e-09 | AI14: 8.2780005e-10
A15: 0.0191554 | B15: =A15-A16 -> 0.0004729 | D15: 0 | E15: 0 | F15: 0 | G15: =D15*$B15 -> 0 | H15: =E15*$B15 -> 0 | I15: =F15*$B15 -> 0 | K15: 0 | L15: 0 | M15: 0 | O15: 8.50074e-08 | P15: 8.8813703e-09 | Q15: 5.0750688e-09 | R15: =O15*$B15 -> 0 | S15: =P15*$B15 -> 0 | T15: =Q15*$B15 -> 0 | V15: 2.34e-09 | W15: 6.5720002e-10 | X15: 7.7599996e-11 | Z15: 9.7272155e-09 | AA15: 6.5552975e-08 | AB15: 2.0300275e-08 | AC15: =Z15*$B15 -> 0 | AD15: =AA15*$B15 -> 0 | AE15: =AB15*$B15 -> 0 | AG15: 2.902e-10 | AH15: 2.2952e-09 | AI15: 8.3740004e-10
A16: 0.0186825 | B16: =A16-A17 -> 0.0004613 | E16: 0 | F16: 0 | G16: =D16*$B16 -> 0 | H16: =E16*$B16 -> 0 | I16: =F16*$B16 -> 0 | K16: 0 | L16: 0 | M16: 0 | O16: 7.9340992e-08 | P16: 1.2573163e-08 | Q16: 5.2026885e-09 | R16: =O16*$B16 -> 0 | S16: =P16*$B16 -> 0 | T16: =Q16*$B16 -> 0 | V16: 2.3766e-09 | W16: 6.6300004e-10 | X16: 8e-11 | Z16: 9.9718189e-09 | AA16: 5.3327554e-08 | AB16: 2.1244311e-08 | AC16: =Z16*$B16 -> 0 | AD16: =AA16*$B16 -> 0 | AE16: =AB16*$B16 -> 0 | AG16: 2.9480002e-10 | AH16: 2.3198001e-09 | AI16: 8.4720003e-10
A17: 0.0182212 | B17: =A17-A18 -> 0.0004499 | D17: 0 | E17: 0 | F17: 0 | G17: =D17*$B17 -> 0 | H17: =E17*$B17 -> 0 | I17: =F17*$B17 -> 0 | K17: 0 | L17: 0 | M17: 0 | O17: 9.3354082e-08 | P17: 1.0224495e-08 | Q17: 8.0017788e-09 | R17: =O17*$B17 -> 0 | S17: =P17*$B17 -> 0 | T17: =Q17*$B17 -> 0 | V17: 2.4186e-09 | W17: 6.6760003e-10 | X17: 8.3599995e-11 | Z17: 8.446321e-09 | AA17: 4.8455213e-08 | AB17: 2.0448988e-08 | AC17: =Z17*$B17 -> 0 | AD17: =AA17*$B17 -> 0 | AE17: =AB17*$B17 -> 0 | AG17: 2.9860001e-10 | AH17: 2.3416e-09 | AI17: 8.5640001e-10
A18: 0.0177713 | B18: =A18-A19 -> 0.0004388 | E18: 0 | F18: 0 | G18: =D18*$B18 -> 0 | H18: =E18*$B18 -> 0 | I18: =F18*$B18 -> 0 | K18: 0 | L18: 0 | M18: 0 | O18: 9.9361898e-08 | P18: 1.0938924e-08 | Q18: 5.925251e-09 | R18: =O18*$B18 -> 0 | S18: =P18*$B18 -> 0 | T18: =Q18*$B18 -> 0 | V18: 2.4622e-09 | W18: 6.7240002e-10 | X18: 8.6199999e-11 | Z18: 9.1157704e-09 | AA18: 7.5660893e-08 | AB18: 3.144941e-08 | AC18: =Z18*$B18 -> 0 | AD18: =AA18*$B18 -> 0 | AE18: =AB18*$B18 -> 0 | AG18: 3.026e-10 | AH18: 2.3748001e-09 | AI18: 8.7020002e-10
A19: 0.0173325 | B19: =A19-A20 -> 0.0004279 | D19: 0 | E19: 0 | F19: 0 | G19: =D19*$B19 -> 0 | H19: =E19*$B19 -> 0 | I19: =F19*$B19 -> 0 | K19: 0 | L19: 0 | M19: 0 | O19: 8.6001407e-08 | P19: 1.2619772e-08 | Q19: 7.0109842e-09 | R19: =O19*$B19 -> 0 | S19: =P19*$B19 -> 0 | T19: =Q19*$B19 -> 0 | V19: 2.4990001e-09 | W19: 6.7780004e-10 | X19: 8.9199995e-11 | Z19: 7.4783832e-09 | AA19: 5.7957468e-08 | AB19: 2.5706942e-08 | AC19: =Z19*$B19 -> 0 | AD19: =AA19*$B19 -> 0 | AE19: =AB19*$B19 -> 0 | AG19: 3.058e-10 | AH19: 2.3996001e-09 | AI19: 8.812e-10
A20: 0.0169046 | B20: =A20-A21 -> 0.0004174 | E20: 0 | F20: 0 | G20: =D20*$B20 -> 0 | H20: =E20*$B20 -> 0 | I20: =F20*$B20 -> 0 | K20: 0 | L20: 0 | M20: 0 | O20: 8.241495e-08 | P20: 1.3895544e-08 | Q20: 7.6665074e-09 | R20: =O20*$B20 -> 0 | S20: =P20*$B20 -> 0 | T20: =Q20*$B20 -> 0 | V20: 2.5333999e-09 | W20: 6.8360001e-10 | X20: 9.2399997e-11 | Z20: 8.6248209e-09 | AA20: 7.2352663e-08 | AB20: 3.3540967e-08 | AC20: =Z20*$B20 -> 0 | AD20: =AA20*$B20 -> 0 | AE20: =AB20*$B20 -> 0 | AG20: 3.0940001e-10 | AH20: 2.4298001e-09 | AI20: 8.9520003e-10
A21: 0.0164872 | B21: =A21-A22 -> 0.0004071 | D21: 0 | E21: 0 | F21: 0 | G21: =D21*$B21 -> 0 | H21: =E21*$B21 -> 0 | I21: =F21*$B21 -> 0 | K21: 0 | L21: 0 | M21: 0 | O21: 8.4008846e-08 | P21: 1.0808155e-08 | Q21: 7.3691968e-09 | R21: =O21*$B21 -> 0 | S21: =P21*$B21 -> 0 | T21: =Q21*$B21 -> 0 | V21: 2.5675999e-09 | W21: 6.8799999e-10 | X21: 9.5399993e-11 | Z21: 1.4247114e-08 | AA21: 7.6148368e-08 | AB21: 3.0950627e-08 | AC21: =Z21*$B21 -> 0 | AD21: =AA21*$B21 -> 0 | AE21: =AB21*$B21 -> 0 | AG21: 3.152e-10 | AH21: 2.4608e-09 | AI21: 9.078e-10
A22: 0.0160801 | B22: =A22-A23 -> 0.000397 | E22: 0 | F22: 0 | G22: =D22*$B22 -> 0 | H22: =E22*$B22 -> 0 | I22: =F22*$B22 -> 0 | K22: 0 | L22: 0 | M22: 0 | O22: 9.471033e-08 | P22: 1.8136021e-08 | Q22: 8.564232e-09 | R22: =O22*$B22 -> 0 | S22: =P22*$B22 -> 0 | T22: =Q22*$B22 -> 0 | V22: 2.6052001e-09 | W22: 6.9520001e-10 | X22: 9.8800003e-11 | Z22: 1.2594459e-08 | AA22: 5.1385392e-08 | AB22: 3.4256928e-08 | AC22: =Z22*$B22 -> 0 | AD22: =AA22*$B22 -> 0 | AE22: =AB22*$B22 -> 0 | AG22: 3.2020001e-10 | AH22: 2.4812001e-09 | AI22: 9.2140001e-10
A23: 0.0156831 | B23: =A23-A24 -> 0.0003872 | D23: 0 | E23: 0 | F23: 0 | G23: =D23*$B23 -> 0 | H23: =E23*$B23 -> 0 | I23: =F23*$B23 -> 0 | K23: 0 | L23: 0 | M23: 0 | O23: 8.4710749e-08 | P23: 1.446281e-08 | Q23: 8.2644629e-09 | R23: =O23*$B23 -> 0 | S23: =P23*$B23 -> 0 | T23: =Q23*$B23 -> 0 | V23: 2.638e-09 | W23: 7.0080003e-10 | X23: 1.0199999e-10 | Z23: 9.297521e-09 | AA23: 7.1280994e-08 | AB23: 2.5309918e-08 | AC23: =Z23*$B23 -> 0 | AD23: =AA23*$B23 -> 0 | AE23: =AB23*$B23 -> 0 | AG23: 3.2380001e-10 | AH23: 2.5088001e-09 | AI23: 9.3120001e-10
A24: 0.0152959 | B24: =A24-A25 -> 0.0003776 | E24: 0 | F24: 0 | G24: =D24*$B24 -> 0 | H24: =E24*$B24 -> 0 | I24: =F24*$B24 -> 0 | K24: 0 | L24: 0 | M24: 0 | O24: 9.533899e-08 | P24: 1.1652543e-08 | Q24: 7.9449158e-09 | R24: =O24*$B24 -> 0 | S24: =P24*$B24 -> 0 | T24: =Q24*$B24 -> 0 | V24: 2.6739999e-09 | W24: 7.0520001e-10 | X24: 1.0499999e-10 | Z24: 1.0593221e-08 | AA24: 7.9978818e-08 | AB24: 3.548729e-08 | AC24: =Z24*$B24 -> 0 | AD24: =AA24*$B24 -> 0 | AE24: =AB24*$B24 -> 0 | AG24: 3.2780001e-10 | AH24: 2.5390001e-09 | AI24: 9.4460006e-10
A25: 0.0149183 | B25: =A25-A26 -> 0.0003684 | D25: 0 | E25: 0 | F25: 0 | G25: =D25*$B25 -> 0 | H25: =E25*$B25 -> 0 | I25: =F25*$B25 -> 0 | K25: 0 | L25: 0 | M25: 0 | O25: 9.2833879e-08 | P25: 2.0086864e-08 | Q25: 1.1400652e-08 | R25: =O25*$B25 -> 0 | S25: =P25*$B25 -> 0 | T25: =Q25*$B25 -> 0 | V25: 2.7082001e-09 | W25: 7.1260003e-10 | X25: 1.092e-10 | Z25: 9.7719877e-09 | AA25: 7.8718784e-08 | AB25: 3.4201957e-08 | AC25: =Z25*$B25 -> 0 | AD25: =AA25*$B25 -> 0 | AE25: =AB25*$B25 -> 0 | AG25: 3.3140002e-10 | AH25: 2.568e-09 | AI25: 9.5719999e-10
A26: 0.0145499 | B26: =A26-A27 -> 0.0003592 | E26: 0 | F26: 0 | G26: =D26*$B26 -> 0 | H26: =E26*$B26 -> 0 | I26: =F26*$B26 -> 0 | K26: 0 | L26: 0 | M26: 0 | O26: 9.9665925e-08 | P26: 2.0044544e-08 | Q26: 1.3919823e-08 | R26: =O26*$B26 -> 0 | S26: =P26*$B26 -> 0 | T26: =Q26*$B26 -> 0 | V26: 2.7440001e-09 | W26: 7.198e-10 | X26: 1.142e-10 | Z26: 8.3518934e-09 | AA26: 8.0178175e-08 | AB26: 3.8418708e-08 | AC26: =Z26*$B26 -> 0 | AD26: =AA26*$B26 -> 0 | AE26: =AB26*$B26 -> 0 | AG26: 3.3440001e-10 | AH26: 2.5968001e-09 | AI26: 9.7100006e-10
A27: 0.0141907 | B27: =A27-A28 -> 0.0003504 | D27: 0 | E27: 0 | F27: 0 | G27: =D27*$B27 -> 0 | H27: =E27*$B27 -> 0 | I27: =F27*$B27 -> 0 | K27: 0 | L27: 0 | M27: 0 | O27: 9.5890414e-08 | P27: 1.6552512e-08 | Q27: 1.4840182e-08 | R27: =O27*$B27 -> 0 | S27: =P27*$B27 -> 0 | T27: =Q27*$B27 -> 0 | V27: 2.7775999e-09 | W27: 7.2560002e-10 | X27: 1.194e-10 | Z27: 1.0844749e-08 | AA27: 7.4771691e-08 | AB27: 4.7374431e-08 | AC27: =Z27*$B27 -> 0 | AD27: =AA27*$B27 -> 0 | AE27: =AB27*$B27 -> 0 | AG27: 3.382e-10 | AH27: 2.623e-09 | AI27: 9.876e-10
A28: 0.0138403 | B28: =A28-A29 -> 0.0003417 | E28: 0 | F28: 0 | G28: =D28*$B28 -> 0 | H28: =E28*$B28 -> 0 | I28: =F28*$B28 -> 0 | K28: 0 | L28: 0 | M28: 0 | O28: 1.0242903e-07 | P28: 1.6388645e-08 | Q28: 1.404741e-08 | R28: =O28*$B28 -> 0 | S28: =P28*$B28 -> 0 | T28: =Q28*$B28 -> 0 | V28: 2.8126002e-09 | W28: 7.3120004e-10 | X28: 1.242e-10 | Z28: 1.0535558e-08 | AA28: 8.4284466e-08 | AB28: 3.9215688e-08 | AC28: =Z28*$B28 -> 0 | AD28: =AA28*$B28 -> 0 | AE28: =AB28*$B28 -> 0 | AG28: 3.418e-10 | AH28: 2.6518001e-09 | AI28: 1.0010001e-09
A29: 0.0134986 | B29: =A29-A30 -> 0.0003333 | D29: 0 | E29: 0 | F29: 0 | G29: =D29*$B29 -> 0 | H29: =E29*$B29 -> 0 | I29: =F29*$B29 -> 0 | K29: 0 | L29: 0 | M29: 0 | O29: 9.60096e-08 | P29: 1.740174e-08 | Q29: 1.3201321e-08 | R29: =O29*$B29 -> 0 | S29: =P29*$B29 -> 0 | T29: =Q29*$B29 -> 0 | V29: 2.8446001e-09 | W29: 7.3700002e-10 | X29: 1.2860001e-10 | Z29: 9.60096e-09 | AA29: 6.2406244e-08 | AB29: 3.840384e-08 | AC29: =Z29*$B29 -> 0 | AD29: =AA29*$B29 -> 0 | AE29: =AB29*$B29 -> 0 | AG29: 3.45e-10 | AH29: 2.6726001e-09 | AI29: 1.0138e-09
A30: 0.0131653 | B30: =A30-A31 -> 0.0003251 | E30: 0 | F30: 0 | G30: =D30*$B30 -> 0 | H30: =E30*$B30 -> 0 | I30: =F30*$B30 -> 0 | K30: 0 | L30: 0 | M30: 0 | O30: 9.4740081e-08 | P30: 1.9686251e-08 | Q30: 9.8431254e-09 | R30: =O30*$B30 -> 0 | S30: =P30*$B30 -> 0 | T30: =Q30*$B30 -> 0 | V30: 2.8753999e-09 | W30: 7.4340001e-10 | X30: 1.318e-10 | Z30: 1.1073516e-08 | AA30: 8.4281758e-08 | AB30: 2.8914181e-08 | AC30: =Z30*$B30 -> 0 | AD30: =AA30*$B30 -> 0 | AE30: =AB30*$B30 -> 0 | AG30: 3.4860001e-10 | AH30: 2.7e-09 | AI30: 1.0232001e-09
A31: 0.0128402 | B31: =A31-A32 -> 0.000317 | D31: 0 | E31: 0 | F31: 0 | G31: =D31*$B31 -> 0 | H31: =E31*$B31 -> 0 | I31: =F31*$B31 -> 0 | K31: 0 | L31: 0 | M31: 0 | O31: 1.0536278e-07 | P31: 2.5867509e-08 | Q31: 1.7665615e-08 | R31: =O31*$B31 -> 0 | S31: =P31*$B31 -> 0 | T31: =Q31*$B31 -> 0 | V31: 2.9088001e-09 | W31: 7.516e-10 | X31: 1.3739999e-10 | Z31: 1.6403787e-08 | AA31: 8.1388016e-08 | AB31: 3.8485805e-08 | AC31: =Z31*$B31 -> 0 | AD31: =AA31*$B31 -> 0 | AE31: =AB31*$B31 -> 0 | AG31: 3.5379999e-10 | AH31: 2.7258e-09 | AI31: 1.0354e-09
A32: 0.0125232 | B32: =A32-A33 -> 0.0003092 | E32: 0 | F32: 0 | G32: =D32*$B32 -> 0 | H32: =E32*$B32 -> 0 | I32: =F32*$B32 -> 0 | K32: 0 | L32: 0 | M32: 0 | O32: 1.164295e-07 | P32: 2.1345407e-08 | Q32: 1.0996119e-08 | R32: =O32*$B32 -> 0 | S32: =P32*$B32 -> 0 | T32: =Q32*$B32 -> 0 | V32: 2.9448e-09 | W32: 7.582e-10 | X32: 1.408e-10 | Z32: 1.164295e-08 | AA32: 8.0206988e-08 | AB32: 3.8809834e-08 | AC32: =Z32*$B32 -> 0 | AD32: =AA32*$B32 -> 0 | AE32: =AB32*$B32 -> 0 | AG32: 3.574e-10 | AH32: 2.7506e-09 | AI32: 1.0474001e-09
A33: 0.012214 | B33: =A33-A34 -> 0.0003015 | D33: 0 | E33: 0 | F33: 0 | G33: =D33*$B33 -> 0 | H33: =E33*$B33 -> 0 | I33: =F33*$B33 -> 0 | K33: 0 | L33: 0 | M33: 0 | O33: 1.0480929e-07 | P33: 1.1276948e-08 | Q33: 2.0563848e-08 | R33: =O33*$B33 -> 0 | S33: =P33*$B33 -> 0 | T33: =Q33*$B33 -> 0 | V33: 2.9764e-09 | W33: 7.6160001e-10 | X33: 1.4700001e-10 | Z33: 1.0613599e-08 | AA33: 7.1641793e-08 | AB33: 3.9800995e-08 | AC33: =Z33*$B33 -> 0 | AD33: =AA33*$B33 -> 0 | AE33: =AB33*$B33 -> 0 | AG33: 3.6060002e-10 | AH33: 2.7722e-09 | AI33: 1.0594e-09
A34: 0.0119125 | B34: =A34-A35 -> 0.0002942 | E34: 0 | F34: 0 | G34: =D34*$B34 -> 0 | H34: =E34*$B34 -> 0 | I34: =F34*$B34 -> 0 | K34: 0 | L34: 0 | M34: 0 | O34: 1.0740992e-07 | P34: 2.0394291e-08 | Q34: 1.9034671e-08 | R34: =O34*$B34 -> 0 | S34: =P34*$B34 -> 0 | T34: =Q34*$B34 -> 0 | V34: 3.0080001e-09 | W34: 7.6759998e-10 | X34: 1.526e-10 | Z34: 8.8375254e-09 | AA34: 8.4296396e-08 | AB34: 4.554725e-08 | AC34: =Z34*$B34 -> 0 | AD34: =AA34*$B34 -> 0 | AE34: =AB34*$B34 -> 0 | AG34: 3.632e-10 | AH34: 2.797e-09 | AI34: 1.0728001e-09
A35: 0.0116183 | B35: =A35-A36 -> 0.0002868 | D35: 0 | E35: 0 | F35: 0 | G35: =D35*$B35 -> 0 | H35: =E35*$B35 -> 0 | I35: =F35*$B35 -> 0 | K35: 0 | L35: 0 | M35: 0 | O35: 1.0529987e-07 | P35: 1.7433752e-08 | Q35: 2.4407253e-08 | R35: =O35*$B35 -> 0 | S35: =P35*$B35 -> 0 | T35: =Q35*$B35 -> 0 | V35: 3.0382001e-09 | W35: 7.7260004e-10 | X35: 1.5960001e-10 | Z35: 1.3947002e-08 | AA35: 7.8800561e-08 | AB35: 4.5327756e-08 | AC35: =Z35*$B35 -> 0 | AD35: =AA35*$B35 -> 0 | AE35: =AB35*$B35 -> 0 | AG35: 3.6720002e-10 | AH35: 2.8196001e-09 | AI35: 1.0858e-09
A36: 0.0113315 | B36: =A36-A37 -> 0.0002798 | E36: 0 | F36: 0 | G36: =D36*$B36 -> 0 | H36: =E36*$B36 -> 0 | I36: =F36*$B36 -> 0 | K36: 0 | L36: 0 | M36: 0 | O36: 1.1293782e-07 | P36: 1.2866334e-08 | Q36: 1.7869908e-08 | R36: =O36*$B36 -> 0 | S36: =P36*$B36 -> 0 | T36: =Q36*$B36 -> 0 | V36: 3.0698e-09 | W36: 7.7619999e-10 | X36: 1.646e-10 | Z36: 1.2151538e-08 | AA36: 8.6490353e-08 | AB36: 5.5039315e-08 | AC36: =Z36*$B36 -> 0 | AD36: =AA36*$B36 -> 0 | AE36: =AB36*$B36 -> 0 | AG36: 3.706e-10 | AH36: 2.8438001e-09 | AI36: 1.1012e-09
A37: 0.0110517 | B37: =A37-A38 -> 0.0002729 | D37: 0 | E37: 0 | F37: 0 | G37: =D37*$B37 -> 0 | H37: =E37*$B37 -> 0 | I37: =F37*$B37 -> 0 | K37: 0 | L37: 0 | M37: 0 | O37: 1.0260169e-07 | P37: 1.2458776e-08 | Q37: 2.3451815e-08 | R37: =O37*$B37 -> 0 | S37: =P37*$B37 -> 0 | T37: =Q37*$B37 -> 0 | V37: 3.0978e-09 | W37: 7.796e-10 | X37: 1.7100002e-10 | Z37: 9.5272998e-09 | AA37: 9.0142912e-08 | AB37: 3.4444852e-08 | AC37: =Z37*$B37 -> 0 | AD37: =AA37*$B37 -> 0 | AE37: =AB37*$B37 -> 0 | AG37: 3.7320003e-10 | AH37: 2.8684002e-09 | AI37: 1.1106001e-09
A38: 0.0107788 | B38: =A38-A39 -> 0.0002661 | E38: 0 | F38: 0 | G38: =D38*$B38 -> 0 | H38: =E38*$B38 -> 0 | I38: =F38*$B38 -> 0 | K38: 0 | L38: 0 | M38: 0 | O38: 1.1123638e-07 | P38: 2.7809095e-08 | Q38: 2.5554304e-08 | R38: =O38*$B38 -> 0 | S38: =P38*$B38 -> 0 | T38: =Q38*$B38 -> 0 | V38: 3.1273999e-09 | W38: 7.8700002e-10 | X38: 1.778e-10 | Z38: 1.1273958e-08 | AA38: 1.0672679e-07 | AB38: 6.8395344e-08 | AC38: =Z38*$B38 -> 0 | AD38: =AA38*$B38 -> 0 | AE38: =AB38*$B38 -> 0 | AG38: 3.7620002e-10 | AH38: 2.8968001e-09 | AI38: 1.1287999e-09
A39: 0.0105127 | B39: =A39-A40 -> 0.0002595 | D39: 0 | E39: 0 | F39: 0 | G39: =D39*$B39 -> 0 | H39: =E39*$B39 -> 0 | I39: =F39*$B39 -> 0 | K39: 0 | L39: 0 | M39: 0 | O39: 1.0019268e-07 | P39: 2.5433527e-08 | Q39: 2.3121387e-08 | R39: =O39*$B39 -> 0 | S39: =P39*$B39 -> 0 | T39: =Q39*$B39 -> 0 | V39: 3.1534e-09 | W39: 7.9360002e-10 | X39: 1.838e-10 | Z39: 1.0019268e-08 | AA39: 9.6339114e-08 | AB39: 6.3969175e-08 | AC39: =Z39*$B39 -> 0 | AD39: =AA39*$B39 -> 0 | AE39: =AB39*$B39 -> 0 | AG39: 3.7880002e-10 | AH39: 2.9218001e-09 | AI39: 1.1454e-09
A40: 0.0102532 | B40: =A40-A41 -> 0.0002532002 | E40: 0 | F40: 0 | G40: =D40*$B40 -> 0 | H40: =E40*$B40 -> 0 | I40: =F40*$B40 -> 0 | K40: 0 | L40: 0 | M40: 0 | O40: 1.042654e-07 | P40: 1.8957346e-08 | Q40: 3.6334914e-08 | R40: =O40*$B40 -> 0 | S40: =P40*$B40 -> 0 | T40: =Q40*$B40 -> 0 | V40: 3.1798e-09 | W40: 7.9840001e-10 | X40: 1.9300002e-10 | Z40: 1.8167457e-08 | AA40: 1.1453397e-07 | AB40: 5.687204e-08 | AC40: =Z40*$B40 -> 0 | AD40: =AA40*$B40 -> 0 | AE40: =AB40*$B40 -> 0 | AG40: 3.8340001e-10 | AH40: 2.9508e-09 | AI40: 1.1598e-09
A41: 0.0099999998 | B41: =A41-A42 -> 0.0002469002 | D41: 0 | E41: 0 | F41: 0 | G41: =D41*$B41 -> 0 | H41: =E41*$B41 -> 0 | I41: =F41*$B41 -> 0 | K41: 0 | L41: 0 | M41: 0 | O41: 1.1178615e-07 | P41: 2.4301338e-08 | Q41: 2.9161605e-08 | R41: =O41*$B41 -> 0 | S41: =P41*$B41 -> 0 | T41: =Q41*$B41 -> 0 | V41: 3.2074001e-09 | W41: 8.0439999e-10 | X41: 2.0020002e-10 | Z41: 1.4580802e-08 | AA41: 1.2960713e-07 | AB41: 6.7233699e-08 | AC41: =Z41*$B41 -> 0 | AD41: =AA41*$B41 -> 0 | AE41: =AB41*$B41 -> 0 | AG41: 3.8700002e-10 | AH41: 2.9828e-09 | AI41: 1.1764001e-09
A42: 0.0097530996 | B42: =A42-A43 -> 0.0002408092 | E42: 0 | F42: 0 | G42: =D42*$B42 -> 0 | H42: =E42*$B42 -> 0 | I42: =F42*$B42 -> 0 | K42: 0 | L42: 0 | M42: 0 | O42: 1.1876584e-07 | P42: 2.1593788e-08 | Q42: 2.9068561e-08 | R42: =O42*$B42 -> 0 | S42: =P42*$B42 -> 0 | T42: =Q42*$B42 -> 0 | V42: 3.2359999e-09 | W42: 8.096e-10 | X42: 2.0720001e-10 | Z42: 9.9663637e-09 | AA42: 1.0630788e-07 | AB42: 6.3950836e-08 | AC42: =Z42*$B42 -> 0 | AD42: =AA42*$B42 -> 0 | AE42: =AB42*$B42 -> 0 | AG42: 3.8940001e-10 | AH42: 3.0084e-09 | AI42: 1.1918e-09
A43: 0.0095122904 | B43: =A43-A44 -> 0.0002348507 | D43: 0 | E43: 0 | F43: 0 | G43: =D43*$B43 -> 0 | H43: =E43*$B43 -> 0 | I43: =F43*$B43 -> 0 | K43: 0 | L43: 0 | M43: 0 | O43: 1.2177986e-07 | P43: 2.3845008e-08 | Q43: 2.9806259e-08 | R43: =O43*$B43 -> 0 | S43: =P43*$B43 -> 0 | T43: =Q43*$B43 -> 0 | V43: 3.2646001e-09 | W43: 8.1520002e-10 | X43: 2.1420003e-10 | Z43: 1.1070896e-08 | AA43: 1.0985736e-07 | AB43: 4.5135192e-08 | AC43: =Z43*$B43 -> 0 | AD43: =AA43*$B43 -> 0 | AE43: =AB43*$B43 -> 0 | AG43: 3.9200002e-10 | AH43: 3.0342002e-09 | AI43: 1.2024001e-09
A44: 0.0092774397 | B44: =A44-A45 -> 0.00022907 | E44: 0 | F44: 0 | G44: =D44*$B44 -> 0 | H44: =E44*$B44 -> 0 | I44: =F44*$B44 -> 0 | K44: 0 | L44: 0 | M44: 0 | O44: 1.2834505e-07 | P44: 1.571572e-08 | Q44: 2.5319773e-08 | R44: =O44*$B44 -> 0 | S44: =P44*$B44 -> 0 | T44: =Q44*$B44 -> 0 | V44: 3.294e-09 | W44: 8.1880003e-10 | X44: 2.2000003e-10 | Z44: 1.6588816e-08 | AA44: 9.4294322e-08 | AB44: 5.4131927e-08 | AC44: =Z44*$B44 -> 0 | AD44: =AA44*$B44 -> 0 | AE44: =AB44*$B44 -> 0 | AG44: 3.958e-10 | AH44: 3.0558001e-09 | AI44: 1.2148e-09
A45: 0.0090483697 | B45: =A45-A46 -> 0.0002234001 | D45: 0 | E45: 0 | F45: 0 | G45: =D45*$B45 -> 0 | H45: =E45*$B45 -> 0 | I45: =F45*$B45 -> 0 | K45: 0 | L45: 0 | M45: 0 | O45: 1.2444046e-07 | P45: 2.4171889e-08 | Q45: 3.1333929e-08 | R45: =O45*$B45 -> 0 | S45: =P45*$B45 -> 0 | T45: =Q45*$B45 -> 0 | V45: 3.3218002e-09 | W45: 8.2420004e-10 | X45: 2.2700003e-10 | Z45: 1.0743062e-08 | AA45: 1.0922113e-07 | AB45: 5.013429e-08 | AC45: =Z45*$B45 -> 0 | AD45: =AA45*$B45 -> 0 | AE45: =AB45*$B45 -> 0 | AG45: 3.9820003e-10 | AH45: 3.0802001e-09 | AI45: 1.226e-09
A46: 0.0088249696 | B46: =A46-A47 -> 0.0002178894 | E46: 0 | F46: 0 | G46: =D46*$B46 -> 0 | H46: =E46*$B46 -> 0 | I46: =F46*$B46 -> 0 | K46: 0 | L46: 0 | M46: 0 | O46: 1.1106522e-07 | P46: 3.1208408e-08 | Q46: 2.937262e-08 | R46: =O46*$B46 -> 0 | S46: =P46*$B46 -> 0 | T46: =Q46*$B46 -> 0 | V46: 3.3459999e-09 | W46: 8.3099999e-10 | X46: 2.3340002e-10 | Z46: 8.2610496e-09 | AA46: 1.4319153e-07 | AB46: 7.2513657e-08 | AC46: =Z46*$B46 -> 0 | AD46: =AA46*$B46 -> 0 | AE46: =AB46*$B46 -> 0 | AG46: 4.0000001e-10 | AH46: 3.1114e-09 | AI46: 1.2418e-09
A47: 0.0086070802 | B47: =A47-A48 -> 0.0002125101 | D47: 0 | E47: 0 | F47: 0 | G47: =D47*$B47 -> 0 | H47: =E47*$B47 -> 0 | I47: =F47*$B47 -> 0 | K47: 0 | L47: 0 | M47: 0 | O47: 1.2046492e-07 | P47: 2.9175098e-08 | Q47: 3.2939628e-08 | R47: =O47*$B47 -> 0 | S47: =P47*$B47 -> 0 | T47: =Q47*$B47 -> 0 | V47: 3.3716001e-09 | W47: 8.3719998e-10 | X47: 2.4040001e-10 | Z47: 1.0352454e-08 | AA47: 1.2422944e-07 | AB47: 6.3996993e-08 | AC47: =Z47*$B47 -> 0 | AD47: =AA47*$B47 -> 0 | AE47: =AB47*$B47 -> 0 | AG47: 4.0220002e-10 | AH47: 3.1378e-09 | AI47: 1.2554e-09
A48: 0.0083945701 | B48: =A48-A49 -> 0.0002072603 | E48: 0 | F48: 0 | G48: =D48*$B48 -> 0 | H48: =E48*$B48 -> 0 | I48: =F48*$B48 -> 0 | K48: 0 | L48: 0 | M48: 0 | O48: 1.3509602e-07 | P48: 2.412429e-08 | Q48: 3.9563837e-08 | R48: =O48*$B48 -> 0 | S48: =P48*$B48 -> 0 | T48: =Q48*$B48 -> 0 | V48: 3.3996002e-09 | W48: 8.4220003e-10 | X48: 2.4860003e-10 | Z48: 1.5439545e-08 | AA48: 1.3316607e-07 | AB48: 6.4653094e-08 | AC48: =Z48*$B48 -> 0 | AD48: =AA48*$B48 -> 0 | AE48: =AB48*$B48 -> 0 | AG48: 4.0540002e-10 | AH48: 3.1654002e-09 | AI48: 1.2688e-09
A49: 0.0081873098 | B49: =A49-A50 -> 0.00020215 | D49: 0 | E49: 0 | F49: 0 | G49: =D49*$B49 -> 0 | H49: =E49*$B49 -> 0 | I49: =F49*$B49 -> 0 | K49: 0 | L49: 0 | M49: 0 | O49: 1.2268119e-07 | P49: 1.3851101e-08 | Q49: 3.858521e-08 | R49: =O49*$B49 -> 0 | S49: =P49*$B49 -> 0 | T49: =Q49*$B49 -> 0 | V49: 3.4244001e-09 | W49: 8.4500001e-10 | X49: 2.5640004e-10 | Z49: 1.7808558e-08 | AA49: 9.7947073e-08 | AB49: 6.0351226e-08 | AC49: =Z49*$B49 -> 0 | AD49: =AA49*$B49 -> 0 | AE49: =AB49*$B49 -> 0 | AG49: 4.0900003e-10 | AH49: 3.1852001e-09 | AI49: 1.281e-09
A50: 0.0079851598 | B50: =A50-A51 -> 0.0001971499 | E50: 0 | F50: 0 | G50: =D50*$B50 -> 0 | H50: =E50*$B50 -> 0 | I50: =F50*$B50 -> 0 | K50: 0 | L50: 0 | M50: 0 | O50: 1.3695157e-07 | P50: 1.4202384e-08 | Q50: 2.6375856e-08 | R50: =O50*$B50 -> 0 | S50: =P50*$B50 -> 0 | T50: =Q50*$B50 -> 0 | V50: 3.4514001e-09 | W50: 8.478e-10 | X50: 2.6160002e-10 | Z50: 1.4202384e-08 | AA50: 9.9416688e-08 | AB50: 4.8693888e-08 | AC50: =Z50*$B50 -> 0 | AD50: =AA50*$B50 -> 0 | AE50: =AB50*$B50 -> 0 | AG50: 4.1180001e-10 | AH50: 3.2048e-09 | AI50: 1.2906e-09
A51: 0.0077880099 | B51: =A51-A52 -> 0.0001922901 | D51: 0 | E51: 0 | F51: 0 | G51: =D51*$B51 -> 0 | H51: =E51*$B51 -> 0 | I51: =F51*$B51 -> 0 | K51: 0 | L51: 0 | M51: 0 | O51: 1.2273129e-07 | P51: 1.6641531e-08 | Q51: 2.3922201e-08 | R51: =O51*$B51 -> 0 | S51: =P51*$B51 -> 0 | T51: =Q51*$B51 -> 0 | V51: 3.4750001e-09 | W51: 8.5099999e-10 | X51: 2.6620003e-10 | Z51: 1.8721723e-08 | AA51: 1.0400957e-07 | AB51: 4.6804306e-08 | AC51: =Z51*$B51 -> 0 | AD51: =AA51*$B51 -> 0 | AE51: =AB51*$B51 -> 0 | AG51: 4.1540002e-10 | AH51: 3.2248002e-09 | AI51: 1.2996e-09
A52: 0.0075957198 | B52: =A52-A53 -> 0.00018754 | E52: 0 | F52: 0 | G52: =D52*$B52 -> 0 | H52: =E52*$B52 -> 0 | I52: =F52*$B52 -> 0 | K52: 0 | L52: 0 | M52: 0 | O52: 1.3650421e-07 | P52: 2.0262345e-08 | Q52: 3.4126053e-08 | R52: =O52*$B52 -> 0 | S52: =P52*$B52 -> 0 | T52: =Q52*$B52 -> 0 | V52: 3.5006e-09 | W52: 8.5480001e-10 | X52: 2.7260003e-10 | Z52: 1.5996587e-08 | AA52: 1.0451104e-07 | AB52: 5.2255523e-08 | AC52: =Z52*$B52 -> 0 | AD52: =AA52*$B52 -> 0 | AE52: =AB52*$B52 -> 0 | AG52: 4.1840001e-10 | AH52: 3.2444001e-09 | AI52: 1.3094e-09
A53: 0.0074081798 | B53: =A53-A54 -> 0.0001829099 | D53: 0 | E53: 0 | F53: 0 | G53: =D53*$B53 -> 0 | H53: =E53*$B53 -> 0 | I53: =F53*$B53 -> 0 | K53: 0 | L53: 0 | M53: 0 | O53: 1.2683834e-07 | P53: 1.5308075e-08 | Q53: 4.1550489e-08 | R53: =O53*$B53 -> 0 | S53: =P53*$B53 -> 0 | T53: =Q53*$B53 -> 0 | V53: 3.5238001e-09 | W53: 8.5759999e-10 | X53: 2.8020003e-10 | Z53: 2.5148982e-08 | AA53: 1.5526763e-07 | AB53: 7.5446941e-08 | AC53: =Z53*$B53 -> 0 | AD53: =AA53*$B53 -> 0 | AE53: =AB53*$B53 -> 0 | AG53: 4.2300002e-10 | AH53: 3.2728e-09 | AI53: 1.3232e-09
A54: 0.0072252699 | B54: =A54-A55 -> 0.0001783897 | E54: 0 | F54: 0 | G54: =D54*$B54 -> 0 | H54: =E54*$B54 -> 0 | I54: =F54*$B54 -> 0 | K54: 0 | L54: 0 | M54: 0 | O54: 1.1435619e-07 | P54: 5.2693537e-08 | Q54: 7.9600881e-08 | R54: =O54*$B54 -> 0 | S54: =P54*$B54 -> 0 | T54: =Q54*$B54 -> 0 | V54: 3.5442e-09 | W54: 8.6699997e-10 | X54: 2.944e-10 | Z54: 1.4574808e-08 | AA54: 2.3095465e-07 | AB54: 1.5359605e-07 | AC54: =Z54*$B54 -> 0 | AD54: =AA54*$B54 -> 0 | AE54: =AB54*$B54 -> 0 | AG54: 4.2560003e-10 | AH54: 3.314e-09 | AI54: 1.3506e-09
A55: 0.0070468802 | B55: =A55-A56 -> 0.0001739901 | D55: 0 | E55: 0 | F55: 0 | G55: =D55*$B55 -> 0 | H55: =E55*$B55 -> 0 | I55: =F55*$B55 -> 0 | K55: 0 | L55: 0 | M55: 0 | O55: 1.471349e-07 | P55: 6.437152e-08 | Q55: 8.9660325e-08 | R55: =O55*$B55 -> 0 | S55: =P55*$B55 -> 0 | T55: =Q55*$B55 -> 0 | V55: 3.5698e-09 | W55: 8.7820001e-10 | X55: 3.1000003e-10 | Z55: 1.4943387e-08 | AA55: 2.3449624e-07 | AB55: 1.5403185e-07 | AC55: =Z55*$B55 -> 0 | AD55: =AA55*$B55 -> 0 | AE55: =AB55*$B55 -> 0 | AG55: 4.282e-10 | AH55: 3.3548e-09 | AI55: 1.3774e-09
A56: 0.0068728901 | B56: =A56-A57 -> 0.0001696903 | E56: 0 | F56: 0 | G56: =D56*$B56 -> 0 | H56: =E56*$B56 -> 0 | I56: =F56*$B56 -> 0 | K56: 0 | L56: 0 | M56: 0 | O56: 1.3907714e-07 | P56: 6.1288233e-08 | Q56: 9.193235e-08 | R56: =O56*$B56 -> 0 | S56: =P56*$B56 -> 0 | T56: =Q56*$B56 -> 0 | V56: 3.5934e-09 | W56: 8.8860003e-10 | X56: 3.2560005e-10 | Z56: 2.0036538e-08 | AA56: 2.4043845e-07 | AB56: 1.5322058e-07 | AC56: =Z56*$B56 -> 0 | AD56: =AA56*$B56 -> 0 | AE56: =AB56*$B56 -> 0 | AG56: 4.3160003e-10 | AH56: 3.3956e-09 | AI56: 1.4034001e-09
A57: 0.0067031998 | B57: =A57-A58 -> 5.55999e-05 | D57: 0 | E57: 0 | F57: 0 | G57: =D57*$B57 -> 0 | H57: =E57*$B57 -> 0 | I57: =F57*$B57 -> 0 | K57: 0 | L57: 0 | M57: 0 | O57: 1.2949641e-07 | P57: 3.5971222e-08 | Q57: 5.0359713e-08 | R57: =O57*$B57 -> 0 | S57: =P57*$B57 -> 0 | T57: =Q57*$B57 -> 0 | V57: 3.6006e-09 | W57: 8.9060004e-10 | X57: 3.2840003e-10 | Z57: 2.1582734e-08 | AA57: 1.7985612e-07 | AB57: 1.618705e-07 | AC57: =Z57*$B57 -> 0 | AD57: =AA57*$B57 -> 0 | AE57: =AB57*$B57 -> 0 | AG57: 4.3280002e-10 | AH57: 3.4056e-09 | AI57: 1.4124e-09
A58: 0.0066475999 | B58: =A58-A59 -> 5.522e-05 | E58: 0 | F58: 0 | G58: =D58*$B58 -> 0 | H58: =E58*$B58 -> 0 | I58: =F58*$B58 -> 0 | K58: 0 | L58: 0 | M58: 0 | O58: 1.7022818e-07 | P58: 6.1571896e-08 | Q58: 6.1571896e-08 | R58: =O58*$B58 -> 0 | S58: =P58*$B58 -> 0 | T58: =Q58*$B58 -> 0 | V58: 3.6100001e-09 | W58: 8.9400004e-10 | X58: 3.3180003e-10 | Z58: 2.5353133e-08 | AA58: 2.6439696e-07 | AB58: 1.3400943e-07 | AC58: =Z58*$B58 -> 0 | AD58: =AA58*$B58 -> 0 | AE58: =AB58*$B58 -> 0 | AG58: 4.3420001e-10 | AH58: 3.4202001e-09 | AI58: 1.4198001e-09
A59: 0.0065923799 | B59: =A59-A60 -> 5.46798e-05 | D59: 0 | E59: 0 | F59: 0 | G59: =D59*$B59 -> 0 | H59: =E59*$B59 -> 0 | I59: =F59*$B59 -> 0 | K59: 0 | L59: 0 | M59: 0 | O59: 1.0241405e-07 | P59: 3.6576445e-08 | Q59: 9.8756402e-08 | R59: =O59*$B59 -> 0 | S59: =P59*$B59 -> 0 | T59: =Q59*$B59 -> 0 | V59: 3.6156e-09 | W59: 8.96e-10 | X59: 3.3720002e-10 | Z59: 1.8288222e-08 | AA59: 2.8895394e-07 | AB59: 1.5362107e-07 | AC59: =Z59*$B59 -> 0 | AD59: =AA59*$B59 -> 0 | AE59: =AB59*$B59 -> 0 | AG59: 4.3520001e-10 | AH59: 3.4360002e-09 | AI59: 1.4282e-09
A60: 0.0065377001 | B60: =A60-A61 -> 0.0001614201 | E60: 0 | F60: 0 | G60: =D60*$B60 -> 0 | H60: =E60*$B60 -> 0 | I60: =F60*$B60 -> 0 | K60: 0 | L60: 0 | M60: 0 | O60: 1.5115847e-07 | P60: 4.088713e-08 | Q60: 5.2038164e-08 | R60: =O60*$B60 -> 0 | S60: =P60*$B60 -> 0 | T60: =Q60*$B60 -> 0 | V60: 3.6400001e-09 | W60: 9.0259999e-10 | X60: 3.4560002e-10 | Z60: 1.1151036e-08 | AA60: 1.9700161e-07 | AB60: 1.0655433e-07 | AC60: =Z60*$B60 -> 0 | AD60: =AA60*$B60 -> 0 | AE60: =AB60*$B60 -> 0 | AG60: 4.3700002e-10 | AH60: 3.4678e-09 | AI60: 1.4454e-09
A61: 0.00637628 | B61: =A61-A62 -> 0.0001574299 | D61: 0 | E61: 0 | F61: 0 | G61: =D61*$B61 -> 0 | H61: =E61*$B61 -> 0 | I61: =F61*$B61 -> 0 | K61: 0 | L61: 0 | M61: 0 | O61: 1.5753034e-07 | P61: 3.0489744e-08 | Q61: 3.5571368e-08 | R61: =O61*$B61 -> 0 | S61: =P61*$B61 -> 0 | T61: =Q61*$B61 -> 0 | V61: 3.6648e-09 | W61: 9.0739999e-10 | X61: 3.5120001e-10 | Z61: 1.2704059e-08 | AA61: 1.4228547e-07 | AB61: 6.8601921e-08 | AC61: =Z61*$B61 -> 0 | AD61: =AA61*$B61 -> 0 | AE61: =AB61*$B61 -> 0 | AG61: 4.39e-10 | AH61: 3.4902001e-09 | AI61: 1.4561999e-09
A62: 0.0062188501 | B62: =A62-A63 -> 0.0001535401 | E62: 0 | F62: 0 | G62: =D62*$B62 -> 0 | H62: =E62*$B62 -> 0 | I62: =F62*$B62 -> 0 | K62: 0 | L62: 0 | M62: 0 | O62: 1.2765403e-07 | P62: 3.516999e-08 | Q62: 7.1642575e-08 | R62: =O62*$B62 -> 0 | S62: =P62*$B62 -> 0 | T62: =Q62*$B62 -> 0 | V62: 3.6844001e-09 | W62: 9.128e-10 | X62: 3.6220002e-10 | Z62: 1.8236291e-08 | AA62: 1.5240329e-07 | AB62: 1.0941775e-07 | AC62: =Z62*$B62 -> 0 | AD62: =AA62*$B62 -> 0 | AE62: =AB62*$B62 -> 0 | AG62: 4.4180001e-10 | AH62: 3.5136001e-09 | AI62: 1.4729999e-09
A63: 0.00606531 | B63: =A63-A64 -> 0.00014976 | D63: 0 | E63: 0 | F63: 0 | G63: =D63*$B63 -> 0 | H63: =E63*$B63 -> 0 | I63: =F63*$B63 -> 0 | K63: 0 | L63: 0 | M63: 0 | O63: 1.4423078e-07 | P63: 4.1399574e-08 | Q63: 8.5470091e-08 | R63: =O63*$B63 -> 0 | S63: =P63*$B63 -> 0 | T63: =Q63*$B63 -> 0 | V63: 3.706e-09 | W63: 9.1899999e-10 | X63: 3.7500003e-10 | Z63: 1.7361112e-08 | AA63: 2.0966881e-07 | AB63: 1.5491453e-07 | AC63: =Z63*$B63 -> 0 | AD63: =AA63*$B63 -> 0 | AE63: =AB63*$B63 -> 0 | AG63: 4.4440002e-10 | AH63: 3.5450001e-09 | AI63: 1.4961999e-09
A64: 0.00591555 | B64: =A64-A65 -> 0.00014605 | E64: 0 | F64: 0 | G64: =D64*$B64 -> 0 | H64: =E64*$B64 -> 0 | I64: =F64*$B64 -> 0 | K64: 0 | L64: 0 | M64: 0 | O64: 1.7528244e-07 | P64: 4.7928793e-08 | Q64: 1.0133516e-07 | R64: =O64*$B64 -> 0 | S64: =P64*$B64 -> 0 | T64: =Q64*$B64 -> 0 | V64: 3.7315999e-09 | W64: 9.26e-10 | X64: 3.8980003e-10 | Z64: 2.1910305e-08 | AA64: 2.4101337e-07 | AB64: 1.7117425e-07 | AC64: =Z64*$B64 -> 0 | AD64: =AA64*$B64 -> 0 | AE64: =AB64*$B64 -> 0 | AG64: 4.4760001e-10 | AH64: 3.5802001e-09 | AI64: 1.5211999e-09
A65: 0.0057695 | B65: =A65-A66 -> 0.00028138 | D65: 0 | E65: 0 | F65: 0 | G65: =D65*$B65 -> 0 | H65: =E65*$B65 -> 0 | I65: =F65*$B65 -> 0 | K65: 0 | L65: 0 | M65: 0 | O65: 1.6063686e-07 | P65: 4.9754782e-08 | Q65: 1.2083304e-07 | R65: =O65*$B65 -> 0 | S65: =P65*$B65 -> 0 | T65: =Q65*$B65 -> 0 | V65: 3.7768002e-09 | W65: 9.3999997e-10 | X65: 4.2380002e-10 | Z65: 1.7769565e-08 | AA65: 2.6725425e-07 | AB65: 1.4855355e-07 | AC65: =Z65*$B65 -> 0 | AD65: =AA65*$B65 -> 0 | AE65: =AB65*$B65 -> 0 | AG65: 4.5260001e-10 | AH65: 3.6554e-09 | AI65: 1.563e-09
A66: 0.00548812 | B66: =A66-A67 -> 0.0002676602 | E66: 0 | F66: 0 | G66: =D66*$B66 -> 0 | H66: =E66*$B66 -> 0 | I66: =F66*$B66 -> 0 | K66: 0 | L66: 0 | M66: 0 | O66: 1.7559591e-07 | P66: 5.3052382e-08 | Q66: 9.0413216e-08 | R66: =O66*$B66 -> 0 | S66: =P66*$B66 -> 0 | T66: =Q66*$B66 -> 0 | V66: 3.8237999e-09 | W66: 9.5420005e-10 | X66: 4.4800005e-10 | Z66: 1.79332e-08 | AA66: 2.2790107e-07 | AB66: 1.7410149e-07 | AC66: =Z66*$B66 -> 0 | AD66: =AA66*$B66 -> 0 | AE66: =AB66*$B66 -> 0 | AG66: 4.5740003e-10 | AH66: 3.7164001e-09 | AI66: 1.6096e-09
A67: 0.0052204598 | B67: =A67-A68 -> 0.0002546096 | D67: 0 | E67: 0 | F67: 0 | G67: =D67*$B67 -> 0 | H67: =E67*$B67 -> 0 | I67: =F67*$B67 -> 0 | K67: 0 | L67: 0 | M67: 0 | O67: 1.6810024e-07 | P67: 5.8128119e-08 | Q67: 1.0761557e-07 | R67: =O67*$B67 -> 0 | S67: =P67*$B67 -> 0 | T67: =Q67*$B67 -> 0 | V67: 3.8665999e-09 | W67: 9.6899999e-10 | X67: 4.754e-10 | Z67: 2.5921999e-08 | AA67: 2.8042891e-07 | AB67: 1.8302502e-07 | AC67: =Z67*$B67 -> 0 | AD67: =AA67*$B67 -> 0 | AE67: =AB67*$B67 -> 0 | AG67: 4.6400001e-10 | AH67: 3.7877999e-09 | AI67: 1.6562e-09
A68: 0.0049658502 | B68: =A68-A69 -> 0.0001226003 | E68: 0 | F68: 0 | G68: =D68*$B68 -> 0 | H68: =E68*$B68 -> 0 | I68: =F68*$B68 -> 0 | K68: 0 | L68: 0 | M68: 0 | O68: 1.9249593e-07 | P68: 5.5464927e-08 | Q68: 1.3376835e-07 | R68: =O68*$B68 -> 0 | S68: =P68*$B68 -> 0 | T68: =Q68*$B68 -> 0 | V68: 3.8902002e-09 | W68: 9.758e-10 | X68: 4.9180005e-10 | Z68: 2.1207178e-08 | AA68: 2.9200655e-07 | AB68: 2.0228386e-07 | AC68: =Z68*$B68 -> 0 | AD68: =AA68*$B68 -> 0 | AE68: =AB68*$B68 -> 0 | AG68: 4.6660004e-10 | AH68: 3.8236001e-09 | AI68: 1.681e-09
A69: 0.0048432499 | B69: =A69-A70 -> 0.0001195799 | D69: 0 | E69: 0 | F69: 0 | G69: =D69*$B69 -> 0 | H69: =E69*$B69 -> 0 | I69: =F69*$B69 -> 0 | K69: 0 | L69: 0 | M69: 0 | O69: 1.8899482e-07 | P69: 6.5228299e-08 | Q69: 1.2376653e-07 | R69: =O69*$B69 -> 0 | S69: =P69*$B69 -> 0 | T69: =Q69*$B69 -> 0 | V69: 3.9127999e-09 | W69: 9.8359998e-10 | X69: 5.0660004e-10 | Z69: 1.6725204e-08 | AA69: 3.4119418e-07 | AB69: 2.358254e-07 | AC69: =Z69*$B69 -> 0 | AD69: =AA69*$B69 -> 0 | AE69: =AB69*$B69 -> 0 | AG69: 4.6859999e-10 | AH69: 3.8643999e-09 | AI69: 1.7092e-09
A70: 0.00472367 | B70: =A70-A71 -> 0.00011663 | E70: 0 | F70: 0 | G70: =D70*$B70 -> 0 | H70: =E70*$B70 -> 0 | I70: =F70*$B70 -> 0 | K70: 0 | L70: 0 | M70: 0 | O70: 1.8863072e-07 | P70: 7.2022637e-08 | Q70: 1.2003773e-07 | R70: =O70*$B70 -> 0 | S70: =P70*$B70 -> 0 | T70: =Q70*$B70 -> 0 | V70: 3.9348e-09 | W70: 9.9200004e-10 | X70: 5.2060001e-10 | Z70: 1.5433422e-08 | AA70: 3.258167e-07 | AB70: 1.8177141e-07 | AC70: =Z70*$B70 -> 0 | AD70: =AA70*$B70 -> 0 | AE70: =AB70*$B70 -> 0 | AG70: 4.704e-10 | AH70: 3.9024002e-09 | AI70: 1.7304e-09
A71: 0.00460704 | B71: =A71-A72 -> 0.0001137499 | D71: 0 | E71: 0 | F71: 0 | G71: =D71*$B71 -> 0 | H71: =E71*$B71 -> 0 | I71: =F71*$B71 -> 0 | K71: 0 | L71: 0 | M71: 0 | O71: 1.6879122e-07 | P71: 7.3846152e-08 | Q71: 1.2131868e-07 | R71: =O71*$B71 -> 0 | S71: =P71*$B71 -> 0 | T71: =Q71*$B71 -> 0 | V71: 3.9540002e-09 | W71: 1.0004e-09 | X71: 5.3440002e-10 | Z71: 1.2307693e-08 | AA71: 2.9538464e-07 | AB71: 1.9164835e-07 | AC71: =Z71*$B71 -> 0 | AD71: =AA71*$B71 -> 0 | AE71: =AB71*$B71 -> 0 | AG71: 4.7179999e-10 | AH71: 3.936e-09 | AI71: 1.7521999e-09
A72: 0.0044932901 | B72: =A72-A73 -> 0.0002191402 | E72: 0 | F72: 0 | G72: =D72*$B72 -> 0 | H72: =E72*$B72 -> 0 | I72: =F72*$B72 -> 0 | K72: 0 | L72: 0 | M72: 0 | O72: 1.6427855e-07 | P72: 4.1069637e-08 | Q72: 1.2594688e-07 | R72: =O72*$B72 -> 0 | S72: =P72*$B72 -> 0 | T72: =Q72*$B72 -> 0 | V72: 3.9899999e-09 | W72: 1.0094e-09 | X72: 5.6200006e-10 | Z72: 2.2816465e-08 | AA72: 2.7197225e-07 | AB72: 1.8070639e-07 | AC72: =Z72*$B72 -> 0 | AD72: =AA72*$B72 -> 0 | AE72: =AB72*$B72 -> 0 | AG72: 4.7680004e-10 | AH72: 3.9956003e-09 | AI72: 1.7918e-09
A73: 0.0042741499 | B73: =A73-A74 -> 0.00020845 | D73: 0 | E73: 0 | F73: 0 | G73: =D73*$B73 -> 0 | H73: =E73*$B73 -> 0 | I73: =F73*$B73 -> 0 | K73: 0 | L73: 0 | M73: 0 | O73: 1.6310867e-07 | P73: 4.6054211e-08 | Q73: 1.3912209e-07 | R73: =O73*$B73 -> 0 | S73: =P73*$B73 -> 0 | T73: =Q73*$B73 -> 0 | V73: 4.0240002e-09 | W73: 1.019e-09 | X73: 5.9100003e-10 | Z73: 1.3432478e-08 | AA73: 3.0510915e-07 | AB73: 1.8325738e-07 | AC73: =Z73*$B73 -> 0 | AD73: =AA73*$B73 -> 0 | AE73: =AB73*$B73 -> 0 | AG73: 4.7960003e-10 | AH73: 4.0592001e-09 | AI73: 1.83e-09
A74: 0.0040656999 | B74: =A74-A75 -> 0.00019829 | E74: 0 | F74: 0 | G74: =D74*$B74 -> 0 | H74: =E74*$B74 -> 0 | I74: =F74*$B74 -> 0 | K74: 0 | L74: 0 | M74: 0 | O74: 1.8962126e-07 | P74: 6.3543297e-08 | Q74: 1.4725907e-07 | R74: =O74*$B74 -> 0 | S74: =P74*$B74 -> 0 | T74: =Q74*$B74 -> 0 | V74: 4.0615999e-09 | W74: 1.0316e-09 | X74: 6.2020006e-10 | Z74: 1.8155228e-08 | AA74: 2.8443191e-07 | AB74: 2.1887135e-07 | AC74: =Z74*$B74 -> 0 | AD74: =AA74*$B74 -> 0 | AE74: =AB74*$B74 -> 0 | AG74: 4.8320004e-10 | AH74: 4.1156003e-09 | AI74: 1.8734001e-09
A75: 0.0038674099 | B75: =A75-A76 -> 0.0001886198 | D75: 0 | E75: 0 | F75: 0 | G75: =D75*$B75 -> 0 | H75: =E75*$B75 -> 0 | I75: =F75*$B75 -> 0 | K75: 0 | L75: 0 | M75: 0 | O75: 1.8873926e-07 | P75: 3.7111654e-08 | Q75: 1.2193829e-07 | R75: =O75*$B75 -> 0 | S75: =P75*$B75 -> 0 | T75: =Q75*$B75 -> 0 | V75: 4.0971999e-09 | W75: 1.0386e-09 | X75: 6.4320005e-10 | Z75: 1.9085993e-08 | AA75: 2.3327325e-07 | AB75: 1.2723996e-07 | AC75: =Z75*$B75 -> 0 | AD75: =AA75*$B75 -> 0 | AE75: =AB75*$B75 -> 0 | AG75: 4.8680004e-10 | AH75: 4.1596002e-09 | AI75: 1.8974e-09
A76: 0.0036787901 | B76: =A76-A77 -> 0.00017941 | E76: 0 | F76: 0 | G76: =D76*$B76 -> 0 | H76: =E76*$B76 -> 0 | I76: =F76*$B76 -> 0 | K76: 0 | L76: 0 | M76: 0 | O76: 2.0400201e-07 | P76: 3.7902012e-08 | Q76: 9.6984564e-08 | R76: =O76*$B76 -> 0 | S76: =P76*$B76 -> 0 | T76: =Q76*$B76 -> 0 | V76: 4.1338e-09 | W76: 1.0454e-09 | X76: 6.6060002e-10 | Z76: 2.0065771e-08 | AA76: 2.173792e-07 | AB76: 1.2373893e-07 | AC76: =Z76*$B76 -> 0 | AD76: =AA76*$B76 -> 0 | AE76: =AB76*$B76 -> 0 | AG76: 4.904e-10 | AH76: 4.1986001e-09 | AI76: 1.9196e-09
A77: 0.0034993801 | B77: =A77-A78 -> 0.00017067 | D77: 0 | E77: 0 | F77: 0 | G77: =D77*$B77 -> 0 | H77: =E77*$B77 -> 0 | I77: =F77*$B77 -> 0 | K77: 0 | L77: 0 | M77: 0 | O77: 2.0858968e-07 | P77: 3.0468158e-08 | Q77: 8.7888914e-08 | R77: =O77*$B77 -> 0 | S77: =P77*$B77 -> 0 | T77: =Q77*$B77 -> 0 | V77: 4.1693999e-09 | W77: 1.0506001e-09 | X77: 6.7560002e-10 | Z77: 2.3437043e-08 | AA77: 2.2851117e-07 | AB77: 1.2070078e-07 | AC77: =Z77*$B77 -> 0 | AD77: =AA77*$B77 -> 0 | AE77: =AB77*$B77 -> 0 | AG77: 4.9440002e-10 | AH77: 4.2376e-09 | AI77: 1.9402e-09
A78: 0.0033287101 | B78: =A78-A79 -> 8.21801e-05 | E78: 0 | F78: 0 | G78: =D78*$B78 -> 0 | H78: =E78*$B78 -> 0 | I78: =F78*$B78 -> 0 | K78: 0 | L78: 0 | M78: 0 | O78: 1.6305671e-07 | P78: 4.1372598e-08 | Q78: 1.3141884e-07 | R78: =O78*$B78 -> 0 | S78: =P78*$B78 -> 0 | T78: =Q78*$B78 -> 0 | V78: 4.1827999e-09 | W78: 1.054e-09 | X78: 6.8640005e-10 | Z78: 3.4071551e-08 | AA78: 2.3119982e-07 | AB78: 1.1438307e-07 | AC78: =Z78*$B78 -> 0 | AD78: =AA78*$B78 -> 0 | AE78: =AB78*$B78 -> 0 | AG78: 4.972e-10 | AH78: 4.2566e-09 | AI78: 1.9496e-09
A79: 0.00324653 | B79: =A79-A80 -> 8.01599e-05 | D79: 0 | E79: 0 | F79: 0 | G79: =D79*$B79 -> 0 | H79: =E79*$B79 -> 0 | I79: =F79*$B79 -> 0 | K79: 0 | L79: 0 | M79: 0 | O79: 2.6197606e-07 | P79: 4.9900201e-08 | Q79: 1.497006e-07 | R79: =O79*$B79 -> 0 | S79: =P79*$B79 -> 0 | T79: =Q79*$B79 -> 0 | V79: 4.2038e-09 | W79: 1.058e-09 | X79: 6.984e-10 | Z79: 2.7445109e-08 | AA79: 2.7445111e-07 | AB79: 1.7215569e-07 | AC79: =Z79*$B79 -> 0 | AD79: =AA79*$B79 -> 0 | AE79: =AB79*$B79 -> 0 | AG79: 4.9940002e-10 | AH79: 4.2786001e-09 | AI79: 1.9633999e-09
A80: 0.0031663701 | B80: =A80-A81 -> 7.81801e-05 | E80: 0 | F80: 0 | G80: =D80*$B80 -> 0 | H80: =E80*$B80 -> 0 | I80: =F80*$B80 -> 0 | K80: 0 | L80: 0 | M80: 0 | O80: 2.0465593e-07 | P80: 8.6978766e-08 | Q80: 2.1233052e-07 | R80: =O80*$B80 -> 0 | S80: =P80*$B80 -> 0 | T80: =Q80*$B80 -> 0 | V80: 4.2198001e-09 | W80: 1.0648e-09 | X80: 7.1500006e-10 | Z80: 1.0232796e-08 | AA80: 3.5814787e-07 | AB80: 1.9953953e-07 | AC80: =Z80*$B80 -> 0 | AD80: =AA80*$B80 -> 0 | AE80: =AB80*$B80 -> 0 | AG80: 5.0019999e-10 | AH80: 4.3066e-09 | AI80: 1.9790001e-09
A81: 0.00308819 | B81: =A81-A82 -> 7.625e-05 | D81: 0 | E81: 0 | F81: 0 | G81: =D81*$B81 -> 0 | H81: =E81*$B81 -> 0 | I81: =F81*$B81 -> 0 | K81: 0 | L81: 0 | M81: 0 | O81: 1.7573771e-07 | P81: 8.3934424e-08 | Q81: 1.9672132e-07 | R81: =O81*$B81 -> 0 | S81: =P81*$B81 -> 0 | T81: =Q81*$B81 -> 0 | V81: 4.2332e-09 | W81: 1.0712e-09 | X81: 7.3000006e-10 | Z81: 3.9344261e-08 | AA81: 4.747541e-07 | AB81: 2.9114756e-07 | AC81: =Z81*$B81 -> 0 | AD81: =AA81*$B81 -> 0 | AE81: =AB81*$B81 -> 0 | AG81: 5.0320004e-10 | AH81: 4.3427999e-09 | AI81: 2.0012001e-09
A82: 0.00301194 | B82: =A82-A83 -> 0.00014689 | E82: 0 | F82: 0 | G82: =D82*$B82 -> 0 | H82: =E82*$B82 -> 0 | I82: =F82*$B82 -> 0 | K82: 0 | L82: 0 | M82: 0 | O82: 2.2874259e-07 | P82: 5.1739399e-08 | Q82: 1.7019539e-07 | R82: =O82*$B82 -> 0 | S82: =P82*$B82 -> 0 | T82: =Q82*$B82 -> 0 | V82: 4.2668002e-09 | W82: 1.0788e-09 | X82: 7.5500006e-10 | Z82: 4.3570019e-08 | AA82: 2.546123e-07 | AB82: 1.443257e-07 | AC82: =Z82*$B82 -> 0 | AD82: =AA82*$B82 -> 0 | AE82: =AB82*$B82 -> 0 | AG82: 5.0960003e-10 | AH82: 4.3802002e-09 | AI82: 2.0224e-09
A83: 0.00286505 | B83: =A83-A84 -> 0.0001397301 | D83: 0 | E83: 0 | F83: 0 | G83: =D83*$B83 -> 0 | H83: =E83*$B83 -> 0 | I83: =F83*$B83 -> 0 | K83: 0 | L83: 0 | M83: 0 | O83: 2.1183712e-07 | P83: 6.0115937e-08 | Q83: 2.8197238e-07 | R83: =O83*$B83 -> 0 | S83: =P83*$B83 -> 0 | T83: =Q83*$B83 -> 0 | V83: 4.2964001e-09 | W83: 1.0872e-09 | X83: 7.9440005e-10 | Z83: 1.2881987e-08 | AA83: 3.5926431e-07 | AB83: 2.2042511e-07 | AC83: =Z83*$B83 -> 0 | AD83: =AA83*$B83 -> 0 | AE83: =AB83*$B83 -> 0 | AG83: 5.1140003e-10 | AH83: 4.4304e-09 | AI83: 2.0532001e-09
A84: 0.0027253199 | B84: =A84-A85 -> 0.00013292 | E84: 0 | F84: 0 | G84: =D84*$B84 -> 0 | H84: =E84*$B84 -> 0 | I84: =F84*$B84 -> 0 | K84: 0 | L84: 0 | M84: 0 | O84: 2.121577e-07 | P84: 8.5765876e-08 | Q84: 2.7384894e-07 | R84: =O84*$B84 -> 0 | S84: =P84*$B84 -> 0 | T84: =Q84*$B84 -> 0 | V84: 4.3246002e-09 | W84: 1.0986e-09 | X84: 8.3080004e-10 | Z84: 3.009329e-08 | AA84: 4.3183871e-07 | AB84: 3.0845624e-07 | AC84: =Z84*$B84 -> 0 | AD84: =AA84*$B84 -> 0 | AE84: =AB84*$B84 -> 0 | AG84: 5.154e-10 | AH84: 4.4877999e-09 | AI84: 2.0941999e-09
A85: 0.0025923999 | B85: =A85-A86 -> 0.0001264298 | D85: 0 | E85: 0 | F85: 0 | G85: =D85*$B85 -> 0 | H85: =E85*$B85 -> 0 | I85: =F85*$B85 -> 0 | K85: 0 | L85: 0 | M85: 0 | O85: 2.1513883e-07 | P85: 9.0168477e-08 | Q85: 3.1163489e-07 | R85: =O85*$B85 -> 0 | S85: =P85*$B85 -> 0 | T85: =Q85*$B85 -> 0 | V85: 4.3518003e-09 | W85: 1.11e-09 | X85: 8.7020002e-10 | Z85: 2.8474256e-08 | AA85: 5.1095469e-07 | AB85: 3.5276437e-07 | AC85: =Z85*$B85 -> 0 | AD85: =AA85*$B85 -> 0 | AE85: =AB85*$B85 -> 0 | AG85: 5.1900001e-10 | AH85: 4.5523998e-09 | AI85: 2.1388e-09
A86: 0.0024659701 | B86: =A86-A87 -> 4.08401e-05 | E86: 0 | F86: 0 | G86: =D86*$B86 -> 0 | H86: =E86*$B86 -> 0 | I86: =F86*$B86 -> 0 | K86: 0 | L86: 0 | M86: 0 | O86: 2.7424096e-07 | P86: 9.79432e-08 | Q86: 3.7218416e-07 | R86: =O86*$B86 -> 0 | S86: =P86*$B86 -> 0 | T86: =Q86*$B86 -> 0 | V86: 4.3630002e-09 | W86: 1.114e-09 | X86: 8.8540003e-10 | Z86: 1.958864e-08 | AA86: 5.0930464e-07 | AB86: 3.5749267e-07 | AC86: =Z86*$B86 -> 0 | AD86: =AA86*$B86 -> 0 | AE86: =AB86*$B86 -> 0 | AG86: 5.1980004e-10 | AH86: 4.5732e-09 | AI86: 2.1533999e-09
A87: 0.00242513 | B87: =A87-A88 -> 3.993e-05 | D87: 0 | E87: 0 | F87: 0 | G87: =D87*$B87 -> 0 | H87: =E87*$B87 -> 0 | I87: =F87*$B87 -> 0 | K87: 0 | L87: 0 | M87: 0 | O87: 2.6045581e-07 | P87: 1.2021037e-07 | Q87: 3.3558729e-07 | R87: =O87*$B87 -> 0 | S87: =P87*$B87 -> 0 | T87: =Q87*$B87 -> 0 | V87: 4.3733999e-09 | W87: 1.1188001e-09 | X87: 8.9880003e-10 | Z87: 2.5043828e-08 | AA87: 5.409467e-07 | AB87: 3.7064865e-07 | AC87: =Z87*$B87 -> 0 | AD87: =AA87*$B87 -> 0 | AE87: =AB87*$B87 -> 0 | AG87: 5.2080001e-10 | AH87: 4.5948001e-09 | AI87: 2.1682001e-09
A88: 0.0023852 | B88: =A88-A89 -> 1.99501e-05 | E88: 0 | F88: 0 | G88: =D88*$B88 -> 0 | H88: =E88*$B88 -> 0 | I88: =F88*$B88 -> 0 | K88: 0 | L88: 0 | M88: 0 | O88: 1.904762e-07 | P88: 7.0175439e-08 | Q88: 2.8070176e-07 | R88: =O88*$B88 -> 0 | S88: =P88*$B88 -> 0 | T88: =Q88*$B88 -> 0 | V88: 4.3771999e-09 | W88: 1.1202e-09 | X88: 9.0440005e-10 | Z88: 2.0050125e-08 | AA88: 4.9122809e-07 | AB88: 4.010025e-07 | AC88: =Z88*$B88 -> 0 | AD88: =AA88*$B88 -> 0 | AE88: =AB88*$B88 -> 0 | AG88: 5.2120003e-10 | AH88: 4.6046003e-09 | AI88: 2.1762001e-09
A89: 0.0023652499 | B89: =A89-A90 -> 1.95499e-05 | D89: 0 | E89: 0 | F89: 0 | G89: =D89*$B89 -> 0 | H89: =E89*$B89 -> 0 | I89: =F89*$B89 -> 0 | K89: 0 | L89: 0 | M89: 0 | O89: 1.9437341e-07 | P89: 1.5345269e-07 | Q89: 3.5805627e-07 | R89: =O89*$B89 -> 0 | S89: =P89*$B89 -> 0 | T89: =Q89*$B89 -> 0 | V89: 4.381e-09 | W89: 1.1232e-09 | X89: 9.1140001e-10 | Z89: 3.069054e-08 | AA89: 5.6265986e-07 | AB89: 4.7058825e-07 | AC89: =Z89*$B89 -> 0 | AD89: =AA89*$B89 -> 0 | AE89: =AB89*$B89 -> 0 | AG89: 5.2179999e-10 | AH89: 4.6155999e-09 | AI89: 2.1853999e-09
A90: 0.0023457 | B90: =A90-A91 -> 3.88401e-05 | E90: 0 | F90: 0 | G90: =D90*$B90 -> 0 | H90: =E90*$B90 -> 0 | I90: =F90*$B90 -> 0 | K90: 0 | L90: 0 | M90: 0 | O90: 2.1627189e-07 | P90: 1.2358393e-07 | Q90: 3.2440784e-07 | R90: =O90*$B90 -> 0 | S90: =P90*$B90 -> 0 | T90: =Q90*$B90 -> 0 | V90: 4.3894e-09 | W90: 1.128e-09 | X90: 9.2400004e-10 | Z90: 2.0597323e-08 | AA90: 5.4582904e-07 | AB90: 3.7590115e-07 | AC90: =Z90*$B90 -> 0 | AD90: =AA90*$B90 -> 0 | AE90: =AB90*$B90 -> 0 | AG90: 5.2260002e-10 | AH90: 4.6368003e-09 | AI90: 2.2e-09
A91: 0.0023068599 | B91: =A91-A92 -> 3.798e-05 | D91: 0 | E91: 0 | F91: 0 | G91: =D91*$B91 -> 0 | H91: =E91*$B91 -> 0 | I91: =F91*$B91 -> 0 | K91: 0 | L91: 0 | M91: 0 | O91: 2.7909428e-07 | P91: 1.3164824e-07 | Q91: 3.1068984e-07 | R91: =O91*$B91 -> 0 | S91: =P91*$B91 -> 0 | T91: =Q91*$B91 -> 0 | V91: 4.3999999e-09 | W91: 1.133e-09 | X91: 9.358001e-10 | Z91: 3.1595576e-08 | AA91: 6.2137968e-07 | AB91: 3.6861508e-07 | AC91: =Z91*$B91 -> 0 | AD91: =AA91*$B91 -> 0 | AE91: =AB91*$B91 -> 0 | AG91: 5.238e-10 | AH91: 4.6604001e-09 | AI91: 2.2140001e-09
A92: 0.0022688799 | B92: =A92-A93 -> 3.75798e-05 | E92: 0 | F92: 0 | G92: =D92*$B92 -> 0 | H92: =E92*$B92 -> 0 | I92: =F92*$B92 -> 0 | K92: 0 | L92: 0 | M92: 0 | O92: 2.4481108e-07 | P92: 1.1708356e-07 | Q92: 3.1399682e-07 | R92: =O92*$B92 -> 0 | S92: =P92*$B92 -> 0 | T92: =Q92*$B92 -> 0 | V92: 4.4092001e-09 | W92: 1.1374e-09 | X92: 9.476e-10 | Z92: 1.064396e-08 | AA92: 6.3863763e-07 | AB92: 3.3528474e-07 | AC92: =Z92*$B92 -> 0 | AD92: =AA92*$B92 -> 0 | AE92: =AB92*$B92 -> 0 | AG92: 5.2420002e-10 | AH92: 4.6844e-09 | AI92: 2.2266e-09
A93: 0.0022313001 | B93: =A93-A94 -> 0.0001088201 | D93: 0 | E93: 0 | F93: 0 | G93: =D93*$B93 -> 0 | H93: =E93*$B93 -> 0 | I93: =F93*$B93 -> 0 | K93: 0 | L93: 0 | M93: 0 | O93: 2.4811615e-07 | P93: 1.2497703e-07 | Q93: 3.1611836e-07 | R93: =O93*$B93 -> 0 | S93: =P93*$B93 -> 0 | T93: =Q93*$B93 -> 0 | V93: 4.4362003e-09 | W93: 1.151e-09 | X93: 9.8200004e-10 | Z93: 2.7568461e-08 | AA93: 6.2672308e-07 | AB93: 4.5947436e-07 | AC93: =Z93*$B93 -> 0 | AD93: =AA93*$B93 -> 0 | AE93: =AB93*$B93 -> 0 | AG93: 5.2720001e-10 | AH93: 4.7526001e-09 | AI93: 2.2766e-09
A94: 0.00212248 | B94: =A94-A95 -> 0.00010351 | E94: 0 | F94: 0 | G94: =D94*$B94 -> 0 | H94: =E94*$B94 -> 0 | I94: =F94*$B94 -> 0 | K94: 0 | L94: 0 | M94: 0 | O94: 2.6470872e-07 | P94: 1.0820211e-07 | Q94: 3.4199596e-07 | R94: =O94*$B94 -> 0 | S94: =P94*$B94 -> 0 | T94: =Q94*$B94 -> 0 | V94: 4.4636002e-09 | W94: 1.1622e-09 | X94: 1.0174001e-09 | Z94: 2.5118348e-08 | AA94: 5.2362094e-07 | AB94: 3.8450392e-07 | AC94: =Z94*$B94 -> 0 | AD94: =AA94*$B94 -> 0 | AE94: =AB94*$B94 -> 0 | AG94: 5.2980004e-10 | AH94: 4.8068003e-09 | AI94: 2.3164e-09
A95: 0.00201897 | B95: =A95-A96 -> 4.985e-05 | D95: 0.0002006018 | E95: 1.2036108e-08 | F95: 0 | G95: =D95*$B95 -> 9.9999997e-09 | H95: =E95*$B95 -> 0 | I95: =F95*$B95 -> 0 | K95: 9.9999946e-09 | L95: 5.9999965e-13 | M95: 0 | O95: 2.0862588e-07 | P95: 1.7251756e-07 | Q95: 4.4533601e-07 | R95: =O95*$B95 -> 0 | S95: =P95*$B95 -> 0 | T95: =Q95*$B95 -> 0 | V95: 4.4740003e-09 | W95: 1.1708e-09 | X95: 1.0396001e-09 | Z95: 2.8084253e-08 | AA95: 7.6629891e-07 | AB95: 5.777332e-07 | AC95: =Z95*$B95 -> 0 | AD95: =AA95*$B95 -> 0 | AE95: =AB95*$B95 -> 0 | AG95: 5.3120003e-10 | AH95: 4.845e-09 | AI95: 2.3452e-09
A96: 0.00196912 | B96: =A96-A97 -> 4.862e-05 | E96: 4.1135335e-09 | F96: 0 | G96: =D96*$B96 -> 0 | H96: =E96*$B96 -> 0 | I96: =F96*$B96 -> 0 | K96: 9.9999946e-09 | L96: 7.9999982e-13 | M96: 0 | O96: 2.8383383e-07 | P96: 1.2751954e-07 | Q96: 3.661045e-07 | R96: =O96*$B96 -> 0 | S96: =P96*$B96 -> 0 | T96: =Q96*$B96 -> 0 | V96: 4.4877999e-09 | W96: 1.1770001e-09 | X96: 1.0574001e-09 | Z96: 2.8794735e-08 | AA96: 7.1575488e-07 | AB96: 5.4298647e-07 | AC96: =Z96*$B96 -> 0 | AD96: =AA96*$B96 -> 0 | AE96: =AB96*$B96 -> 0 | AG96: 5.3260002e-10 | AH96: 4.8798001e-09 | AI96: 2.3716e-09
A97: 0.0019205 | B97: =A97-A98 -> 4.742e-05 | D97: 0 | E97: 8.4352596e-09 | F97: 0 | G97: =D97*$B97 -> 0 | H97: =E97*$B97 -> 0 | I97: =F97*$B97 -> 0 | K97: 9.9999946e-09 | L97: 1.1999992e-12 | M97: 0 | O97: 2.4462253e-07 | P97: 1.6448756e-07 | Q97: 3.9223957e-07 | R97: =O97*$B97 -> 0 | S97: =P97*$B97 -> 0 | T97: =Q97*$B97 -> 0 | V97: 4.4994e-09 | W97: 1.1848e-09 | X97: 1.0760001e-09 | Z97: 2.9523408e-08 | AA97: 7.3386758e-07 | AB97: 5.3985661e-07 | AC97: =Z97*$B97 -> 0 | AD97: =AA97*$B97 -> 0 | AE97: =AB97*$B97 -> 0 | AG97: 5.3400001e-10 | AH97: 4.9145998e-09 | AI97: 2.3972e-09
A98: 0.00187308 | B98: =A98-A99 -> 4.625e-05 | E98: 8.6486489e-09 | F98: 4.3243245e-09 | G98: =D98*$B98 -> 0 | H98: =E98*$B98 -> 0 | I98: =F98*$B98 -> 0 | K98: 9.9999946e-09 | L98: 1.5999998e-12 | M98: 2.0000027e-13 | O98: 2.5945948e-07 | P98: 1.3837838e-07 | Q98: 3.5459462e-07 | R98: =O98*$B98 -> 0 | S98: =P98*$B98 -> 0 | T98: =Q98*$B98 -> 0 | V98: 4.5114001e-09 | W98: 1.1912e-09 | X98: 1.0924001e-09 | Z98: 3.891892e-08 | AA98: 7.956757e-07 | AB98: 5.102703e-07 | AC98: =Z98*$B98 -> 0 | AD98: =AA98*$B98 -> 0 | AE98: =AB98*$B98 -> 0 | AG98: 5.3580002e-10 | AH98: 4.9514002e-09 | AI98: 2.4208e-09
A99: 0.00182683 | B99: =A99-A100 -> 8.909e-05 | D99: 0 | E99: 4.4898418e-09 | F99: 5.8367945e-08 | G99: =D99*$B99 -> 0 | H99: =E99*$B99 -> 0 | I99: =F99*$B99 -> 0 | K99: 9.9999946e-09 | L99: 1.9999996e-12 | M99: 5.3999986e-12 | O99: 2.4469639e-07 | P99: 1.5714447e-07 | Q99: 4.5122911e-07 | R99: =O99*$B99 -> 0 | S99: =P99*$B99 -> 0 | T99: =Q99*$B99 -> 0 | V99: 4.5332e-09 | W99: 1.2052001e-09 | X99: 1.1326e-09 | Z99: 4.7143338e-08 | AA99: 7.5204849e-07 | AB99: 5.3204627e-07 | AC99: =Z99*$B99 -> 0 | AD99: =AA99*$B99 -> 0 | AE99: =AB99*$B99 -> 0 | AG99: 5.4000004e-10 | AH99: 5.0183999e-09 | AI99: 2.4682001e-09
A100: 0.00173774 | B100: =A100-A101 -> 8.475e-05 | E100: 7.0796462e-09 | F100: 7.5752217e-07 | G100: =D100*$B100 -> 0 | H100: =E100*$B100 -> 0 | I100: =F100*$B100 -> 0 | K100: 9.9999946e-09 | L100: 2.5999996e-12 | M100: 6.9600006e-11 | O100: 2.6902654e-07 | P100: 1.4631269e-07 | Q100: 4.4129794e-07 | R100: =O100*$B100 -> 0 | S100: =P100*$B100 -> 0 | T100: =Q100*$B100 -> 0 | V100: 4.556e-09 | W100: 1.2176e-09 | X100: 1.1700001e-09 | Z100: 2.8318585e-08 | AA100: 8.283186e-07 | AB100: 5.3333332e-07 | AC100: =Z100*$B100 -> 0 | AD100: =AA100*$B100 -> 0 | AE100: =AB100*$B100 -> 0 | AG100: 5.4240001e-10 | AH100: 5.0886002e-09 | AI100: 2.5133999e-09
A101: 0.00165299 | B101: =A101-A102 -> 4.081e-05 | D101: 0 | E101: 9.8015187e-09 | F101: 3.3080128e-06 | G101: =D101*$B101 -> 0 | H101: =E101*$B101 -> 0 | I101: =F101*$B101 -> 1.35e-10 | K101: 9.9999946e-09 | L101: 2.9999993e-12 | M101: 2.0459992e-10 | O101: 3.1364863e-07 | P101: 1.6662582e-07 | Q101: 4.0186231e-07 | R101: =O101*$B101 -> 0 | S101: =P101*$B101 -> 0 | T101: =Q101*$B101 -> 0 | V101: 4.5688e-09 | W101: 1.2244e-09 | X101: 1.1864e-09 | Z101: 8.3312912e-08 | AA101: 8.0372462e-07 | AB101: 5.7828964e-07 | AC101: =Z101*$B101 -> 0 | AD101: =AA101*$B101 -> 0 | AE101: =AB101*$B101 -> 0 | AG101: 5.4580002e-10 | AH101: 5.1214002e-09 | AI101: 2.5369999e-09
...
