Workbook

Sheet Summary
B2: Flux (Part/GeV/cmq/pr) Over all Energy Bands
C3: Enter | D3: Exit | E3: Reflected
B4: No Spread | C4: =Data!G3 -> 9.9999997e-09 | D4: =Data!H3 -> 1.1756e-09 | E4: =Data!I3 -> 8.3451995e-09
B5: Gauss: 1 | C5: =Data!R3 -> 3.2584001e-09 | D5: =Data!S3 -> 3.0603999e-09 | E5: =Data!T3 -> 5.4076e-09
B6: Gauss: 10 | C6: =Data!AC3 -> 3.6740002e-10 | D6: =Data!AD3 -> 1.27186e-08 | E6: =Data!AE3 -> 1.04736e-08
B8: Percent of Initial Entering Flux
C9: Enter | D9: Exit | E9: Reflected
B10: No Spread | C10: =C4/$C4 -> 1 | D10: =D4/$C4 -> 0.11756 | E10: =E4/$C4 -> 0.83451998
B11: Gauss: 1 | C11: =C5/$C5 -> 1 | D11: =D5/$C5 -> 0.93923391 | E11: =E5/$C5 -> 1.6595875
B12: Gauss: 10 | C12: =C6/$C6 -> 1 | D12: =D6/$C6 -> 34.617854 | E12: =E6/$C6 -> 28.507348
B14: Cumulative Flux (Part/cmq/pr) Over all Energy Bands
C15: Enter | D15: Exit | E15: Reflected
B16: No Spread | C16: =Data!K3 -> 1.779999e-06 | D16: =Data!L3 -> 2.3905401e-08 | E16: =Data!M3 -> 9.1915216e-07
B17: Gauss: 1 | C17: =Data!V3 -> 1.2182812e-06 | D17: =Data!W3 -> 4.021806e-07 | E17: =Data!X3 -> 5.2524702e-07
B18: Gauss: 10 | C18: =Data!AG3 -> 1.4437161e-07 | D18: =Data!AH3 -> 1.712271e-06 | E18: =Data!AI3 -> 9.7772861e-07
B20: Percent of Initial Entering Cumulative Flux
C21: Enter | D21: Exit | E21: Reflected
B22: No Spread | C22: =C16/$C16 -> 1 | D22: =D16/$C16 -> 0.013430008 | E22: =E16/$C16 -> 0.5163779
B23: Gauss: 1 | C23: =C17/$C17 -> 1 | D23: =D17/$C17 -> 0.33012132 | E23: =E17/$C17 -> 0.43113775
B24: Gauss: 10 | C24: =C18/$C18 -> 1 | D24: =D18/$C18 -> 11.860165 | E24: =E18/$C18 -> 6.7723055

Sheet Data
D1: 2MeV No Energy Spread | O1: 2MeV Gauss Energy Spread: 1 | Z1: 2MeV Gauss Energy Spread: 1
A2: Division Between Fast and Thermal Neutrons | G2: Entrance | H2: Exit | I2: Reflected | K2: Entrance | L2: Exit | M2: Reflected | R2: Entrance | S2: Exit | T2: Reflected | V2: Entrance | W2: Exit | X2: Reflected | AC2: Entrance | AD2: Exit | AE2: Reflected | AG2: Entrance | AH2: Exit | AI2: Reflected
A3: 2e-09 | F3: total | G3: =SUM(G13:G273) -> 9.9999997e-09 | H3: =SUM(H13:H273) -> 1.1756e-09 | I3: =SUM(I13:I273) -> 8.3451995e-09 | K3: =SUM(K13:K273) -> 1.779999e-06 | L3: =SUM(L13:L273) -> 2.3905401e-08 | M3: =SUM(M13:M273) -> 9.1915216e-07 | Q3: total | R3: =SUM(R13:R273) -> 3.2584001e-09 | S3: =SUM(S13:S273) -> 3.0603999e-09 | T3: =SUM(T13:T273) -> 5.4076e-09 | V3: =SUM(V13:V273) -> 1.2182812e-06 | W3: =SUM(W13:W273) -> 4.021806e-07 | X3: =SUM(X13:X273) -> 5.2524702e-07 | AB3: total | AC3: =SUM(AC13:AC273) -> 3.6740002e-10 | AD3: =SUM(AD13:AD273) -> 1.27186e-08 | AE3: =SUM(AE13:AE273) -> 1.04736e-08 | AG3: =SUM(AG13:AG273) -> 1.4437161e-07 | AH3: =SUM(AH13:AH273) -> 1.712271e-06 | AI3: =SUM(AI13:AI273) -> 9.7772861e-07
F4: Fast | G4: =SUMIF($A12:$A273,">="&$A3, G12:G273) -> 9.9999997e-09 | H4: =SUMIF($A12:$A273,">="&$A3, H12:H273) -> 1.09e-10 | I4: =SUMIF($A12:$A273,">="&$A3, I12:I273) -> 6.5975994e-09 | K4: =SUMIF($A12:$A273,">="&$A3, K12:K273) -> 1.4899992e-06 | L4: =SUMIF($A12:$A273,">="&$A3, L12:L273) -> 4.0124001e-09 | M4: =SUMIF($A12:$A273,">="&$A3, M12:M273) -> 6.9901976e-07 | Q4: Fast | R4: =SUMIF($A12:$A273,">="&$A3, R12:R273) -> 3.2574001e-09 | S4: =SUMIF($A12:$A273,">="&$A3, S12:S273) -> 1.4812e-09 | T4: =SUMIF($A12:$A273,">="&$A3, T12:T273) -> 3.5504001e-09 | V4: =SUMIF($A12:$A273,">="&$A3, V12:V273) -> 1.059175e-06 | W4: =SUMIF($A12:$A273,">="&$A3, W12:W273) -> 3.15362e-07 | X4: =SUMIF($A12:$A273,">="&$A3, X12:X273) -> 3.8993982e-07 | AB4: Fast | AC4: =SUMIF($A12:$A273,">="&$A3, AC12:AC273) -> 3.6720002e-10 | AD4: =SUMIF($A12:$A273,">="&$A3, AD12:AD273) -> 7.2566002e-09 | AE4: =SUMIF($A12:$A273,">="&$A3, AE12:AE273) -> 5.1176001e-09 | AG4: =SUMIF($A12:$A273,">="&$A3, AG12:AG273) -> 1.256748e-07 | AH4: =SUMIF($A12:$A273,">="&$A3, AH12:AH273) -> 1.3491782e-06 | AI4: =SUMIF($A12:$A273,">="&$A3, AI12:AI273) -> 7.1979041e-07
F5: Thermal | G5: =SUMIF($A12:$A273,"<"&$A3, G12:G273) -> 0 | H5: =SUMIF($A12:$A273,"<"&$A3, H12:H273) -> 1.0666e-09 | I5: =SUMIF($A12:$A273,"<"&$A3, I12:I273) -> 1.7476001e-09 | K5: =SUMIF($A12:$A273,"<"&$A3, K12:K273) -> 2.8999984e-07 | L5: =SUMIF($A12:$A273,"<"&$A3, L12:L273) -> 1.9893001e-08 | M5: =SUMIF($A12:$A273,"<"&$A3, M12:M273) -> 2.2013239e-07 | Q5: Thermal | R5: =SUMIF($A12:$A273,"<"&$A3, R12:R273) -> 0 | S5: =SUMIF($A12:$A273,"<"&$A3, S12:S273) -> 1.5791998e-09 | T5: =SUMIF($A12:$A273,"<"&$A3, T12:T273) -> 1.8571998e-09 | V5: =SUMIF($A12:$A273,"<"&$A3, V12:V273) -> 1.591062e-07 | W5: =SUMIF($A12:$A273,"<"&$A3, W12:W273) -> 8.6818601e-08 | X5: =SUMIF($A12:$A273,"<"&$A3, X12:X273) -> 1.353072e-07 | AB5: Thermal | AC5: =SUMIF($A12:$A273,"<"&$A3, AC12:AC273) -> 0 | AD5: =SUMIF($A12:$A273,"<"&$A3, AD12:AD273) -> 5.4619999e-09 | AE5: =SUMIF($A12:$A273,"<"&$A3, AE12:AE273) -> 5.3559998e-09 | AG5: =SUMIF($A12:$A273,"<"&$A3, AG12:AG273) -> 1.8696801e-08 | AH5: =SUMIF($A12:$A273,"<"&$A3, AH12:AH273) -> 3.6309281e-07 | AI5: =SUMIF($A12:$A273,"<"&$A3, AI12:AI273) -> 2.5793821e-07
F6: Fast % | G6: =G4/sum(G4:G5) -> 1 | H6: =H4/sum(H4:H5) -> 0.092718618 | I6: =I4/sum(I4:I5) -> 0.79058618 | K6: =K4/sum(K4:K5) -> 0.83707865 | L6: =L4/sum(L4:L5) -> 0.16784492 | M6: =M4/sum(M4:M5) -> 0.76050495 | Q6: Fast % | R6: =R4/sum(R4:R5) -> 0.9996931 | S6: =S4/sum(S4:S5) -> 0.48398905 | T6: =T4/sum(T4:T5) -> 0.65655747 | V6: =V4/sum(V4:V5) -> 0.86940109 | W6: =W4/sum(W4:W5) -> 0.78413031 | X6: =X4/sum(X4:X5) -> 0.7423932 | AB6: Fast % | AC6: =AC4/sum(AC4:AC5) -> 0.99945563 | AD6: =AD4/sum(AD4:AD5) -> 0.57055023 | AE6: =AE4/sum(AE4:AE5) -> 0.48861902 | AG6: =AG4/sum(AG4:AG5) -> 0.8704953 | AH6: =AH4/sum(AH4:AH5) -> 0.78794665 | AI6: =AI4/sum(AI4:AI5) -> 0.7361863
F7: Thermal % | G7: =G5/sum(G4:G5) -> 0 | H7: =H5/sum(H4:H5) -> 0.90728138 | I7: =I5/sum(I4:I5) -> 0.20941382 | K7: =K5/sum(K4:K5) -> 0.16292135 | L7: =L5/sum(L4:L5) -> 0.83215508 | M7: =M5/sum(M4:M5) -> 0.23949505 | Q7: Thermal % | R7: =R5/sum(R4:R5) -> 0.00030689908 | S7: =S5/sum(S4:S5) -> 0.51601095 | T7: =T5/sum(T4:T5) -> 0.34344253 | V7: =V5/sum(V4:V5) -> 0.13059891 | W7: =W5/sum(W4:W5) -> 0.21586969 | X7: =X5/sum(X4:X5) -> 0.2576068 | AB7: Thermal % | AC7: =AC5/sum(AC4:AC5) -> 0.00054436585 | AD7: =AD5/sum(AD4:AD5) -> 0.42944977 | AE7: =AE5/sum(AE4:AE5) -> 0.51138098 | AG7: =AG5/sum(AG4:AG5) -> 0.1295047 | AH7: =AH5/sum(AH4:AH5) -> 0.21205335 | AI7: =AI5/sum(AI4:AI5) -> 0.2638137
F8: % of Original | G8: =sum(G4:G5)/$G$3 -> 1 | H8: =sum(H4:H5)/$G$3 -> 0.11756 | I8: =sum(I4:I5)/$G$3 -> 0.83451998 | K8: =sum(K4:K5)/$K$3 -> 1 | L8: =sum(L4:L5)/$K$3 -> 0.013430008 | M8: =sum(M4:M5)/$K$3 -> 0.5163779 | Q8: % of Original | R8: =sum(R4:R5)/$G$3 -> 0.32584002 | S8: =sum(S4:S5)/$G$3 -> 0.30604 | T8: =sum(T4:T5)/$G$3 -> 0.54076001 | V8: =sum(V4:V5)/$K$3 -> 0.68442802 | W8: =sum(W4:W5)/$K$3 -> 0.22594428 | X8: =sum(X4:X5)/$K$3 -> 0.29508275 | AB8: % of Original | AC8: =sum(AC4:AC5)/$AC$3 -> 1 | AD8: =sum(AD4:AD5)/$AC$3 -> 34.617854 | AE8: =sum(AE4:AE5)/$AC$3 -> 28.507348 | AG8: =sum(AG4:AG5)/$AG$3 -> 1 | AH8: =sum(AH4:AH5)/$AG$3 -> 11.860165 | AI8: =sum(AI4:AI5)/$AG$3 -> 6.7723055
H9: =I8+H8 -> 0.95207998 | L9: =M8+L8 -> 0.5298079 | S9: =T8+S8 -> 0.84680001 | W9: =X8+W8 -> 0.52102704
D11: Flux | G11: Flux * bin width | K11: Cumulative Flux | O11: Flux | R11: Flux * bin width | V11: Cumulative Flux | Z11: Flux | AC11: Flux * bin width | AG11: Cumulative Flux
A12: Energy Boundaries (GeV) | B12: Boundary Width (GeV) | D12: Enter | E12: Exit | F12: Relfected | G12: Enter | H12: Exit | I12: Relfected | K12: Enter | L12: Exit | M12: Relfected | O12: Enter | P12: Exit | Q12: Relfected | R12: Enter | S12: Exit | T12: Relfected | V12: Enter | W12: Exit | X12: Relfected | Z12: Enter | AA12: Exit | AB12: Relfected | AC12: Enter | AD12: Exit | AE12: Relfected | AG12: Enter | AH12: Exit | AI12: Relfected
A13: 0.02 | B13: =A13-A14 -> 0.0003597 | D13: 0 | E13: 0 | F13: 0 | G13: =D13*$B13 -> 0 | H13: =E13*$B13 -> 0 | I13: =F13*$B13 -> 0 | K13: 0 | L13: 0 | M13: 0 | O13: 8.4514873e-08 | P13: 1.7236587e-08 | Q13: 5.00417e-09 | R13: =O13*$B13 -> 0 | S13: =P13*$B13 -> 0 | T13: =Q13*$B13 -> 0 | V13: 2.2586e-09 | W13: 6.4720002e-10 | X13: 7.3599994e-11 | Z13: 6.6722272e-09 | AA13: 6.1162083e-08 | AB13: 2.9469001e-08 | AC13: =Z13*$B13 -> 0 | AD13: =AA13*$B13 -> 0 | AE13: =AB13*$B13 -> 0 | AG13: 2.7979999e-10 | AH13: 2.2382001e-09 | AI13: 8.162e-10
A14: 0.0196403 | B14: =A14-A15 -> 0.0004849 | E14: 0 | F14: 0 | G14: =D14*$B14 -> 0 | H14: =E14*$B14 -> 0 | I14: =F14*$B14 -> 0 | K14: 0 | L14: 0 | M14: 0 | O14: 8.4965976e-08 | P14: 1.1961229e-08 | Q14: 3.2996494e-09 | R14: =O14*$B14 -> 0 | S14: =P14*$B14 -> 0 | T14: =Q14*$B14 -> 0 | V14: 2.2998001e-09 | W14: 6.5299999e-10 | X14: 7.5199999e-11 | Z14: 1.1961229e-08 | AA14: 5.3619306e-08 | AB14: 2.3922459e-08 | AC14: =Z14*$B14 -> 0 | AD14: =AA14*$B14 -> 0 | AE14: =AB14*$B14 -> 0 | AG14: 2.8560002e-10 | AH14: 2.2642002e-09 | AI14: 8.2780005e-10
A15: 0.0191554 | B15: =A15-A16 -> 0.0004729 | D15: 0 | E15: 0 | F15: 0 | G15: =D15*$B15 -> 0 | H15: =E15*$B15 -> 0 | I15: =F15*$B15 -> 0 | K15: 0 | L15: 0 | M15: 0 | O15: 8.50074e-08 | P15: 8.8813703e-09 | Q15: 5.0750688e-09 | R15: =O15*$B15 -> 0 | S15: =P15*$B15 -> 0 | T15: =Q15*$B15 -> 0 | V15: 2.34e-09 | W15: 6.5720002e-10 | X15: 7.7599996e-11 | Z15: 9.7272155e-09 | AA15: 6.5552975e-08 | AB15: 2.0300275e-08 | AC15: =Z15*$B15 -> 0 | AD15: =AA15*$B15 -> 0 | AE15: =AB15*$B15 -> 0 | AG15: 2.902e-10 | AH15: 2.2952e-09 | AI15: 8.3740004e-10
A16: 0.0186825 | B16: =A16-A17 -> 0.0004613 | E16: 0 | F16: 0 | G16: =D16*$B16 -> 0 | H16: =E16*$B16 -> 0 | I16: =F16*$B16 -> 0 | K16: 0 | L16: 0 | M16: 0 | O16: 7.9340992e-08 | P16: 1.2573163e-08 | Q16: 5.2026885e-09 | R16: =O16*$B16 -> 0 | S16: =P16*$B16 -> 0 | T16: =Q16*$B16 -> 0 | V16: 2.3766e-09 | W16: 6.6300004e-10 | X16: 8e-11 | Z16: 9.9718189e-09 | AA16: 5.3327554e-08 | AB16: 2.1244311e-08 | AC16: =Z16*$B16 -> 0 | AD16: =AA16*$B16 -> 0 | AE16: =AB16*$B16 -> 0 | AG16: 2.9480002e-10 | AH16: 2.3198001e-09 | AI16: 8.4720003e-10
A17: 0.0182212 | B17: =A17-A18 -> 0.0004499 | D17: 0 | E17: 0 | F17: 0 | G17: =D17*$B17 -> 0 | H17: =E17*$B17 -> 0 | I17: =F17*$B17 -> 0 | K17: 0 | L17: 0 | M17: 0 | O17: 9.3354082e-08 | P17: 1.0224495e-08 | Q17: 8.0017788e-09 | R17: =O17*$B17 -> 0 | S17: =P17*$B17 -> 0 | T17: =Q17*$B17 -> 0 | V17: 2.4186e-09 | W17: 6.6760003e-10 | X17: 8.3599995e-11 | Z17: 8.446321e-09 | AA17: 4.8455213e-08 | AB17: 2.0448988e-08 | AC17: =Z17*$B17 -> 0 | AD17: =AA17*$B17 -> 0 | AE17: =AB17*$B17 -> 0 | AG17: 2.9860001e-10 | AH17: 2.3416e-09 | AI17: 8.5640001e-10
A18: 0.0177713 | B18: =A18-A19 -> 0.0004388 | E18: 0 | F18: 0 | G18: =D18*$B18 -> 0 | H18: =E18*$B18 -> 0 | I18: =F18*$B18 -> 0 | K18: 0 | L18: 0 | M18: 0 | O18: 9.9361898e-08 | P18: 1.0938924e-08 | Q18: 5.925251e-09 | R18: =O18*$B18 -> 0 | S18: =P18*$B18 -> 0 | T18: =Q18*$B18 -> 0 | V18: 2.4622e-09 | W18: 6.7240002e-10 | X18: 8.6199999e-11 | Z18: 9.1157704e-09 | AA18: 7.5660893e-08 | AB18: 3.144941e-08 | AC18: =Z18*$B18 -> 0 | AD18: =AA18*$B18 -> 0 | AE18: =AB18*$B18 -> 0 | AG18: 3.026e-10 | AH18: 2.3748001e-09 | AI18: 8.7020002e-10
A19: 0.0173325 | B19: =A19-A20 -> 0.0004279 | D19: 0 | E19: 0 | F19: 0 | G19: =D19*$B19 -> 0 | H19: =E19*$B19 -> 0 | I19: =F19*$B19 -> 0 | K19: 0 | L19: 0 | M19: 0 | O19: 8.6001407e-08 | P19: 1.2619772e-08 | Q19: 7.0109842e-09 | R19: =O19*$B19 -> 0 | S19: =P19*$B19 -> 0 | T19: =Q19*$B19 -> 0 | V19: 2.4990001e-09 | W19: 6.7780004e-10 | X19: 8.9199995e-11 | Z19: 7.4783832e-09 | AA19: 5.7957468e-08 | AB19: 2.5706942e-08 | AC19: =Z19*$B19 -> 0 | AD19: =AA19*$B19 -> 0 | AE19: =AB19*$B19 -> 0 | AG19: 3.058e-10 | AH19: 2.3996001e-09 | AI19: 8.812e-10
A20: 0.0169046 | B20: =A20-A21 -> 0.0004174 | E20: 0 | F20: 0 | G20: =D20*$B20 -> 0 | H20: =E20*$B20 -> 0 | I20: =F20*$B20 -> 0 | K20: 0 | L20: 0 | M20: 0 | O20: 8.241495e-08 | P20: 1.3895544e-08 | Q20: 7.6665074e-09 | R20: =O20*$B20 -> 0 | S20: =P20*$B20 -> 0 | T20: =Q20*$B20 -> 0 | V20: 2.5333999e-09 | W20: 6.8360001e-10 | X20: 9.2399997e-11 | Z20: 8.6248209e-09 | AA20: 7.2352663e-08 | AB20: 3.3540967e-08 | AC20: =Z20*$B20 -> 0 | AD20: =AA20*$B20 -> 0 | AE20: =AB20*$B20 -> 0 | AG20: 3.0940001e-10 | AH20: 2.4298001e-09 | AI20: 8.9520003e-10
A21: 0.0164872 | B21: =A21-A22 -> 0.0004071 | D21: 0 | E21: 0 | F21: 0 | G21: =D21*$B21 -> 0 | H21: =E21*$B21 -> 0 | I21: =F21*$B21 -> 0 | K21: 0 | L21: 0 | M21: 0 | O21: 8.4008846e-08 | P21: 1.0808155e-08 | Q21: 7.3691968e-09 | R21: =O21*$B21 -> 0 | S21: =P21*$B21 -> 0 | T21: =Q21*$B21 -> 0 | V21: 2.5675999e-09 | W21: 6.8799999e-10 | X21: 9.5399993e-11 | Z21: 1.4247114e-08 | AA21: 7.6148368e-08 | AB21: 3.0950627e-08 | AC21: =Z21*$B21 -> 0 | AD21: =AA21*$B21 -> 0 | AE21: =AB21*$B21 -> 0 | AG21: 3.152e-10 | AH21: 2.4608e-09 | AI21: 9.078e-10
A22: 0.0160801 | B22: =A22-A23 -> 0.000397 | E22: 0 | F22: 0 | G22: =D22*$B22 -> 0 | H22: =E22*$B22 -> 0 | I22: =F22*$B22 -> 0 | K22: 0 | L22: 0 | M22: 0 | O22: 9.471033e-08 | P22: 1.8136021e-08 | Q22: 8.564232e-09 | R22: =O22*$B22 -> 0 | S22: =P22*$B22 -> 0 | T22: =Q22*$B22 -> 0 | V22: 2.6052001e-09 | W22: 6.9520001e-10 | X22: 9.8800003e-11 | Z22: 1.2594459e-08 | AA22: 5.1385392e-08 | AB22: 3.4256928e-08 | AC22: =Z22*$B22 -> 0 | AD22: =AA22*$B22 -> 0 | AE22: =AB22*$B22 -> 0 | AG22: 3.2020001e-10 | AH22: 2.4812001e-09 | AI22: 9.2140001e-10
A23: 0.0156831 | B23: =A23-A24 -> 0.0003872 | D23: 0 | E23: 0 | F23: 0 | G23: =D23*$B23 -> 0 | H23: =E23*$B23 -> 0 | I23: =F23*$B23 -> 0 | K23: 0 | L23: 0 | M23: 0 | O23: 8.4710749e-08 | P23: 1.446281e-08 | Q23: 8.2644629e-09 | R23: =O23*$B23 -> 0 | S23: =P23*$B23 -> 0 | T23: =Q23*$B23 -> 0 | V23: 2.638e-09 | W23: 7.0080003e-10 | X23: 1.0199999e-10 | Z23: 9.297521e-09 | AA23: 7.1280994e-08 | AB23: 2.5309918e-08 | AC23: =Z23*$B23 -> 0 | AD23: =AA23*$B23 -> 0 | AE23: =AB23*$B23 -> 0 | AG23: 3.2380001e-10 | AH23: 2.5088001e-09 | AI23: 9.3120001e-10
A24: 0.0152959 | B24: =A24-A25 -> 0.0003776 | E24: 0 | F24: 0 | G24: =D24*$B24 -> 0 | H24: =E24*$B24 -> 0 | I24: =F24*$B24 -> 0 | K24: 0 | L24: 0 | M24: 0 | O24: 9.533899e-08 | P24: 1.1652543e-08 | Q24: 7.9449158e-09 | R24: =O24*$B24 -> 0 | S24: =P24*$B24 -> 0 | T24: =Q24*$B24 -> 0 | V24: 2.6739999e-09 | W24: 7.0520001e-10 | X24: 1.0499999e-10 | Z24: 1.0593221e-08 | AA24: 7.9978818e-08 | AB24: 3.548729e-08 | AC24: =Z24*$B24 -> 0 | AD24: =AA24*$B24 -> 0 | AE24: =AB24*$B24 -> 0 | AG24: 3.2780001e-10 | AH24: 2.5390001e-09 | AI24: 9.4460006e-10
A25: 0.0149183 | B25: =A25-A26 -> 0.0003684 | D25: 0 | E25: 0 | F25: 0 | G25: =D25*$B25 -> 0 | H25: =E25*$B25 -> 0 | I25: =F25*$B25 -> 0 | K25: 0 | L25: 0 | M25: 0 | O25: 9.2833879e-08 | P25: 2.0086864e-08 | Q25: 1.1400652e-08 | R25: =O25*$B25 -> 0 | S25: =P25*$B25 -> 0 | T25: =Q25*$B25 -> 0 | V25: 2.7082001e-09 | W25: 7.1260003e-10 | X25: 1.092e-10 | Z25: 9.7719877e-09 | AA25: 7.8718784e-08 | AB25: 3.4201957e-08 | AC25: =Z25*$B25 -> 0 | AD25: =AA25*$B25 -> 0 | AE25: =AB25*$B25 -> 0 | AG25: 3.3140002e-10 | AH25: 2.568e-09 | AI25: 9.5719999e-10
A26: 0.0145499 | B26: =A26-A27 -> 0.0003592 | E26: 0 | F26: 0 | G26: =D26*$B26 -> 0 | H26: =E26*$B26 -> 0 | I26: =F26*$B26 -> 0 | K26: 0 | L26: 0 | M26: 0 | O26: 9.9665925e-08 | P26: 2.0044544e-08 | Q26: 1.3919823e-08 | R26: =O26*$B26 -> 0 | S26: =P26*$B26 -> 0 | T26: =Q26*$B26 -> 0 | V26: 2.7440001e-09 | W26: 7.198e-10 | X26: 1.142e-10 | Z26: 8.3518934e-09 | AA26: 8.0178175e-08 | AB26: 3.8418708e-08 | AC26: =Z26*$B26 -> 0 | AD26: =AA26*$B26 -> 0 | AE26: =AB26*$B26 -> 0 | AG26: 3.3440001e-10 | AH26: 2.5968001e-09 | AI26: 9.7100006e-10
A27: 0.0141907 | B27: =A27-A28 -> 0.0003504 | D27: 0 | E27: 0 | F27: 0 | G27: =D27*$B27 -> 0 | H27: =E27*$B27 -> 0 | I27: =F27*$B27 -> 0 | K27: 0 | L27: 0 | M27: 0 | O27: 9.5890414e-08 | P27: 1.6552512e-08 | Q27: 1.4840182e-08 | R27: =O27*$B27 -> 0 | S27: =P27*$B27 -> 0 | T27: =Q27*$B27 -> 0 | V27: 2.7775999e-09 | W27: 7.2560002e-10 | X27: 1.194e-10 | Z27: 1.0844749e-08 | AA27: 7.4771691e-08 | AB27: 4.7374431e-08 | AC27: =Z27*$B27 -> 0 | AD27: =AA27*$B27 -> 0 | AE27: =AB27*$B27 -> 0 | AG27: 3.382e-10 | AH27: 2.623e-09 | AI27: 9.876e-10
A28: 0.0138403 | B28: =A28-A29 -> 0.0003417 | E28: 0 | F28: 0 | G28: =D28*$B28 -> 0 | H28: =E28*$B28 -> 0 | I28: =F28*$B28 -> 0 | K28: 0 | L28: 0 | M28: 0 | O28: 1.0242903e-07 | P28: 1.6388645e-08 | Q28: 1.404741e-08 | R28: =O28*$B28 -> 0 | S28: =P28*$B28 -> 0 | T28: =Q28*$B28 -> 0 | V28: 2.8126002e-09 | W28: 7.3120004e-10 | X28: 1.242e-10 | Z28: 1.0535558e-08 | AA28: 8.4284466e-08 | AB28: 3.9215688e-08 | AC28: =Z28*$B28 -> 0 | AD28: =AA28*$B28 -> 0 | AE28: =AB28*$B28 -> 0 | AG28: 3.418e-10 | AH28: 2.6518001e-09 | AI28: 1.0010001e-09
A29: 0.0134986 | B29: =A29-A30 -> 0.0003333 | D29: 0 | E29: 0 | F29: 0 | G29: =D29*$B29 -> 0 | H29: =E29*$B29 -> 0 | I29: =F29*$B29 -> 0 | K29: 0 | L29: 0 | M29: 0 | O29: 9.60096e-08 | P29: 1.740174e-08 | Q29: 1.3201321e-08 | R29: =O29*$B29 -> 0 | S29: =P29*$B29 -> 0 | T29: =Q29*$B29 -> 0 | V29: 2.8446001e-09 | W29: 7.3700002e-10 | X29: 1.2860001e-10 | Z29: 9.60096e-09 | AA29: 6.2406244e-08 | AB29: 3.840384e-08 | AC29: =Z29*$B29 -> 0 | AD29: =AA29*$B29 -> 0 | AE29: =AB29*$B29 -> 0 | AG29: 3.45e-10 | AH29: 2.6726001e-09 | AI29: 1.0138e-09
A30: 0.0131653 | B30: =A30-A31 -> 0.0003251 | E30: 0 | F30: 0 | G30: =D30*$B30 -> 0 | H30: =E30*$B30 -> 0 | I30: =F30*$B30 -> 0 | K30: 0 | L30: 0 | M30: 0 | O30: 9.4740081e-08 | P30: 1.9686251e-08 | Q30: 9.8431254e-09 | R30: =O30*$B30 -> 0 | S30: =P30*$B30 -> 0 | T30: =Q30*$B30 -> 0 | V30: 2.8753999e-09 | W30: 7.4340001e-10 | X30: 1.318e-10 | Z30: 1.1073516e-08 | AA30: 8.4281758e-08 | AB30: 2.8914181e-08 | AC30: =Z30*$B30 -> 0 | AD30: =AA30*$B30 -> 0 | AE30: =AB30*$B30 -> 0 | AG30: 3.4860001e-10 | AH30: 2.7e-09 | AI30: 1.0232001e-09
A31: 0.0128402 | B31: =A31-A32 -> 0.000317 | D31: 0 | E31: 0 | F31: 0 | G31: =D31*$B31 -> 0 | H31: =E31*$B31 -> 0 | I31: =F31*$B31 -> 0 | K31: 0 | L31: 0 | M31: 0 | O31: 1.0536278e-07 | P31: 2.5867509e-08 | Q31: 1.7665615e-08 | R31: =O31*$B31 -> 0 | S31: =P31*$B31 -> 0 | T31: =Q31*$B31 -> 0 | V31: 2.9088001e-09 | W31: 7.516e-10 | X31: 1.3739999e-10 | Z31: 1.6403787e-08 | AA31: 8.1388016e-08 | AB31: 3.8485805e-08 | AC31: =Z31*$B31 -> 0 | AD31: =AA31*$B31 -> 0 | AE31: =AB31*$B31 -> 0 | AG31: 3.5379999e-10 | AH31: 2.7258e-09 | AI31: 1.0354e-09
A32: 0.0125232 | B32: =A32-A33 -> 0.0003092 | E32: 0 | F32: 0 | G32: =D32*$B32 -> 0 | H32: =E32*$B32 -> 0 | I32: =F32*$B32 -> 0 | K32: 0 | L32: 0 | M32: 0 | O32: 1.164295e-07 | P32: 2.1345407e-08 | Q32: 1.0996119e-08 | R32: =O32*$B32 -> 0 | S32: =P32*$B32 -> 0 | T32: =Q32*$B32 -> 0 | V32: 2.9448e-09 | W32: 7.582e-10 | X32: 1.408e-10 | Z32: 1.164295e-08 | AA32: 8.0206988e-08 | AB32: 3.8809834e-08 | AC32: =Z32*$B32 -> 0 | AD32: =AA32*$B32 -> 0 | AE32: =AB32*$B32 -> 0 | AG32: 3.574e-10 | AH32: 2.7506e-09 | AI32: 1.0474001e-09
A33: 0.012214 | B33: =A33-A34 -> 0.0003015 | D33: 0 | E33: 0 | F33: 0 | G33: =D33*$B33 -> 0 | H33: =E33*$B33 -> 0 | I33: =F33*$B33 -> 0 | K33: 0 | L33: 0 | M33: 0 | O33: 1.0480929e-07 | P33: 1.1276948e-08 | Q33: 2.0563848e-08 | R33: =O33*$B33 -> 0 | S33: =P33*$B33 -> 0 | T33: =Q33*$B33 -> 0 | V33: 2.9764e-09 | W33: 7.6160001e-10 | X33: 1.4700001e-10 | Z33: 1.0613599e-08 | AA33: 7.1641793e-08 | AB33: 3.9800995e-08 | AC33: =Z33*$B33 -> 0 | AD33: =AA33*$B33 -> 0 | AE33: =AB33*$B33 -> 0 | AG33: 3.6060002e-10 | AH33: 2.7722e-09 | AI33: 1.0594e-09
A34: 0.0119125 | B34: =A34-A35 -> 0.0002942 | E34: 0 | F34: 0 | G34: =D34*$B34 -> 0 | H34: =E34*$B34 -> 0 | I34: =F34*$B34 -> 0 | K34: 0 | L34: 0 | M34: 0 | O34: 1.0740992e-07 | P34: 2.0394291e-08 | Q34: 1.9034671e-08 | R34: =O34*$B34 -> 0 | S34: =P34*$B34 -> 0 | T34: =Q34*$B34 -> 0 | V34: 3.0080001e-09 | W34: 7.6759998e-10 | X34: 1.526e-10 | Z34: 8.8375254e-09 | AA34: 8.4296396e-08 | AB34: 4.554725e-08 | AC34: =Z34*$B34 -> 0 | AD34: =AA34*$B34 -> 0 | AE34: =AB34*$B34 -> 0 | AG34: 3.632e-10 | AH34: 2.797e-09 | AI34: 1.0728001e-09
A35: 0.0116183 | B35: =A35-A36 -> 0.0002868 | D35: 0 | E35: 0 | F35: 0 | G35: =D35*$B35 -> 0 | H35: =E35*$B35 -> 0 | I35: =F35*$B35 -> 0 | K35: 0 | L35: 0 | M35: 0 | O35: 1.0529987e-07 | P35: 1.7433752e-08 | Q35: 2.4407253e-08 | R35: =O35*$B35 -> 0 | S35: =P35*$B35 -> 0 | T35: =Q35*$B35 -> 0 | V35: 3.0382001e-09 | W35: 7.7260004e-10 | X35: 1.5960001e-10 | Z35: 1.3947002e-08 | AA35: 7.8800561e-08 | AB35: 4.5327756e-08 | AC35: =Z35*$B35 -> 0 | AD35: =AA35*$B35 -> 0 | AE35: =AB35*$B35 -> 0 | AG35: 3.6720002e-10 | AH35: 2.8196001e-09 | AI35: 1.0858e-09
A36: 0.0113315 | B36: =A36-A37 -> 0.0002798 | E36: 0 | F36: 0 | G36: =D36*$B36 -> 0 | H36: =E36*$B36 -> 0 | I36: =F36*$B36 -> 0 | K36: 0 | L36: 0 | M36: 0 | O36: 1.1293782e-07 | P36: 1.2866334e-08 | Q36: 1.7869908e-08 | R36: =O36*$B36 -> 0 | S36: =P36*$B36 -> 0 | T36: =Q36*$B36 -> 0 | V36: 3.0698e-09 | W36: 7.7619999e-10 | X36: 1.646e-10 | Z36: 1.2151538e-08 | AA36: 8.6490353e-08 | AB36: 5.5039315e-08 | AC36: =Z36*$B36 -> 0 | AD36: =AA36*$B36 -> 0 | AE36: =AB36*$B36 -> 0 | AG36: 3.706e-10 | AH36: 2.8438001e-09 | AI36: 1.1012e-09
A37: 0.0110517 | B37: =A37-A38 -> 0.0002729 | D37: 0 | E37: 0 | F37: 0 | G37: =D37*$B37 -> 0 | H37: =E37*$B37 -> 0 | I37: =F37*$B37 -> 0 | K37: 0 | L37: 0 | M37: 0 | O37: 1.0260169e-07 | P37: 1.2458776e-08 | Q37: 2.3451815e-08 | R37: =O37*$B37 -> 0 | S37: =P37*$B37 -> 0 | T37: =Q37*$B37 -> 0 | V37: 3.0978e-09 | W37: 7.796e-10 | X37: 1.7100002e-10 | Z37: 9.5272998e-09 | AA37: 9.0142912e-08 | AB37: 3.4444852e-08 | AC37: =Z37*$B37 -> 0 | AD37: =AA37*$B37 -> 0 | AE37: =AB37*$B37 -> 0 | AG37: 3.7320003e-10 | AH37: 2.8684002e-09 | AI37: 1.1106001e-09
A38: 0.0107788 | B38: =A38-A39 -> 0.0002661 | E38: 0 | F38: 0 | G38: =D38*$B38 -> 0 | H38: =E38*$B38 -> 0 | I38: =F38*$B38 -> 0 | K38: 0 | L38: 0 | M38: 0 | O38: 1.1123638e-07 | P38: 2.7809095e-08 | Q38: 2.5554304e-08 | R38: =O38*$B38 -> 0 | S38: =P38*$B38 -> 0 | T38: =Q38*$B38 -> 0 | V38: 3.1273999e-09 | W38: 7.8700002e-10 | X38: 1.778e-10 | Z38: 1.1273958e-08 | AA38: 1.0672679e-07 | AB38: 6.8395344e-08 | AC38: =Z38*$B38 -> 0 | AD38: =AA38*$B38 -> 0 | AE38: =AB38*$B38 -> 0 | AG38: 3.7620002e-10 | AH38: 2.8968001e-09 | AI38: 1.1287999e-09
A39: 0.0105127 | B39: =A39-A40 -> 0.0002595 | D39: 0 | E39: 0 | F39: 0 | G39: =D39*$B39 -> 0 | H39: =E39*$B39 -> 0 | I39: =F39*$B39 -> 0 | K39: 0 | L39: 0 | M39: 0 | O39: 1.0019268e-07 | P39: 2.5433527e-08 | Q39: 2.3121387e-08 | R39: =O39*$B39 -> 0 | S39: =P39*$B39 -> 0 | T39: =Q39*$B39 -> 0 | V39: 3.1534e-09 | W39: 7.9360002e-10 | X39: 1.838e-10 | Z39: 1.0019268e-08 | AA39: 9.6339114e-08 | AB39: 6.3969175e-08 | AC39: =Z39*$B39 -> 0 | AD39: =AA39*$B39 -> 0 | AE39: =AB39*$B39 -> 0 | AG39: 3.7880002e-10 | AH39: 2.9218001e-09 | AI39: 1.1454e-09
A40: 0.0102532 | B40: =A40-A41 -> 0.0002532002 | E40: 0 | F40: 0 | G40: =D40*$B40 -> 0 | H40: =E40*$B40 -> 0 | I40: =F40*$B40 -> 0 | K40: 0 | L40: 0 | M40: 0 | O40: 1.042654e-07 | P40: 1.8957346e-08 | Q40: 3.6334914e-08 | R40: =O40*$B40 -> 0 | S40: =P40*$B40 -> 0 | T40: =Q40*$B40 -> 0 | V40: 3.1798e-09 | W40: 7.9840001e-10 | X40: 1.9300002e-10 | Z40: 1.8167457e-08 | AA40: 1.1453397e-07 | AB40: 5.687204e-08 | AC40: =Z40*$B40 -> 0 | AD40: =AA40*$B40 -> 0 | AE40: =AB40*$B40 -> 0 | AG40: 3.8340001e-10 | AH40: 2.9508e-09 | AI40: 1.1598e-09
A41: 0.0099999998 | B41: =A41-A42 -> 0.0002469002 | D41: 0 | E41: 0 | F41: 0 | G41: =D41*$B41 -> 0 | H41: =E41*$B41 -> 0 | I41: =F41*$B41 -> 0 | K41: 0 | L41: 0 | M41: 0 | O41: 1.1178615e-07 | P41: 2.4301338e-08 | Q41: 2.9161605e-08 | R41: =O41*$B41 -> 0 | S41: =P41*$B41 -> 0 | T41: =Q41*$B41 -> 0 | V41: 3.2074001e-09 | W41: 8.0439999e-10 | X41: 2.0020002e-10 | Z41: 1.4580802e-08 | AA41: 1.2960713e-07 | AB41: 6.7233699e-08 | AC41: =Z41*$B41 -> 0 | AD41: =AA41*$B41 -> 0 | AE41: =AB41*$B41 -> 0 | AG41: 3.8700002e-10 | AH41: 2.9828e-09 | AI41: 1.1764001e-09
...
