Workbook

Sheet Uncerts in D
A1: g | C1: Potential
A2: (m.s-2) | C2: Energy
A3: 9.8 | C3: ↓
C4: Kinetic | D4: Crater
A5: Mass | B5: Drop Height | C5: Energy | D5: Diameter | L5: u(D) | M5: u(D)
A6: m | B6: h | C6: E | D6: D | G6: Mean | H6: D-mean | I6: (d-mean)^2 | J6: sum | K6: sqrt | L6: s / sqrt(n) | M6: % uncert
A7: (g) | B7: (cm) | C7: (J) | D7: (cm)
A8: 8.35 | B8: 25.5 | C8: =$A$3*(A8/1000)*(B8/100) -> 0.02086665 | D8: 4 | G8: =SUM(D8:D10)/3 -> 3.9666667 | H8: =D8-$G$8 -> 0.033333333 | I8: =H8^2 -> 0.0011111111 | J8: =SUM(I8:I11) -> 0.0066666667 | K8: =SQRT(J8/2) -> 0.057735027 | L8: =K8/SQRT(3) -> 0.033333333 | M8: =100*L8/G8 -> 0.84033613
A9: 8.35 | B9: 25.5 | C9: =$A$3*(A9/1000)*(B9/100) -> 0.02086665 | D9: 4 | H9: =D9-$G$8 -> 0.033333333 | I9: =H9^2 -> 0.0011111111
A10: 8.35 | B10: 25.5 | C10: =$A$3*(A10/1000)*(B10/100) -> 0.02086665 | D10: 3.9 | H10: =D10-$G$8 -> -0.066666667 | I10: =H10^2 -> 0.0044444444
A12: 28.16 | B12: 25.5 | C12: =$A$3*(A12/1000)*(B12/100) -> 0.07037184 | D12: 5.4 | G12: =SUM(D12:D14)/3 -> 5.2333333 | H12: =D12-$G$12 -> 0.16666667 | I12: =H12^2 -> 0.027777778 | J12: =SUM(I12:I15) -> 0.086666667 | K12: =SQRT(J12/2) -> 0.2081666 | L12: =K12/SQRT(3) -> 0.12018504 | M12: =100*L12/G12 -> 2.2965295
A13: 28.16 | B13: 25.5 | C13: =$A$3*(A13/1000)*(B13/100) -> 0.07037184 | D13: 5.3 | H13: =D13-$G$12 -> 0.066666667 | I13: =H13^2 -> 0.0044444444
A14: 28.16 | B14: 25.5 | C14: =$A$3*(A14/1000)*(B14/100) -> 0.07037184 | D14: 5 | H14: =D14-$G$12 -> -0.23333333 | I14: =H14^2 -> 0.054444444
A16: 66.76 | B16: 25.5 | C16: =$A$3*(A16/1000)*(B16/100) -> 0.16683324 | D16: 6.4 | G16: =SUM(D16:D18)/3 -> 6.3333333 | H16: =D16-$G$16 -> 0.066666667 | I16: =H16^2 -> 0.0044444444 | J16: =SUM(I16:I19) -> 0.026666667 | K16: =SQRT(J16/2) -> 0.11547005 | L16: =K16/SQRT(3) -> 0.066666667 | M16: =100*L16/G16 -> 1.0526316
A17: 66.76 | B17: 25.5 | C17: =$A$3*(A17/1000)*(B17/100) -> 0.16683324 | D17: 6.4 | H17: =D17-$G$16 -> 0.066666667 | I17: =H17^2 -> 0.0044444444
A18: 66.76 | B18: 25.5 | C18: =$A$3*(A18/1000)*(B18/100) -> 0.16683324 | D18: 6.2 | H18: =D18-$G$16 -> -0.13333333 | I18: =H18^2 -> 0.017777778
A20: 66.76 | B20: 68 | C20: =$A$3*(A20/1000)*(B20/100) -> 0.44488864 | D20: 8.2 | G20: =SUM(D20:D22)/3 -> 7.9666667 | H20: =D20-$G$20 -> 0.23333333 | I20: =H20^2 -> 0.054444444 | J20: =SUM(I20:I23) -> 0.086666667 | K20: =SQRT(J20/2) -> 0.2081666 | L20: =K20/SQRT(3) -> 0.12018504 | M20: =100*L20/G20 -> 1.5085989
A21: 66.76 | B21: 68 | C21: =$A$3*(A21/1000)*(B21/100) -> 0.44488864 | D21: 7.8 | H21: =D21-$G$20 -> -0.16666667 | I21: =H21^2 -> 0.027777778
A22: 66.76 | B22: 68 | C22: =$A$3*(A22/1000)*(B22/100) -> 0.44488864 | D22: 7.9 | H22: =D22-$G$20 -> -0.066666667 | I22: =H22^2 -> 0.0044444444
A24: 66.76 | B24: 150 | C24: =$A$3*(A24/1000)*(B24/100) -> 0.981372 | D24: 10.4 | G24: =SUM(D24:D26)/3 -> 10.166667 | H24: =D24-$G$24 -> 0.23333333 | I24: =H24^2 -> 0.054444444 | J24: =SUM(I24:I27) -> 0.086666667 | K24: =SQRT(J24/2) -> 0.2081666 | L24: =K24/SQRT(3) -> 0.12018504 | M24: =100*L24/G24 -> 1.182148
A25: 66.76 | B25: 150 | C25: =$A$3*(A25/1000)*(B25/100) -> 0.981372 | D25: 10 | H25: =D25-$G$24 -> -0.16666667 | I25: =H25^2 -> 0.027777778
A26: 66.76 | B26: 150 | C26: =$A$3*(A26/1000)*(B26/100) -> 0.981372 | D26: 10.1 | H26: =D26-$G$24 -> -0.066666667 | I26: =H26^2 -> 0.0044444444
E29: % uncert in m = | G29: =100*0.00289/8.35 -> 0.034610778
E30: % uncert in g = | G30: =100*0.005/9.8 -> 0.051020408
E31: % uncert in h = | G31: =100/255 -> 0.39215686
E33: u(E) | G33: =SQRT((G29^2)+(G30^2)+(G31^2)) -> 0.39697354 | H33: %

Sheet Equations
A1: g | C1: Potential
A2: (m.s-2) | C2: Energy
A3: 9.8 | C3: ↓
C4: Kinetic | D4: Crater
A5: Mass | B5: Drop Height | C5: Energy | D5: Diameter | L5: u(D) | M5: u(D)
A6: m | B6: h | C6: E | D6: D | G6: Mean | H6: D-mean | I6: (d-mean)^2 | J6: sum | K6: sqrt | L6: s / sqrt(n) | M6: % uncert
A7: (g) | B7: (cm) | C7: (J) | D7: (cm)
A8: 8.35 | B8: 25.5 | C8: =$A$3*(A8/1000)*(B8/100) -> 0.02086665 | D8: 4 | G8: =SUM(D8:D10)/3 -> 3.9666667 | H8: =D8-$G$8 -> 0.033333333 | I8: =H8^2 -> 0.0011111111 | J8: =SUM(I8:I11) -> 0.0066666667 | K8: =SQRT(J8/2) -> 0.057735027 | L8: =K8/SQRT(3) -> 0.033333333 | M8: =100*L8/G8 -> 0.84033613
A9: 8.35 | B9: 25.5 | C9: =$A$3*(A9/1000)*(B9/100) -> 0.02086665 | D9: 4 | H9: =D9-$G$8 -> 0.033333333 | I9: =H9^2 -> 0.0011111111
A10: 8.35 | B10: 25.5 | C10: =$A$3*(A10/1000)*(B10/100) -> 0.02086665 | D10: 3.9 | H10: =D10-$G$8 -> -0.066666667 | I10: =H10^2 -> 0.0044444444
A12: 28.16 | B12: 25.5 | C12: =$A$3*(A12/1000)*(B12/100) -> 0.07037184 | D12: 5.4 | G12: =SUM(D12:D14)/3 -> 5.2333333 | H12: =D12-$G$12 -> 0.16666667 | I12: =H12^2 -> 0.027777778 | J12: =SUM(I12:I15) -> 0.086666667 | K12: =SQRT(J12/2) -> 0.2081666 | L12: =K12/SQRT(3) -> 0.12018504 | M12: =100*L12/G12 -> 2.2965295
A13: 28.16 | B13: 25.5 | C13: =$A$3*(A13/1000)*(B13/100) -> 0.07037184 | D13: 5.3 | H13: =D13-$G$12 -> 0.066666667 | I13: =H13^2 -> 0.0044444444
A14: 28.16 | B14: 25.5 | C14: =$A$3*(A14/1000)*(B14/100) -> 0.07037184 | D14: 5 | H14: =D14-$G$12 -> -0.23333333 | I14: =H14^2 -> 0.054444444
A16: 66.76 | B16: 25.5 | C16: =$A$3*(A16/1000)*(B16/100) -> 0.16683324 | D16: 6.4 | G16: =SUM(D16:D18)/3 -> 6.3333333 | H16: =D16-$G$16 -> 0.066666667 | I16: =H16^2 -> 0.0044444444 | J16: =SUM(I16:I19) -> 0.026666667 | K16: =SQRT(J16/2) -> 0.11547005 | L16: =K16/SQRT(3) -> 0.066666667 | M16: =100*L16/G16 -> 1.0526316
A17: 66.76 | B17: 25.5 | C17: =$A$3*(A17/1000)*(B17/100) -> 0.16683324 | D17: 6.4 | H17: =D17-$G$16 -> 0.066666667 | I17: =H17^2 -> 0.0044444444
A18: 66.76 | B18: 25.5 | C18: =$A$3*(A18/1000)*(B18/100) -> 0.16683324 | D18: 6.2 | H18: =D18-$G$16 -> -0.13333333 | I18: =H18^2 -> 0.017777778
A20: 66.76 | B20: 68 | C20: =$A$3*(A20/1000)*(B20/100) -> 0.44488864 | D20: 8.2 | G20: =SUM(D20:D22)/3 -> 7.9666667 | H20: =D20-$G$20 -> 0.23333333 | I20: =H20^2 -> 0.054444444 | J20: =SUM(I20:I23) -> 0.086666667 | K20: =SQRT(J20/2) -> 0.2081666 | L20: =K20/SQRT(3) -> 0.12018504 | M20: =100*L20/G20 -> 1.5085989
A21: 66.76 | B21: 68 | C21: =$A$3*(A21/1000)*(B21/100) -> 0.44488864 | D21: 7.8 | H21: =D21-$G$20 -> -0.16666667 | I21: =H21^2 -> 0.027777778
A22: 66.76 | B22: 68 | C22: =$A$3*(A22/1000)*(B22/100) -> 0.44488864 | D22: 7.9 | H22: =D22-$G$20 -> -0.066666667 | I22: =H22^2 -> 0.0044444444
A24: 66.76 | B24: 150 | C24: =$A$3*(A24/1000)*(B24/100) -> 0.981372 | D24: 10.4 | G24: =SUM(D24:D26)/3 -> 10.166667 | H24: =D24-$G$24 -> 0.23333333 | I24: =H24^2 -> 0.054444444 | J24: =SUM(I24:I27) -> 0.086666667 | K24: =SQRT(J24/2) -> 0.2081666 | L24: =K24/SQRT(3) -> 0.12018504 | M24: =100*L24/G24 -> 1.182148
A25: 66.76 | B25: 150 | C25: =$A$3*(A25/1000)*(B25/100) -> 0.981372 | D25: 10 | H25: =D25-$G$24 -> -0.16666667 | I25: =H25^2 -> 0.027777778
A26: 66.76 | B26: 150 | C26: =$A$3*(A26/1000)*(B26/100) -> 0.981372 | D26: 10.1 | H26: =D26-$G$24 -> -0.066666667 | I26: =H26^2 -> 0.0044444444
E29: % uncert in m = | G29: =100*0.00289/8.35 -> 0.034610778
E30: % uncert in g = | G30: =100*0.005/9.8 -> 0.051020408
E31: % uncert in h = | G31: =100/255 -> 0.39215686
E33: u(E) | G33: =SQRT((G29^2)+(G30^2)+(G31^2)) -> 0.39697354 | H33: %

Sheet Solver Curve Fit
A1: ='Uncerts in D'!C1 -> Potential | C1: c | D1: =B43/10 -> 7.1
A2: ='Uncerts in D'!C2 -> Energy | C2: n | D2: =D43/100 -> 0.32
A3: ='Uncerts in D'!C3 -> ↓
A4: ='Uncerts in D'!C4 -> Kinetic | B4: ='Uncerts in D'!D4 -> Crater
A5: ='Uncerts in D'!C5 -> Energy | B5: ='Uncerts in D'!D5 -> Diameter
A6: ='Uncerts in D'!C6 -> E | B6: ='Uncerts in D'!D6 -> D
A7: ='Uncerts in D'!C7 -> (J) | B7: ='Uncerts in D'!D7 -> (cm) | C7: model | D7: error^2 | E7: residual
A8: 0 | B8: 0 | C8: 0 | D8: 0 | E8: 0
A9: ='Uncerts in D'!C8 -> 0.02086665 | B9: ='Uncerts in D'!D8 -> 4 | C9: =$D$1*(A9^$D$2) -> 2.0581794 | D9: =(B9-C9)^2 -> 3.7706673 | E9: =B9-C9 -> 1.9418206
A10: ='Uncerts in D'!C9 -> 0.02086665 | B10: ='Uncerts in D'!D9 -> 4 | C10: =$D$1*(A10^$D$2) -> 2.0581794 | D10: =(B10-C10)^2 -> 3.7706673 | E10: =B10-C10 -> 1.9418206
A11: ='Uncerts in D'!C10 -> 0.02086665 | B11: ='Uncerts in D'!D10 -> 3.9 | C11: =$D$1*(A11^$D$2) -> 2.0581794 | D11: =(B11-C11)^2 -> 3.3923032 | E11: =B11-C11 -> 1.8418206
A12: ='Uncerts in D'!C12 -> 0.07037184 | B12: ='Uncerts in D'!D12 -> 5.4 | C12: =$D$1*(A12^$D$2) -> 3.0368686 | D12: =(B12-C12)^2 -> 5.5843901 | E12: =B12-C12 -> 2.3631314
A13: ='Uncerts in D'!C13 -> 0.07037184 | B13: ='Uncerts in D'!D13 -> 5.3 | C13: =$D$1*(A13^$D$2) -> 3.0368686 | D13: =(B13-C13)^2 -> 5.1217638 | E13: =B13-C13 -> 2.2631314
A14: ='Uncerts in D'!C14 -> 0.07037184 | B14: ='Uncerts in D'!D14 -> 5 | C14: =$D$1*(A14^$D$2) -> 3.0368686 | D14: =(B14-C14)^2 -> 3.853885 | E14: =B14-C14 -> 1.9631314
A15: ='Uncerts in D'!C16 -> 0.16683324 | B15: ='Uncerts in D'!D16 -> 6.4 | C15: =$D$1*(A15^$D$2) -> 4.0030294 | D15: =(B15-C15)^2 -> 5.7454682 | E15: =B15-C15 -> 2.3969706
A16: ='Uncerts in D'!C17 -> 0.16683324 | B16: ='Uncerts in D'!D17 -> 6.4 | C16: =$D$1*(A16^$D$2) -> 4.0030294 | D16: =(B16-C16)^2 -> 5.7454682 | E16: =B16-C16 -> 2.3969706
A17: ='Uncerts in D'!C18 -> 0.16683324 | B17: ='Uncerts in D'!D18 -> 6.2 | C17: =$D$1*(A17^$D$2) -> 4.0030294 | D17: =(B17-C17)^2 -> 4.82668 | E17: =B17-C17 -> 2.1969706
A18: ='Uncerts in D'!C20 -> 0.44488864 | B18: ='Uncerts in D'!D20 -> 8.2 | C18: =$D$1*(A18^$D$2) -> 5.4789681 | D18: =(B18-C18)^2 -> 7.4040147 | E18: =B18-C18 -> 2.7210319
A19: ='Uncerts in D'!C21 -> 0.44488864 | B19: ='Uncerts in D'!D21 -> 7.8 | C19: =$D$1*(A19^$D$2) -> 5.4789681 | D19: =(B19-C19)^2 -> 5.3871892 | E19: =B19-C19 -> 2.3210319
A20: ='Uncerts in D'!C22 -> 0.44488864 | B20: ='Uncerts in D'!D22 -> 7.9 | C20: =$D$1*(A20^$D$2) -> 5.4789681 | D20: =(B20-C20)^2 -> 5.8613956 | E20: =B20-C20 -> 2.4210319
A21: ='Uncerts in D'!C24 -> 0.981372 | B21: ='Uncerts in D'!D24 -> 10.4 | C21: =$D$1*(A21^$D$2) -> 7.0574063 | D21: =(B21-C21)^2 -> 11.172933 | E21: =B21-C21 -> 3.3425937
A22: ='Uncerts in D'!C25 -> 0.981372 | B22: ='Uncerts in D'!D25 -> 10 | C22: =$D$1*(A22^$D$2) -> 7.0574063 | D22: =(B22-C22)^2 -> 8.6588577 | E22: =B22-C22 -> 2.9425937
A23: ='Uncerts in D'!C26 -> 0.981372 | B23: ='Uncerts in D'!D26 -> 10.1 | C23: =$D$1*(A23^$D$2) -> 7.0574063 | D23: =(B23-C23)^2 -> 9.2573764 | E23: =B23-C23 -> 3.0425937
B25: Sum of squared errors = | D25: =SUM(D9:D24) -> 89.553059
B43: 71 | D43: 32
B44: 10c | D44: 100n

Sheet Ln Least Squares
A1: ='Solver Curve Fit'!A1 -> Potential | J1: slope | K1: 0.24044653
A2: ='Solver Curve Fit'!A2 -> Energy | J2: intercept | K2: -2.3110671
A3: ='Solver Curve Fit'!A3 -> ↓ | E3: LeastSquares
A4: ='Solver Curve Fit'!A4 -> Kinetic | B4: ='Solver Curve Fit'!B4 -> Crater
A5: ='Solver Curve Fit'!A5 -> Energy | B5: ='Solver Curve Fit'!B5 -> Diameter | D5: X | E5: Y | F5: X^2 | G5: XY | H5: model | I5: error^2 | J5: solver | K5: solver
A6: ='Solver Curve Fit'!A6 -> E | B6: ='Solver Curve Fit'!B6 -> D | K6: error^2
A7: ='Solver Curve Fit'!A7 -> (J) | B7: ='Solver Curve Fit'!B7 -> (cm) | D7: ln(E) | E7: ln(D)
A8: ='Solver Curve Fit'!A9 -> 0.02086665 | B8: ='Solver Curve Fit'!B9 -> 4 | D8: =LN(A8) -> -3.8696031 | E8: =LN(B8/100) -> -3.2188758 | F8: =D8^2 -> 14.973828 | G8: =D8*E8 -> 12.455772 | H8: =$E$29+($E$31*D8) -> -3.2414991 | I8: =(H8-E8)^2 -> 0.00051181173 | J8: =$K$2+($K$1*D8) -> -3.2414997 | K8: =(J8-E8)^2 -> 0.0005118415
A9: ='Solver Curve Fit'!A10 -> 0.02086665 | B9: ='Solver Curve Fit'!B10 -> 4 | D9: =LN(A9) -> -3.8696031 | E9: =LN(B9/100) -> -3.2188758 | F9: =D9^2 -> 14.973828 | G9: =D9*E9 -> 12.455772 | H9: =$E$29+($E$31*D9) -> -3.2414991 | I9: =(H9-E9)^2 -> 0.00051181173 | J9: =$K$2+($K$1*D9) -> -3.2414997 | K9: =(J9-E9)^2 -> 0.0005118415
A10: ='Solver Curve Fit'!A11 -> 0.02086665 | B10: ='Solver Curve Fit'!B11 -> 3.9 | D10: =LN(A10) -> -3.8696031 | E10: =LN(B10/100) -> -3.2441936 | F10: =D10^2 -> 14.973828 | G10: =D10*E10 -> 12.553742 | H10: =$E$29+($E$31*D10) -> -3.2414991 | I10: =(H10-E10)^2 -> 7.2606084e-06 | J10: =$K$2+($K$1*D10) -> -3.2414997 | K10: =(J10-E10)^2 -> 7.2570635e-06
A11: ='Solver Curve Fit'!A12 -> 0.07037184 | B11: ='Solver Curve Fit'!B12 -> 5.4 | D11: =LN(A11) -> -2.6539621 | E11: =LN(B11/100) -> -2.9187712 | F11: =D11^2 -> 7.0435148 | G11: =D11*E11 -> 7.7463082 | H11: =$E$29+($E$31*D11) -> -2.9492026 | I11: =(H11-E11)^2 -> 0.00092606522 | J11: =$K$2+($K$1*D11) -> -2.9492031 | K11: =(J11-E11)^2 -> 0.00092609732
A12: ='Solver Curve Fit'!A13 -> 0.07037184 | B12: ='Solver Curve Fit'!B13 -> 5.3 | D12: =LN(A12) -> -2.6539621 | E12: =LN(B12/100) -> -2.9374634 | F12: =D12^2 -> 7.0435148 | G12: =D12*E12 -> 7.7959164 | H12: =$E$29+($E$31*D12) -> -2.9492026 | I12: =(H12-E12)^2 -> 0.0001378085 | J12: =$K$2+($K$1*D12) -> -2.9492031 | K12: =(J12-E12)^2 -> 0.00013782089
A13: ='Solver Curve Fit'!A14 -> 0.07037184 | B13: ='Solver Curve Fit'!B14 -> 5 | D13: =LN(A13) -> -2.6539621 | E13: =LN(B13/100) -> -2.9957323 | F13: =D13^2 -> 7.0435148 | G13: =D13*E13 -> 7.9505599 | H13: =$E$29+($E$31*D13) -> -2.9492026 | I13: =(H13-E13)^2 -> 0.002165015 | J13: =$K$2+($K$1*D13) -> -2.9492031 | K13: =(J13-E13)^2 -> 0.0021649659
A14: ='Solver Curve Fit'!A15 -> 0.16683324 | B14: ='Solver Curve Fit'!B15 -> 6.4 | D14: =LN(A14) -> -1.7907605 | E14: =LN(B14/100) -> -2.7488722 | F14: =D14^2 -> 3.2068233 | G14: =D14*E14 -> 4.9225718 | H14: =$E$29+($E$31*D14) -> -2.7416488 | I14: =(H14-E14)^2 -> 5.2177123e-05 | J14: =$K$2+($K$1*D14) -> -2.7416493 | K14: =(J14-E14)^2 -> 5.2170839e-05
A15: ='Solver Curve Fit'!A16 -> 0.16683324 | B15: ='Solver Curve Fit'!B16 -> 6.4 | D15: =LN(A15) -> -1.7907605 | E15: =LN(B15/100) -> -2.7488722 | F15: =D15^2 -> 3.2068233 | G15: =D15*E15 -> 4.9225718 | H15: =$E$29+($E$31*D15) -> -2.7416488 | I15: =(H15-E15)^2 -> 5.2177123e-05 | J15: =$K$2+($K$1*D15) -> -2.7416493 | K15: =(J15-E15)^2 -> 5.2170839e-05
A16: ='Solver Curve Fit'!A17 -> 0.16683324 | B16: ='Solver Curve Fit'!B17 -> 6.2 | D16: =LN(A16) -> -1.7907605 | E16: =LN(B16/100) -> -2.7806209 | F16: =D16^2 -> 3.2068233 | G16: =D16*E16 -> 4.9794261 | H16: =$E$29+($E$31*D16) -> -2.7416488 | I16: =(H16-E16)^2 -> 0.0015188224 | J16: =$K$2+($K$1*D16) -> -2.7416493 | K16: =(J16-E16)^2 -> 0.0015187885
A17: ='Solver Curve Fit'!A18 -> 0.44488864 | B17: ='Solver Curve Fit'!B18 -> 8.2 | D17: =LN(A17) -> -0.80993128 | E17: =LN(B17/100) -> -2.501036 | F17: =D17^2 -> 0.65598867 | G17: =D17*E17 -> 2.0256673 | H17: =$E$29+($E$31*D17) -> -2.5058119 | I17: =(H17-E17)^2 -> 2.2809262e-05 | J17: =$K$2+($K$1*D17) -> -2.5058123 | K17: =(J17-E17)^2 -> 2.2812413e-05
A18: ='Solver Curve Fit'!A19 -> 0.44488864 | B18: ='Solver Curve Fit'!B19 -> 7.8 | D18: =LN(A18) -> -0.80993128 | E18: =LN(B18/100) -> -2.5510465 | F18: =D18^2 -> 0.65598867 | G18: =D18*E18 -> 2.0661723 | H18: =$E$29+($E$31*D18) -> -2.5058119 | I18: =(H18-E18)^2 -> 0.0020461615 | J18: =$K$2+($K$1*D18) -> -2.5058123 | K18: =(J18-E18)^2 -> 0.0020461316
A19: ='Solver Curve Fit'!A20 -> 0.44488864 | B19: ='Solver Curve Fit'!B20 -> 7.9 | D19: =LN(A19) -> -0.80993128 | E19: =LN(B19/100) -> -2.5383074 | F19: =D19^2 -> 0.65598867 | G19: =D19*E19 -> 2.0558546 | H19: =$E$29+($E$31*D19) -> -2.5058119 | I19: =(H19-E19)^2 -> 0.0010559569 | J19: =$K$2+($K$1*D19) -> -2.5058123 | K19: =(J19-E19)^2 -> 0.0010559355
... A22: ='Solver Curve Fit'!A23 -> 0.981372 | B22: ='Solver Curve Fit'!B23 -> 10.1 | D22: =LN(A22) -> -0.018803686 | E22: =LN(B22/100) -> -2.2926348 | F22: =D22^2 -> 0.00035357862 | G22: =D22*E22 -> 0.043109985 | H22: =$E$29+($E$31*D22) -> -2.3155881 | I22: =(H22-E22)^2 -> 0.0005268574 | J22: =$K$2+($K$1*D22) -> -2.3155884 | K22: =(J22-E22)^2 -> 0.00052686865
D24: =SUM(D8:D22) -> -27.429182 | E24: =SUM(E8:E22) -> -41.261252 | F24: =SUM(F8:F22) -> 77.641525 | G24: =SUM(G8:G22) -> 82.059301 | I24: =SUM(I8:I23) -> 0.012431134 | K24: =SUM(K8:K22) -> 0.012431134
D25: sumX | E25: sumY | F25: sumX^2 | G25: sumXY | I25: sum error^2 | K25: solver SSE
D27: denom = | E27: =(15*F24)-(D24^2) -> 412.26285 | H27: s = | I27: =SQRT(I24/13) -> 0.030923148
D29: intercept = | E29: =((E24*F24)-(G24*D24))/E27 -> -2.3110669 | H29: s(int) = | I29: =I27*SQRT(F24/E27) -> 0.013419725 | L29: =EXP(E29) -> 0.09915541
D31: slope = | E31: =((15*G24)-(D24*E24))/E27 -> 0.24044642 | H31: s(slope) = | I31: =I27*SQRT(15/E27) -> 0.0058985088
I33: 2.16
H34: U(n) = | I34: =I33*I31 -> 0.012740779
