Workbook

Sheet Sheet1
F1: =F6*1000*1000 -> 35.693093 | G1: g/l | O1: 1 + 0.0045P | S1: =V6/F6 -> 60.975051 | V1: mdot = (A * pt/sqrt[Tt]) * sqrt(gam/R) * [(gam + 1)/2]^-[(gam + 1)/(gam - 1)/2]
C2: upstream | D2: downstream | S2: =(V6/F6)*1000*60 -> 3658503.1
C3: Pressure Abs | E3: Temp | F3: Density | G3: heat capacity ratio | J3: Orifice | N3: Critical pressure | W3: mass kg/s
B4: Step | C4: P0 | D4: P1 | E4: T0 | F4: p0 | G4: cp | H4: cv | I4: y | J4: Cd | K4: SupD | L4: OrifD | M4: OrifA | N4: p* | O4: P0.crit | P4: P1/P2 | Q4: Condition | R4: alternate method…. | W4: m (sonic) | X4: m (subsonic) | Y4: m (total) | Z4: volumetric
C5: BarA | D5: BarA | E5: C | F5: kg/cu.m | K5: mm | L5: mm | M5: m.sq | N5: value | O5: BarA | P5: ratio | R5: if crit | S5: if subso | T5: sonic | U5: net | V5: chemeur | W5: engTB | X5: kg/sec | Y5: kg/sec | Z5: L/min
B6: 1 | C6: 200 | D6: =(C6/50)*B6 -> 4 | E6: 0 | F6: =((4*C6)/(0.0821*(E6+273)))/1000/1000 -> 3.5693093e-05 | G6: 5.1926 | H6: 3.1156 | I6: =G6/H6 -> 1.6666453 | J6: 0.6 | K6: 5 | L6: 0.5 | M6: =PI()*(L6/1000/2)^2 -> 1.9634954e-07 | N6: =(2/(I6+1))^(I6/(I6-1)) -> 0.48714231 | O6: =D6/N6 -> 8.2111528 | P6: =C6/D6 -> 50 | Q6: =IF(C6>O6,"SONIC","SUBSONIC") -> SONIC | R6: =(J6*(PI()/4)*((L6/1000)^2)*F6*(2*(((O6-D6)*100000))/(F6*(1-(L6/K6)^4)))^0.5) -> 6.4596717e-07 | S6: =(J6*(PI()/4)*((L6/1000)^2)*F6*(2*(((C6-D6)*100000))/(F6*(1-(L6/K6)^4)))^0.5) -> 4.4069486e-06 | T6: {=MAX((Q6:Q40="SONIC")*R6:R40)} -> 3.1645799e-06 | U6: =IF(C6>O6,T6,S6) -> 3.1645799e-06 | V6: =(J6*M6*C6*100000)*SQRT(((I6*4.003)/((1+0.0045*0.1*C6)*8314.5*(E6+273)))*(2/(I6+1))^((I6+1)/(I6-1))) -> 0.0021763882 | W6: =IF(C6>O6,(J6*M6)*(SQRT(I6*F6*C6*((2/I6+1)^((I6+1)/(I6-1))))),0) -> 6.219819e-08 | X6: =IF(C6>O6,0,(J6*(PI()/4)*((L6/1000)^2)*F6*(2*(((C6-D6)*100000))/(F6*(1-(L6/K6)^4)))^0.5)) -> 0 | Y6: =U6 -> 3.1645799e-06 | Z6: =(Y6/F6)*1000*60 -> 5319.6509
B7: 2 | C7: =C6 -> 200 | D7: =(C7/50)*B7 -> 8 | E7: 0 | F7: =((4*C7)/(0.0821*(E7+273)))/1000/1000 -> 3.5693093e-05 | G7: 5.1926 | H7: 3.1156 | I7: =G7/H7 -> 1.6666453 | J7: 0.6 | K7: 5 | L7: 0.5 | M7: =PI()*(L7/1000/2)^2 -> 1.9634954e-07 | N7: =(2/(I7+1))^(I7/(I7-1)) -> 0.48714231 | O7: =D7/N7 -> 16.422306 | P7: =C7/D7 -> 25 | Q7: =IF(C7>O7,"SONIC","SUBSONIC") -> SONIC | R7: =(J7*(PI()/4)*((L7/1000)^2)*F7*(2*(((O7-D7)*100000))/(F7*(1-(L7/K7)^4)))^0.5) -> 9.1353553e-07 | S7: =(J7*(PI()/4)*((L7/1000)^2)*F7*(2*(((C7-D7)*100000))/(F7*(1-(L7/K7)^4)))^0.5) -> 4.3617479e-06 | T7: {=MAX((Q7:Q41="SONIC")*R7:R41)} -> 3.1645799e-06 | U7: =IF(C7>O7,T7,S7) -> 3.1645799e-06 | V7: =(J7*M7*C7*100000)*SQRT(((I7*4.003)/((1+0.0045*0.1*C7)*8314.5*(E7+273)))*(2/(I7+1))^((I7+1)/(I7-1))) -> 0.0021763882 | W7: =IF(C7>O7,(J7*M7)*(SQRT(I7*F7*C7*((2/I7+1)^((I7+1)/(I7-1))))),0) -> 6.219819e-08 | X7: =IF(C7>O7,0,(J7*(PI()/4)*((L7/1000)^2)*F7*(2*(((C7-D7)*100000))/(F7*(1-(L7/K7)^4)))^0.5)) -> 0 | Y7: =U7 -> 3.1645799e-06 | Z7: =(Y7/F7)*1000*60 -> 5319.6509
B8: 3 | C8: =C7 -> 200 | D8: =(C8/50)*B8 -> 12 | E8: 0 | F8: =((4*C8)/(0.0821*(E8+273)))/1000/1000 -> 3.5693093e-05 | G8: 5.1926 | H8: 3.1156 | I8: =G8/H8 -> 1.6666453 | J8: 0.6 | K8: 5 | L8: 0.5 | M8: =PI()*(L8/1000/2)^2 -> 1.9634954e-07 | N8: =(2/(I8+1))^(I8/(I8-1)) -> 0.48714231 | O8: =D8/N8 -> 24.633459 | P8: =C8/D8 -> 16.666667 | Q8: =IF(C8>O8,"SONIC","SUBSONIC") -> SONIC | R8: =(J8*(PI()/4)*((L8/1000)^2)*F8*(2*(((O8-D8)*100000))/(F8*(1-(L8/K8)^4)))^0.5) -> 1.118848e-06 | S8: =(J8*(PI()/4)*((L8/1000)^2)*F8*(2*(((C8-D8)*100000))/(F8*(1-(L8/K8)^4)))^0.5) -> 4.3160739e-06 | T8: {=MAX((Q8:Q42="SONIC")*R8:R42)} -> 3.1645799e-06 | U8: =IF(C8>O8,T8,S8) -> 3.1645799e-06 | V8: =(J8*M8*C8*100000)*SQRT(((I8*4.003)/((1+0.0045*0.1*C8)*8314.5*(E8+273)))*(2/(I8+1))^((I8+1)/(I8-1))) -> 0.0021763882 | W8: =IF(C8>O8,(J8*M8)*(SQRT(I8*F8*C8*((2/I8+1)^((I8+1)/(I8-1))))),0) -> 6.219819e-08 | X8: =IF(C8>O8,0,(J8*(PI()/4)*((L8/1000)^2)*F8*(2*(((C8-D8)*100000))/(F8*(1-(L8/K8)^4)))^0.5)) -> 0 | Y8: =U8 -> 3.1645799e-06 | Z8: =(Y8/F8)*1000*60 -> 5319.6509
B9: 4 | C9: =C8 -> 200 | D9: =(C9/50)*B9 -> 16 | E9: 0 | F9: =((4*C9)/(0.0821*(E9+273)))/1000/1000 -> 3.5693093e-05 | G9: 5.1926 | H9: 3.1156 | I9: =G9/H9 -> 1.6666453 | J9: 0.6 | K9: 5 | L9: 0.5 | M9: =PI()*(L9/1000/2)^2 -> 1.9634954e-07 | N9: =(2/(I9+1))^(I9/(I9-1)) -> 0.48714231 | O9: =D9/N9 -> 32.844611 | P9: =C9/D9 -> 12.5 | Q9: =IF(C9>O9,"SONIC","SUBSONIC") -> SONIC | R9: =(J9*(PI()/4)*((L9/1000)^2)*F9*(2*(((O9-D9)*100000))/(F9*(1-(L9/K9)^4)))^0.5) -> 1.2919343e-06 | S9: =(J9*(PI()/4)*((L9/1000)^2)*F9*(2*(((C9-D9)*100000))/(F9*(1-(L9/K9)^4)))^0.5) -> 4.2699113e-06 | T9: {=MAX((Q9:Q43="SONIC")*R9:R43)} -> 3.1645799e-06 | U9: =IF(C9>O9,T9,S9) -> 3.1645799e-06 | V9: =(J9*M9*C9*100000)*SQRT(((I9*4.003)/((1+0.0045*0.1*C9)*8314.5*(E9+273)))*(2/(I9+1))^((I9+1)/(I9-1))) -> 0.0021763882 | W9: =IF(C9>O9,(J9*M9)*(SQRT(I9*F9*C9*((2/I9+1)^((I9+1)/(I9-1))))),0) -> 6.219819e-08 | X9: =IF(C9>O9,0,(J9*(PI()/4)*((L9/1000)^2)*F9*(2*(((C9-D9)*100000))/(F9*(1-(L9/K9)^4)))^0.5)) -> 0 | Y9: =U9 -> 3.1645799e-06 | Z9: =(Y9/F9)*1000*60 -> 5319.6509
B10: 5 | C10: =C9 -> 200 | D10: =(C10/50)*B10 -> 20 | E10: 0 | F10: =((4*C10)/(0.0821*(E10+273)))/1000/1000 -> 3.5693093e-05 | G10: 5.1926 | H10: 3.1156 | I10: =G10/H10 -> 1.6666453 | J10: 0.6 | K10: 5 | L10: 0.5 | M10: =PI()*(L10/1000/2)^2 -> 1.9634954e-07 | N10: =(2/(I10+1))^(I10/(I10-1)) -> 0.48714231 | O10: =D10/N10 -> 41.055764 | P10: =C10/D10 -> 10 | Q10: =IF(C10>O10,"SONIC","SUBSONIC") -> SONIC | R10: =(J10*(PI()/4)*((L10/1000)^2)*F10*(2*(((O10-D10)*100000))/(F10*(1-(L10/K10)^4)))^0.5) -> 1.4444265e-06 | S10: =(J10*(PI()/4)*((L10/1000)^2)*F10*(2*(((C10-D10)*100000))/(F10*(1-(L10/K10)^4)))^0.5) -> 4.2232442e-06 | T10: {=MAX((Q10:Q44="SONIC")*R10:R44)} -> 3.1645799e-06 | U10: =IF(C10>O10,T10,S10) -> 3.1645799e-06 | V10: =(J10*M10*C10*100000)*SQRT(((I10*4.003)/((1+0.0045*0.1*C10)*8314.5*(E10+273)))*(2/(I10+1))^((I10+1)/(I10-1))) -> 0.0021763882 | W10: =IF(C10>O10,(J10*M10)*(SQRT(I10*F10*C10*((2/I10+1)^((I10+1)/(I10-1))))),0) -> 6.219819e-08 | X10: =IF(C10>O10,0,(J10*(PI()/4)*((L10/1000)^2)*F10*(2*(((C10-D10)*100000))/(F10*(1-(L10/K10)^4)))^0.5)) -> 0 | Y10: =U10 -> 3.1645799e-06 | Z10: =(Y10/F10)*1000*60 -> 5319.6509
B11: 6 | C11: =C10 -> 200 | D11: =(C11/50)*B11 -> 24 | E11: 0 | F11: =((4*C11)/(0.0821*(E11+273)))/1000/1000 -> 3.5693093e-05 | G11: 5.1926 | H11: 3.1156 | I11: =G11/H11 -> 1.6666453 | J11: 0.6 | K11: 5 | L11: 0.5 | M11: =PI()*(L11/1000/2)^2 -> 1.9634954e-07 | N11: =(2/(I11+1))^(I11/(I11-1)) -> 0.48714231 | O11: =D11/N11 -> 49.266917 | P11: =C11/D11 -> 8.3333333 | Q11: =IF(C11>O11,"SONIC","SUBSONIC") -> SONIC | R11: =(J11*(PI()/4)*((L11/1000)^2)*F11*(2*(((O11-D11)*100000))/(F11*(1-(L11/K11)^4)))^0.5) -> 1.58229e-06 | S11: =(J11*(PI()/4)*((L11/1000)^2)*F11*(2*(((C11-D11)*100000))/(F11*(1-(L11/K11)^4)))^0.5) -> 4.1760557e-06 | T11: {=MAX((Q11:Q45="SONIC")*R11:R45)} -> 3.1645799e-06 | U11: =IF(C11>O11,T11,S11) -> 3.1645799e-06 | V11: =(J11*M11*C11*100000)*SQRT(((I11*4.003)/((1+0.0045*0.1*C11)*8314.5*(E11+273)))*(2/(I11+1))^((I11+1)/(I11-1))) -> 0.0021763882 | W11: =IF(C11>O11,(J11*M11)*(SQRT(I11*F11*C11*((2/I11+1)^((I11+1)/(I11-1))))),0) -> 6.219819e-08 | X11: =IF(C11>O11,0,(J11*(PI()/4)*((L11/1000)^2)*F11*(2*(((C11-D11)*100000))/(F11*(1-(L11/K11)^4)))^0.5)) -> 0 | Y11: =U11 -> 3.1645799e-06 | Z11: =(Y11/F11)*1000*60 -> 5319.6509
B12: 7 | C12: =C11 -> 200 | D12: =(C12/50)*B12 -> 28 | E12: 0 | F12: =((4*C12)/(0.0821*(E12+273)))/1000/1000 -> 3.5693093e-05 | G12: 5.1926 | H12: 3.1156 | I12: =G12/H12 -> 1.6666453 | J12: 0.6 | K12: 5 | L12: 0.5 | M12: =PI()*(L12/1000/2)^2 -> 1.9634954e-07 | N12: =(2/(I12+1))^(I12/(I12-1)) -> 0.48714231 | O12: =D12/N12 -> 57.47807 | P12: =C12/D12 -> 7.1428571 | Q12: =IF(C12>O12,"SONIC","SUBSONIC") -> SONIC | R12: =(J12*(PI()/4)*((L12/1000)^2)*F12*(2*(((O12-D12)*100000))/(F12*(1-(L12/K12)^4)))^0.5) -> 1.7090685e-06 | S12: =(J12*(PI()/4)*((L12/1000)^2)*F12*(2*(((C12-D12)*100000))/(F12*(1-(L12/K12)^4)))^0.5) -> 4.1283278e-06 | T12: {=MAX((Q12:Q46="SONIC")*R12:R46)} -> 3.1645799e-06 | U12: =IF(C12>O12,T12,S12) -> 3.1645799e-06 | V12: =(J12*M12*C12*100000)*SQRT(((I12*4.003)/((1+0.0045*0.1*C12)*8314.5*(E12+273)))*(2/(I12+1))^((I12+1)/(I12-1))) -> 0.0021763882 | W12: =IF(C12>O12,(J12*M12)*(SQRT(I12*F12*C12*((2/I12+1)^((I12+1)/(I12-1))))),0) -> 6.219819e-08 | X12: =IF(C12>O12,0,(J12*(PI()/4)*((L12/1000)^2)*F12*(2*(((C12-D12)*100000))/(F12*(1-(L12/K12)^4)))^0.5)) -> 0 | Y12: =U12 -> 3.1645799e-06 | Z12: =(Y12/F12)*1000*60 -> 5319.6509
B13: 8 | C13: =C12 -> 200 | D13: =(C13/50)*B13 -> 32 | E13: 0 | F13: =((4*C13)/(0.0821*(E13+273)))/1000/1000 -> 3.5693093e-05 | G13: 5.1926 | H13: 3.1156 | I13: =G13/H13 -> 1.6666453 | J13: 0.6 | K13: 5 | L13: 0.5 | M13: =PI()*(L13/1000/2)^2 -> 1.9634954e-07 | N13: =(2/(I13+1))^(I13/(I13-1)) -> 0.48714231 | O13: =D13/N13 -> 65.689223 | P13: =C13/D13 -> 6.25 | Q13: =IF(C13>O13,"SONIC","SUBSONIC") -> SONIC | R13: =(J13*(PI()/4)*((L13/1000)^2)*F13*(2*(((O13-D13)*100000))/(F13*(1-(L13/K13)^4)))^0.5) -> 1.8270711e-06 | S13: =(J13*(PI()/4)*((L13/1000)^2)*F13*(2*(((C13-D13)*100000))/(F13*(1-(L13/K13)^4)))^0.5) -> 4.0800416e-06 | T13: {=MAX((Q13:Q47="SONIC")*R13:R47)} -> 3.1645799e-06 | U13: =IF(C13>O13,T13,S13) -> 3.1645799e-06 | V13: =(J13*M13*C13*100000)*SQRT(((I13*4.003)/((1+0.0045*0.1*C13)*8314.5*(E13+273)))*(2/(I13+1))^((I13+1)/(I13-1))) -> 0.0021763882 | W13: =IF(C13>O13,(J13*M13)*(SQRT(I13*F13*C13*((2/I13+1)^((I13+1)/(I13-1))))),0) -> 6.219819e-08 | X13: =IF(C13>O13,0,(J13*(PI()/4)*((L13/1000)^2)*F13*(2*(((C13-D13)*100000))/(F13*(1-(L13/K13)^4)))^0.5)) -> 0 | Y13: =U13 -> 3.1645799e-06 | Z13: =(Y13/F13)*1000*60 -> 5319.6509
B14: 9 | C14: =C13 -> 200 | D14: =(C14/50)*B14 -> 36 | E14: 0 | F14: =((4*C14)/(0.0821*(E14+273)))/1000/1000 -> 3.5693093e-05 | G14: 5.1926 | H14: 3.1156 | I14: =G14/H14 -> 1.6666453 | J14: 0.6 | K14: 5 | L14: 0.5 | M14: =PI()*(L14/1000/2)^2 -> 1.9634954e-07 | N14: =(2/(I14+1))^(I14/(I14-1)) -> 0.48714231 | O14: =D14/N14 -> 73.900376 | P14: =C14/D14 -> 5.5555556 | Q14: =IF(C14>O14,"SONIC","SUBSONIC") -> SONIC | R14: =(J14*(PI()/4)*((L14/1000)^2)*F14*(2*(((O14-D14)*100000))/(F14*(1-(L14/K14)^4)))^0.5) -> 1.9379015e-06 | S14: =(J14*(PI()/4)*((L14/1000)^2)*F14*(2*(((C14-D14)*100000))/(F14*(1-(L14/K14)^4)))^0.5) -> 4.031177e-06 | T14: {=MAX((Q14:Q48="SONIC")*R14:R48)} -> 3.1645799e-06 | U14: =IF(C14>O14,T14,S14) -> 3.1645799e-06 | V14: =(J14*M14*C14*100000)*SQRT(((I14*4.003)/((1+0.0045*0.1*C14)*8314.5*(E14+273)))*(2/(I14+1))^((I14+1)/(I14-1))) -> 0.0021763882 | W14: =IF(C14>O14,(J14*M14)*(SQRT(I14*F14*C14*((2/I14+1)^((I14+1)/(I14-1))))),0) -> 6.219819e-08 | X14: =IF(C14>O14,0,(J14*(PI()/4)*((L14/1000)^2)*F14*(2*(((C14-D14)*100000))/(F14*(1-(L14/K14)^4)))^0.5)) -> 0 | Y14: =U14 -> 3.1645799e-06 | Z14: =(Y14/F14)*1000*60 -> 5319.6509
B15: 10 | C15: =C14 -> 200 | D15: =(C15/50)*B15 -> 40 | E15: 0 | F15: =((4*C15)/(0.0821*(E15+273)))/1000/1000 -> 3.5693093e-05 | G15: 5.1926 | H15: 3.1156 | I15: =G15/H15 -> 1.6666453 | J15: 0.6 | K15: 5 | L15: 0.5 | M15: =PI()*(L15/1000/2)^2 -> 1.9634954e-07 | N15: =(2/(I15+1))^(I15/(I15-1)) -> 0.48714231 | O15: =D15/N15 -> 82.111528 | P15: =C15/D15 -> 5 | Q15: =IF(C15>O15,"SONIC","SUBSONIC") -> SONIC | R15: =(J15*(PI()/4)*((L15/1000)^2)*F15*(2*(((O15-D15)*100000))/(F15*(1-(L15/K15)^4)))^0.5) -> 2.0427276e-06 | S15: =(J15*(PI()/4)*((L15/1000)^2)*F15*(2*(((C15-D15)*100000))/(F15*(1-(L15/K15)^4)))^0.5) -> 3.9817129e-06 | T15: {=MAX((Q15:Q49="SONIC")*R15:R49)} -> 3.1645799e-06 | U15: =IF(C15>O15,T15,S15) -> 3.1645799e-06 | V15: =(J15*M15*C15*100000)*SQRT(((I15*4.003)/((1+0.0045*0.1*C15)*8314.5*(E15+273)))*(2/(I15+1))^((I15+1)/(I15-1))) -> 0.0021763882 | W15: =IF(C15>O15,(J15*M15)*(SQRT(I15*F15*C15*((2/I15+1)^((I15+1)/(I15-1))))),0) -> 6.219819e-08 | X15: =IF(C15>O15,0,(J15*(PI()/4)*((L15/1000)^2)*F15*(2*(((C15-D15)*100000))/(F15*(1-(L15/K15)^4)))^0.5)) -> 0 | Y15: =U15 -> 3.1645799e-06 | Z15: =(Y15/F15)*1000*60 -> 5319.6509 | AC15: heat capacity ratio | AD15: https://www.ohio.edu/mechanical/thermo/property_tables/gas/idealGas.html
B16: 11 | C16: =C15 -> 200 | D16: =(C16/50)*B16 -> 44 | E16: 0 | F16: =((4*C16)/(0.0821*(E16+273)))/1000/1000 -> 3.5693093e-05 | G16: 5.1926 | H16: 3.1156 | I16: =G16/H16 -> 1.6666453 | J16: 0.6 | K16: 5 | L16: 0.5 | M16: =PI()*(L16/1000/2)^2 -> 1.9634954e-07 | N16: =(2/(I16+1))^(I16/(I16-1)) -> 0.48714231 | O16: =D16/N16 -> 90.322681 | P16: =C16/D16 -> 4.5454545 | Q16: =IF(C16>O16,"SONIC","SUBSONIC") -> SONIC | R16: =(J16*(PI()/4)*((L16/1000)^2)*F16*(2*(((O16-D16)*100000))/(F16*(1-(L16/K16)^4)))^0.5) -> 2.1424307e-06 | S16: =(J16*(PI()/4)*((L16/1000)^2)*F16*(2*(((C16-D16)*100000))/(F16*(1-(L16/K16)^4)))^0.5) -> 3.9316264e-06 | T16: {=MAX((Q16:Q50="SONIC")*R16:R50)} -> 3.1645799e-06 | U16: =IF(C16>O16,T16,S16) -> 3.1645799e-06 | V16: =(J16*M16*C16*100000)*SQRT(((I16*4.003)/((1+0.0045*0.1*C16)*8314.5*(E16+273)))*(2/(I16+1))^((I16+1)/(I16-1))) -> 0.0021763882 | W16: =IF(C16>O16,(J16*M16)*(SQRT(I16*F16*C16*((2/I16+1)^((I16+1)/(I16-1))))),0) -> 6.219819e-08 | X16: =IF(C16>O16,0,(J16*(PI()/4)*((L16/1000)^2)*F16*(2*(((C16-D16)*100000))/(F16*(1-(L16/K16)^4)))^0.5)) -> 0 | Y16: =U16 -> 3.1645799e-06 | Z16: =(Y16/F16)*1000*60 -> 5319.6509
B17: 12 | C17: =C16 -> 200 | D17: =(C17/50)*B17 -> 48 | E17: 0 | F17: =((4*C17)/(0.0821*(E17+273)))/1000/1000 -> 3.5693093e-05 | G17: 5.1926 | H17: 3.1156 | I17: =G17/H17 -> 1.6666453 | J17: 0.6 | K17: 5 | L17: 0.5 | M17: =PI()*(L17/1000/2)^2 -> 1.9634954e-07 | N17: =(2/(I17+1))^(I17/(I17-1)) -> 0.48714231 | O17: =D17/N17 -> 98.533834 | P17: =C17/D17 -> 4.1666667 | Q17: =IF(C17>O17,"SONIC","SUBSONIC") -> SONIC | R17: =(J17*(PI()/4)*((L17/1000)^2)*F17*(2*(((O17-D17)*100000))/(F17*(1-(L17/K17)^4)))^0.5) -> 2.2376959e-06 | S17: =(J17*(PI()/4)*((L17/1000)^2)*F17*(2*(((C17-D17)*100000))/(F17*(1-(L17/K17)^4)))^0.5) -> 3.8808936e-06 | T17: {=MAX((Q17:Q51="SONIC")*R17:R51)} -> 3.1645799e-06 | U17: =IF(C17>O17,T17,S17) -> 3.1645799e-06 | V17: =(J17*M17*C17*100000)*SQRT(((I17*4.003)/((1+0.0045*0.1*C17)*8314.5*(E17+273)))*(2/(I17+1))^((I17+1)/(I17-1))) -> 0.0021763882 | W17: =IF(C17>O17,(J17*M17)*(SQRT(I17*F17*C17*((2/I17+1)^((I17+1)/(I17-1))))),0) -> 6.219819e-08 | X17: =IF(C17>O17,0,(J17*(PI()/4)*((L17/1000)^2)*F17*(2*(((C17-D17)*100000))/(F17*(1-(L17/K17)^4)))^0.5)) -> 0 | Y17: =U17 -> 3.1645799e-06 | Z17: =(Y17/F17)*1000*60 -> 5319.6509
B18: 13 | C18: =C17 -> 200 | D18: =(C18/50)*B18 -> 52 | E18: 0 | F18: =((4*C18)/(0.0821*(E18+273)))/1000/1000 -> 3.5693093e-05 | G18: 5.1926 | H18: 3.1156 | I18: =G18/H18 -> 1.6666453 | J18: 0.6 | K18: 5 | L18: 0.5 | M18: =PI()*(L18/1000/2)^2 -> 1.9634954e-07 | N18: =(2/(I18+1))^(I18/(I18-1)) -> 0.48714231 | O18: =D18/N18 -> 106.74499 | P18: =C18/D18 -> 3.8461538 | Q18: =IF(C18>O18,"SONIC","SUBSONIC") -> SONIC | R18: =(J18*(PI()/4)*((L18/1000)^2)*F18*(2*(((O18-D18)*100000))/(F18*(1-(L18/K18)^4)))^0.5) -> 2.3290678e-06 | S18: =(J18*(PI()/4)*((L18/1000)^2)*F18*(2*(((C18-D18)*100000))/(F18*(1-(L18/K18)^4)))^0.5) -> 3.8294888e-06 | T18: {=MAX((Q18:Q52="SONIC")*R18:R52)} -> 3.1645799e-06 | U18: =IF(C18>O18,T18,S18) -> 3.1645799e-06 | V18: =(J18*M18*C18*100000)*SQRT(((I18*4.003)/((1+0.0045*0.1*C18)*8314.5*(E18+273)))*(2/(I18+1))^((I18+1)/(I18-1))) -> 0.0021763882 | W18: =IF(C18>O18,(J18*M18)*(SQRT(I18*F18*C18*((2/I18+1)^((I18+1)/(I18-1))))),0) -> 6.219819e-08 | X18: =IF(C18>O18,0,(J18*(PI()/4)*((L18/1000)^2)*F18*(2*(((C18-D18)*100000))/(F18*(1-(L18/K18)^4)))^0.5)) -> 0 | Y18: =U18 -> 3.1645799e-06 | Z18: =(Y18/F18)*1000*60 -> 5319.6509
B19: 14 | C19: =C18 -> 200 | D19: =(C19/50)*B19 -> 56 | E19: 0 | F19: =((4*C19)/(0.0821*(E19+273)))/1000/1000 -> 3.5693093e-05 | G19: 5.1926 | H19: 3.1156 | I19: =G19/H19 -> 1.6666453 | J19: 0.6 | K19: 5 | L19: 0.5 | M19: =PI()*(L19/1000/2)^2 -> 1.9634954e-07 | N19: =(2/(I19+1))^(I19/(I19-1)) -> 0.48714231 | O19: =D19/N19 -> 114.95614 | P19: =C19/D19 -> 3.5714286 | Q19: =IF(C19>O19,"SONIC","SUBSONIC") -> SONIC | R19: =(J19*(PI()/4)*((L19/1000)^2)*F19*(2*(((O19-D19)*100000))/(F19*(1-(L19/K19)^4)))^0.5) -> 2.4169878e-06 | S19: =(J19*(PI()/4)*((L19/1000)^2)*F19*(2*(((C19-D19)*100000))/(F19*(1-(L19/K19)^4)))^0.5) -> 3.7773845e-06 | T19: {=MAX((Q19:Q53="SONIC")*R19:R53)} -> 3.1645799e-06 | U19: =IF(C19>O19,T19,S19) -> 3.1645799e-06 | V19: =(J19*M19*C19*100000)*SQRT(((I19*4.003)/((1+0.0045*0.1*C19)*8314.5*(E19+273)))*(2/(I19+1))^((I19+1)/(I19-1))) -> 0.0021763882 | W19: =IF(C19>O19,(J19*M19)*(SQRT(I19*F19*C19*((2/I19+1)^((I19+1)/(I19-1))))),0) -> 6.219819e-08 | X19: =IF(C19>O19,0,(J19*(PI()/4)*((L19/1000)^2)*F19*(2*(((C19-D19)*100000))/(F19*(1-(L19/K19)^4)))^0.5)) -> 0 | Y19: =U19 -> 3.1645799e-06 | Z19: =(Y19/F19)*1000*60 -> 5319.6509
B20: 15 | C20: =C19 -> 200 | D20: =(C20/50)*B20 -> 60 | E20: 0 | F20: =((4*C20)/(0.0821*(E20+273)))/1000/1000 -> 3.5693093e-05 | G20: 5.1926 | H20: 3.1156 | I20: =G20/H20 -> 1.6666453 | J20: 0.6 | K20: 5 | L20: 0.5 | M20: =PI()*(L20/1000/2)^2 -> 1.9634954e-07 | N20: =(2/(I20+1))^(I20/(I20-1)) -> 0.48714231 | O20: =D20/N20 -> 123.16729 | P20: =C20/D20 -> 3.3333333 | Q20: =IF(C20>O20,"SONIC","SUBSONIC") -> SONIC | R20: =(J20*(PI()/4)*((L20/1000)^2)*F20*(2*(((O20-D20)*100000))/(F20*(1-(L20/K20)^4)))^0.5) -> 2.5018201e-06 | S20: =(J20*(PI()/4)*((L20/1000)^2)*F20*(2*(((C20-D20)*100000))/(F20*(1-(L20/K20)^4)))^0.5) -> 3.7245513e-06 | T20: {=MAX((Q20:Q54="SONIC")*R20:R54)} -> 3.1645799e-06 | U20: =IF(C20>O20,T20,S20) -> 3.1645799e-06 | V20: =(J20*M20*C20*100000)*SQRT(((I20*4.003)/((1+0.0045*0.1*C20)*8314.5*(E20+273)))*(2/(I20+1))^((I20+1)/(I20-1))) -> 0.0021763882 | W20: =IF(C20>O20,(J20*M20)*(SQRT(I20*F20*C20*((2/I20+1)^((I20+1)/(I20-1))))),0) -> 6.219819e-08 | X20: =IF(C20>O20,0,(J20*(PI()/4)*((L20/1000)^2)*F20*(2*(((C20-D20)*100000))/(F20*(1-(L20/K20)^4)))^0.5)) -> 0 | Y20: =U20 -> 3.1645799e-06 | Z20: =(Y20/F20)*1000*60 -> 5319.6509
B21: 16 | C21: =C20 -> 200 | D21: =(C21/50)*B21 -> 64 | E21: 0 | F21: =((4*C21)/(0.0821*(E21+273)))/1000/1000 -> 3.5693093e-05 | G21: 5.1926 | H21: 3.1156 | I21: =G21/H21 -> 1.6666453 | J21: 0.6 | K21: 5 | L21: 0.5 | M21: =PI()*(L21/1000/2)^2 -> 1.9634954e-07 | N21: =(2/(I21+1))^(I21/(I21-1)) -> 0.48714231 | O21: =D21/N21 -> 131.37845 | P21: =C21/D21 -> 3.125 | Q21: =IF(C21>O21,"SONIC","SUBSONIC") -> SONIC | R21: =(J21*(PI()/4)*((L21/1000)^2)*F21*(2*(((O21-D21)*100000))/(F21*(1-(L21/K21)^4)))^0.5) -> 2.5838687e-06 | S21: =(J21*(PI()/4)*((L21/1000)^2)*F21*(2*(((C21-D21)*100000))/(F21*(1-(L21/K21)^4)))^0.5) -> 3.6709579e-06 | T21: {=MAX((Q21:Q55="SONIC")*R21:R55)} -> 3.1645799e-06 | U21: =IF(C21>O21,T21,S21) -> 3.1645799e-06 | V21: =(J21*M21*C21*100000)*SQRT(((I21*4.003)/((1+0.0045*0.1*C21)*8314.5*(E21+273)))*(2/(I21+1))^((I21+1)/(I21-1))) -> 0.0021763882 | W21: =IF(C21>O21,(J21*M21)*(SQRT(I21*F21*C21*((2/I21+1)^((I21+1)/(I21-1))))),0) -> 6.219819e-08 | X21: =IF(C21>O21,0,(J21*(PI()/4)*((L21/1000)^2)*F21*(2*(((C21-D21)*100000))/(F21*(1-(L21/K21)^4)))^0.5)) -> 0 | Y21: =U21 -> 3.1645799e-06 | Z21: =(Y21/F21)*1000*60 -> 5319.6509
B22: 17 | C22: =C21 -> 200 | D22: =(C22/50)*B22 -> 68 | E22: 0 | F22: =((4*C22)/(0.0821*(E22+273)))/1000/1000 -> 3.5693093e-05 | G22: 5.1926 | H22: 3.1156 | I22: =G22/H22 -> 1.6666453 | J22: 0.6 | K22: 5 | L22: 0.5 | M22: =PI()*(L22/1000/2)^2 -> 1.9634954e-07 | N22: =(2/(I22+1))^(I22/(I22-1)) -> 0.48714231 | O22: =D22/N22 -> 139.5896 | P22: =C22/D22 -> 2.9411765 | Q22: =IF(C22>O22,"SONIC","SUBSONIC") -> SONIC | R22: =(J22*(PI()/4)*((L22/1000)^2)*F22*(2*(((O22-D22)*100000))/(F22*(1-(L22/K22)^4)))^0.5) -> 2.6633909e-06 | S22: =(J22*(PI()/4)*((L22/1000)^2)*F22*(2*(((C22-D22)*100000))/(F22*(1-(L22/K22)^4)))^0.5) -> 3.6165703e-06 | T22: {=MAX((Q22:Q56="SONIC")*R22:R56)} -> 3.1645799e-06 | U22: =IF(C22>O22,T22,S22) -> 3.1645799e-06 | V22: =(J22*M22*C22*100000)*SQRT(((I22*4.003)/((1+0.0045*0.1*C22)*8314.5*(E22+273)))*(2/(I22+1))^((I22+1)/(I22-1))) -> 0.0021763882 | W22: =IF(C22>O22,(J22*M22)*(SQRT(I22*F22*C22*((2/I22+1)^((I22+1)/(I22-1))))),0) -> 6.219819e-08 | X22: =IF(C22>O22,0,(J22*(PI()/4)*((L22/1000)^2)*F22*(2*(((C22-D22)*100000))/(F22*(1-(L22/K22)^4)))^0.5)) -> 0 | Y22: =U22 -> 3.1645799e-06 | Z22: =(Y22/F22)*1000*60 -> 5319.6509
B23: 18 | C23: =C22 -> 200 | D23: =(C23/50)*B23 -> 72 | E23: 0 | F23: =((4*C23)/(0.0821*(E23+273)))/1000/1000 -> 3.5693093e-05 | G23: 5.1926 | H23: 3.1156 | I23: =G23/H23 -> 1.6666453 | J23: 0.6 | K23: 5 | L23: 0.5 | M23: =PI()*(L23/1000/2)^2 -> 1.9634954e-07 | N23: =(2/(I23+1))^(I23/(I23-1)) -> 0.48714231 | O23: =D23/N23 -> 147.80075 | P23: =C23/D23 -> 2.7777778 | Q23: =IF(C23>O23,"SONIC","SUBSONIC") -> SONIC | R23: =(J23*(PI()/4)*((L23/1000)^2)*F23*(2*(((O23-D23)*100000))/(F23*(1-(L23/K23)^4)))^0.5) -> 2.7406066e-06 | S23: =(J23*(PI()/4)*((L23/1000)^2)*F23*(2*(((C23-D23)*100000))/(F23*(1-(L23/K23)^4)))^0.5) -> 3.5613522e-06 | T23: {=MAX((Q23:Q57="SONIC")*R23:R57)} -> 3.1645799e-06 | U23: =IF(C23>O23,T23,S23) -> 3.1645799e-06 | V23: =(J23*M23*C23*100000)*SQRT(((I23*4.003)/((1+0.0045*0.1*C23)*8314.5*(E23+273)))*(2/(I23+1))^((I23+1)/(I23-1))) -> 0.0021763882 | W23: =IF(C23>O23,(J23*M23)*(SQRT(I23*F23*C23*((2/I23+1)^((I23+1)/(I23-1))))),0) -> 6.219819e-08 | X23: =IF(C23>O23,0,(J23*(PI()/4)*((L23/1000)^2)*F23*(2*(((C23-D23)*100000))/(F23*(1-(L23/K23)^4)))^0.5)) -> 0 | Y23: =U23 -> 3.1645799e-06 | Z23: =(Y23/F23)*1000*60 -> 5319.6509
B24: 19 | C24: =C23 -> 200 | D24: =(C24/50)*B24 -> 76 | E24: 0 | F24: =((4*C24)/(0.0821*(E24+273)))/1000/1000 -> 3.5693093e-05 | G24: 5.1926 | H24: 3.1156 | I24: =G24/H24 -> 1.6666453 | J24: 0.6 | K24: 5 | L24: 0.5 | M24: =PI()*(L24/1000/2)^2 -> 1.9634954e-07 | N24: =(2/(I24+1))^(I24/(I24-1)) -> 0.48714231 | O24: =D24/N24 -> 156.0119 | P24: =C24/D24 -> 2.6315789 | Q24: =IF(C24>O24,"SONIC","SUBSONIC") -> SONIC | R24: =(J24*(PI()/4)*((L24/1000)^2)*F24*(2*(((O24-D24)*100000))/(F24*(1-(L24/K24)^4)))^0.5) -> 2.8157056e-06 | S24: =(J24*(PI()/4)*((L24/1000)^2)*F24*(2*(((C24-D24)*100000))/(F24*(1-(L24/K24)^4)))^0.5) -> 3.5052644e-06 | T24: {=MAX((Q24:Q58="SONIC")*R24:R58)} -> 3.1645799e-06 | U24: =IF(C24>O24,T24,S24) -> 3.1645799e-06 | V24: =(J24*M24*C24*100000)*SQRT(((I24*4.003)/((1+0.0045*0.1*C24)*8314.5*(E24+273)))*(2/(I24+1))^((I24+1)/(I24-1))) -> 0.0021763882 | W24: =IF(C24>O24,(J24*M24)*(SQRT(I24*F24*C24*((2/I24+1)^((I24+1)/(I24-1))))),0) -> 6.219819e-08 | X24: =IF(C24>O24,0,(J24*(PI()/4)*((L24/1000)^2)*F24*(2*(((C24-D24)*100000))/(F24*(1-(L24/K24)^4)))^0.5)) -> 0 | Y24: =U24 -> 3.1645799e-06 | Z24: =(Y24/F24)*1000*60 -> 5319.6509 | AA24: =Z24/1139 -> 4.6704574
B25: 20 | C25: =C24 -> 200 | D25: =(C25/50)*B25 -> 80 | E25: 0 | F25: =((4*C25)/(0.0821*(E25+273)))/1000/1000 -> 3.5693093e-05 | G25: 5.1926 | H25: 3.1156 | I25: =G25/H25 -> 1.6666453 | J25: 0.6 | K25: 5 | L25: 0.5 | M25: =PI()*(L25/1000/2)^2 -> 1.9634954e-07 | N25: =(2/(I25+1))^(I25/(I25-1)) -> 0.48714231 | O25: =D25/N25 -> 164.22306 | P25: =C25/D25 -> 2.5 | Q25: =IF(C25>O25,"SONIC","SUBSONIC") -> SONIC | R25: =(J25*(PI()/4)*((L25/1000)^2)*F25*(2*(((O25-D25)*100000))/(F25*(1-(L25/K25)^4)))^0.5) -> 2.888853e-06 | S25: =(J25*(PI()/4)*((L25/1000)^2)*F25*(2*(((C25-D25)*100000))/(F25*(1-(L25/K25)^4)))^0.5) -> 3.4482645e-06 | T25: {=MAX((Q25:Q59="SONIC")*R25:R59)} -> 3.1645799e-06 | U25: =IF(C25>O25,T25,S25) -> 3.1645799e-06 | V25: =(J25*M25*C25*100000)*SQRT(((I25*4.003)/((1+0.0045*0.1*C25)*8314.5*(E25+273)))*(2/(I25+1))^((I25+1)/(I25-1))) -> 0.0021763882 | W25: =IF(C25>O25,(J25*M25)*(SQRT(I25*F25*C25*((2/I25+1)^((I25+1)/(I25-1))))),0) -> 6.219819e-08 | X25: =IF(C25>O25,0,(J25*(PI()/4)*((L25/1000)^2)*F25*(2*(((C25-D25)*100000))/(F25*(1-(L25/K25)^4)))^0.5)) -> 0 | Y25: =U25 -> 3.1645799e-06 | Z25: =(Y25/F25)*1000*60 -> 5319.6509 | AA25: 4.72e-06 | AB25: <eng tool box
B26: 21 | C26: =C25 -> 200 | D26: =(C26/50)*B26 -> 84 | E26: 0 | F26: =((4*C26)/(0.0821*(E26+273)))/1000/1000 -> 3.5693093e-05 | G26: 5.1926 | H26: 3.1156 | I26: =G26/H26 -> 1.6666453 | J26: 0.6 | K26: 5 | L26: 0.5 | M26: =PI()*(L26/1000/2)^2 -> 1.9634954e-07 | N26: =(2/(I26+1))^(I26/(I26-1)) -> 0.48714231 | O26: =D26/N26 -> 172.43421 | P26: =C26/D26 -> 2.3809524 | Q26: =IF(C26>O26,"SONIC","SUBSONIC") -> SONIC | R26: =(J26*(PI()/4)*((L26/1000)^2)*F26*(2*(((O26-D26)*100000))/(F26*(1-(L26/K26)^4)))^0.5) -> 2.9601935e-06 | S26: =(J26*(PI()/4)*((L26/1000)^2)*F26*(2*(((C26-D26)*100000))/(F26*(1-(L26/K26)^4)))^0.5) -> 3.3903063e-06 | T26: {=MAX((Q26:Q60="SONIC")*R26:R60)} -> 3.1645799e-06 | U26: =IF(C26>O26,T26,S26) -> 3.1645799e-06 | V26: =(J26*M26*C26*100000)*SQRT(((I26*4.003)/((1+0.0045*0.1*C26)*8314.5*(E26+273)))*(2/(I26+1))^((I26+1)/(I26-1))) -> 0.0021763882 | W26: =IF(C26>O26,(J26*M26)*(SQRT(I26*F26*C26*((2/I26+1)^((I26+1)/(I26-1))))),0) -> 6.219819e-08 | X26: =IF(C26>O26,0,(J26*(PI()/4)*((L26/1000)^2)*F26*(2*(((C26-D26)*100000))/(F26*(1-(L26/K26)^4)))^0.5)) -> 0 | Y26: =U26 -> 3.1645799e-06 | Z26: =(Y26/F26)*1000*60 -> 5319.6509
B27: 22 | C27: =C26 -> 200 | D27: =(C27/50)*B27 -> 88 | E27: 0 | F27: =((4*C27)/(0.0821*(E27+273)))/1000/1000 -> 3.5693093e-05 | G27: 5.1926 | H27: 3.1156 | I27: =G27/H27 -> 1.6666453 | J27: 0.6 | K27: 5 | L27: 0.5 | M27: =PI()*(L27/1000/2)^2 -> 1.9634954e-07 | N27: =(2/(I27+1))^(I27/(I27-1)) -> 0.48714231 | O27: =D27/N27 -> 180.64536 | P27: =C27/D27 -> 2.2727273 | Q27: =IF(C27>O27,"SONIC","SUBSONIC") -> SONIC | R27: =IF(C27>O27,(J27*(PI()/4)*((L27/1000)^2)*F27*(2*(((O27-D27)*100000))/(F27*(1-(L27/K27)^4)))^0.5),(J27*(PI()/4)*((L27/1000)^2)*F27*(2*(((C27-D27)*100000))/(F27*(1-(L27/K27)^4)))^0.5)) -> 3.0298546e-06 | S27: =(J27*(PI()/4)*((L27/1000)^2)*F27*(2*(((C27-D27)*100000))/(F27*(1-(L27/K27)^4)))^0.5) -> 3.33134e-06 | T27: {=MAX((Q27:Q61="SONIC")*R27:R61)} -> 3.1645799e-06 | U27: =IF(C27>O27,T27,S27) -> 3.1645799e-06 | V27: =(J27*M27*C27*100000)*SQRT(((I27*4.003)/((1+0.0045*0.1*C27)*8314.5*(E27+273)))*(2/(I27+1))^((I27+1)/(I27-1))) -> 0.0021763882 | W27: =IF(C27>O27,(J27*M27)*(SQRT(I27*F27*C27*((2/I27+1)^((I27+1)/(I27-1))))),0) -> 6.219819e-08 | X27: =IF(C27>O27,0,(J27*(PI()/4)*((L27/1000)^2)*F27*(2*(((C27-D27)*100000))/(F27*(1-(L27/K27)^4)))^0.5)) -> 0 | Y27: =U27 -> 3.1645799e-06 | Z27: =(Y27/F27)*1000*60 -> 5319.6509
B28: 23 | C28: =C27 -> 200 | D28: =(C28/50)*B28 -> 92 | E28: 0 | F28: =((4*C28)/(0.0821*(E28+273)))/1000/1000 -> 3.5693093e-05 | G28: 5.1926 | H28: 3.1156 | I28: =G28/H28 -> 1.6666453 | J28: 0.6 | K28: 5 | L28: 0.5 | M28: =PI()*(L28/1000/2)^2 -> 1.9634954e-07 | N28: =(2/(I28+1))^(I28/(I28-1)) -> 0.48714231 | O28: =D28/N28 -> 188.85652 | P28: =C28/D28 -> 2.173913 | Q28: =IF(C28>O28,"SONIC","SUBSONIC") -> SONIC | R28: =IF(C28>O28,(J28*(PI()/4)*((L28/1000)^2)*F28*(2*(((O28-D28)*100000))/(F28*(1-(L28/K28)^4)))^0.5),(J28*(PI()/4)*((L28/1000)^2)*F28*(2*(((C28-D28)*100000))/(F28*(1-(L28/K28)^4)))^0.5)) -> 3.0979497e-06 | S28: =(J28*(PI()/4)*((L28/1000)^2)*F28*(2*(((C28-D28)*100000))/(F28*(1-(L28/K28)^4)))^0.5) -> 3.2713109e-06 | T28: {=MAX((Q28:Q62="SONIC")*R28:R62)} -> 3.1645799e-06 | U28: =IF(C28>O28,T28,S28) -> 3.1645799e-06 | V28: =(J28*M28*C28*100000)*SQRT(((I28*4.003)/((1+0.0045*0.1*C28)*8314.5*(E28+273)))*(2/(I28+1))^((I28+1)/(I28-1))) -> 0.0021763882 | W28: =IF(C28>O28,(J28*M28)*(SQRT(I28*F28*C28*((2/I28+1)^((I28+1)/(I28-1))))),0) -> 6.219819e-08 | X28: =IF(C28>O28,0,(J28*(PI()/4)*((L28/1000)^2)*F28*(2*(((C28-D28)*100000))/(F28*(1-(L28/K28)^4)))^0.5)) -> 0 | Y28: =U28 -> 3.1645799e-06 | Z28: =(Y28/F28)*1000*60 -> 5319.6509
B29: 24 | C29: =C28 -> 200 | D29: =(C29/50)*B29 -> 96 | E29: 0 | F29: =((4*C29)/(0.0821*(E29+273)))/1000/1000 -> 3.5693093e-05 | G29: 5.1926 | H29: 3.1156 | I29: =G29/H29 -> 1.6666453 | J29: 0.6 | K29: 5 | L29: 0.5 | M29: =PI()*(L29/1000/2)^2 -> 1.9634954e-07 | N29: =(2/(I29+1))^(I29/(I29-1)) -> 0.48714231 | O29: =D29/N29 -> 197.06767 | P29: =C29/D29 -> 2.0833333 | Q29: =IF(C29>O29,"SONIC","SUBSONIC") -> SONIC | R29: =IF(C29>O29,(J29*(PI()/4)*((L29/1000)^2)*F29*(2*(((O29-D29)*100000))/(F29*(1-(L29/K29)^4)))^0.5),(J29*(PI()/4)*((L29/1000)^2)*F29*(2*(((C29-D29)*100000))/(F29*(1-(L29/K29)^4)))^0.5)) -> 3.1645799e-06 | S29: =(J29*(PI()/4)*((L29/1000)^2)*F29*(2*(((C29-D29)*100000))/(F29*(1-(L29/K29)^4)))^0.5) -> 3.2101595e-06 | T29: {=MAX((Q29:Q63="SONIC")*R29:R63)} -> 3.1645799e-06 | U29: =IF(C29>O29,T29,S29) -> 3.1645799e-06 | V29: =(J29*M29*C29*100000)*SQRT(((I29*4.003)/((1+0.0045*0.1*C29)*8314.5*(E29+273)))*(2/(I29+1))^((I29+1)/(I29-1))) -> 0.0021763882 | W29: =IF(C29>O29,(J29*M29)*(SQRT(I29*F29*C29*((2/I29+1)^((I29+1)/(I29-1))))),0) -> 6.219819e-08 | X29: =IF(C29>O29,0,(J29*(PI()/4)*((L29/1000)^2)*F29*(2*(((C29-D29)*100000))/(F29*(1-(L29/K29)^4)))^0.5)) -> 0 | Y29: =U29 -> 3.1645799e-06 | Z29: =(Y29/F29)*1000*60 -> 5319.6509
B30: 25 | C30: =C29 -> 200 | D30: =(C30/50)*B30 -> 100 | E30: 0 | F30: =((4*C30)/(0.0821*(E30+273)))/1000/1000 -> 3.5693093e-05 | G30: 5.1926 | H30: 3.1156 | I30: =G30/H30 -> 1.6666453 | J30: 0.6 | K30: 5 | L30: 0.5 | M30: =PI()*(L30/1000/2)^2 -> 1.9634954e-07 | N30: =(2/(I30+1))^(I30/(I30-1)) -> 0.48714231 | O30: =D30/N30 -> 205.27882 | P30: =C30/D30 -> 2 | Q30: =IF(C30>O30,"SONIC","SUBSONIC") -> SUBSONIC | R30: =IF(C30>O30,(J30*(PI()/4)*((L30/1000)^2)*F30*(2*(((O30-D30)*100000))/(F30*(1-(L30/K30)^4)))^0.5),(J30*(PI()/4)*((L30/1000)^2)*F30*(2*(((C30-D30)*100000))/(F30*(1-(L30/K30)^4)))^0.5)) -> 3.1478204e-06 | S30: =(J30*(PI()/4)*((L30/1000)^2)*F30*(2*(((C30-D30)*100000))/(F30*(1-(L30/K30)^4)))^0.5) -> 3.1478204e-06 | T30: {=MAX((Q30:Q64="SONIC")*R30:R64)} -> 0 | U30: =IF(C30>O30,T30,S30) -> 3.1478204e-06 | W30: =IF(C30>O30,(J30*M30)*(SQRT(I30*F30*C30*((2/I30+1)^((I30+1)/(I30-1))))),0) -> 0 | X30: =IF(C30>O30,0,(J30*(PI()/4)*((L30/1000)^2)*F30*(2*(((C30-D30)*100000))/(F30*(1-(L30/K30)^4)))^0.5)) -> 3.1478204e-06 | Y30: =U30 -> 3.1478204e-06 | Z30: =(Y30/F30)*1000*60 -> 5291.4782
B31: 26 | C31: =C30 -> 200 | D31: =(C31/50)*B31 -> 104 | E31: 0 | F31: =((4*C31)/(0.0821*(E31+273)))/1000/1000 -> 3.5693093e-05 | G31: 5.1926 | H31: 3.1156 | I31: =G31/H31 -> 1.6666453 | J31: 0.6 | K31: 5 | L31: 0.5 | M31: =PI()*(L31/1000/2)^2 -> 1.9634954e-07 | N31: =(2/(I31+1))^(I31/(I31-1)) -> 0.48714231 | O31: =D31/N31 -> 213.48997 | P31: =C31/D31 -> 1.9230769 | Q31: =IF(C31>O31,"SONIC","SUBSONIC") -> SUBSONIC | R31: =IF(C31>O31,(J31*(PI()/4)*((L31/1000)^2)*F31*(2*(((O31-D31)*100000))/(F31*(1-(L31/K31)^4)))^0.5),(J31*(PI()/4)*((L31/1000)^2)*F31*(2*(((C31-D31)*100000))/(F31*(1-(L31/K31)^4)))^0.5)) -> 3.0842215e-06 | S31: =(J31*(PI()/4)*((L31/1000)^2)*F31*(2*(((C31-D31)*100000))/(F31*(1-(L31/K31)^4)))^0.5) -> 3.0842215e-06 | T31: {=MAX((Q31:Q65="SONIC")*R31:R65)} -> 0 | U31: =IF(C31>O31,T31,S31) -> 3.0842215e-06 | W31: =IF(C31>O31,(J31*M31)*(SQRT(I31*F31*C31*((2/I31+1)^((I31+1)/(I31-1))))),0) -> 0 | X31: =IF(C31>O31,0,(J31*(PI()/4)*((L31/1000)^2)*F31*(2*(((C31-D31)*100000))/(F31*(1-(L31/K31)^4)))^0.5)) -> 3.0842215e-06 | Y31: =U31 -> 3.0842215e-06 | Z31: =(Y31/F31)*1000*60 -> 5184.5687
B32: 27 | C32: =C31 -> 200 | D32: =(C32/50)*B32 -> 108 | E32: 0 | F32: =((4*C32)/(0.0821*(E32+273)))/1000/1000 -> 3.5693093e-05 | G32: 5.1926 | H32: 3.1156 | I32: =G32/H32 -> 1.6666453 | J32: 0.6 | K32: 5 | L32: 0.5 | M32: =PI()*(L32/1000/2)^2 -> 1.9634954e-07 | N32: =(2/(I32+1))^(I32/(I32-1)) -> 0.48714231 | O32: =D32/N32 -> 221.70113 | P32: =C32/D32 -> 1.8518519 | Q32: =IF(C32>O32,"SONIC","SUBSONIC") -> SUBSONIC | R32: =IF(C32>O32,(J32*(PI()/4)*((L32/1000)^2)*F32*(2*(((O32-D32)*100000))/(F32*(1-(L32/K32)^4)))^0.5),(J32*(PI()/4)*((L32/1000)^2)*F32*(2*(((C32-D32)*100000))/(F32*(1-(L32/K32)^4)))^0.5)) -> 3.0192833e-06 | S32: =(J32*(PI()/4)*((L32/1000)^2)*F32*(2*(((C32-D32)*100000))/(F32*(1-(L32/K32)^4)))^0.5) -> 3.0192833e-06 | T32: {=MAX((Q32:Q66="SONIC")*R32:R66)} -> 0 | U32: =IF(C32>O32,T32,S32) -> 3.0192833e-06 | W32: =IF(C32>O32,(J32*M32)*(SQRT(I32*F32*C32*((2/I32+1)^((I32+1)/(I32-1))))),0) -> 0 | X32: =IF(C32>O32,0,(J32*(PI()/4)*((L32/1000)^2)*F32*(2*(((C32-D32)*100000))/(F32*(1-(L32/K32)^4)))^0.5)) -> 3.0192833e-06 | Y32: =U32 -> 3.0192833e-06 | Z32: =(Y32/F32)*1000*60 -> 5075.4076
B33: 28 | C33: =C32 -> 200 | D33: =(C33/50)*B33 -> 112 | E33: 0 | F33: =((4*C33)/(0.0821*(E33+273)))/1000/1000 -> 3.5693093e-05 | G33: 5.1926 | H33: 3.1156 | I33: =G33/H33 -> 1.6666453 | J33: 0.6 | K33: 5 | L33: 0.5 | M33: =PI()*(L33/1000/2)^2 -> 1.9634954e-07 | N33: =(2/(I33+1))^(I33/(I33-1)) -> 0.48714231 | O33: =D33/N33 -> 229.91228 | P33: =C33/D33 -> 1.7857143 | Q33: =IF(C33>O33,"SONIC","SUBSONIC") -> SUBSONIC | R33: =IF(C33>O33,(J33*(PI()/4)*((L33/1000)^2)*F33*(2*(((O33-D33)*100000))/(F33*(1-(L33/K33)^4)))^0.5),(J33*(PI()/4)*((L33/1000)^2)*F33*(2*(((C33-D33)*100000))/(F33*(1-(L33/K33)^4)))^0.5)) -> 2.9529173e-06 | S33: =(J33*(PI()/4)*((L33/1000)^2)*F33*(2*(((C33-D33)*100000))/(F33*(1-(L33/K33)^4)))^0.5) -> 2.9529173e-06 | T33: {=MAX((Q33:Q67="SONIC")*R33:R67)} -> 0 | U33: =IF(C33>O33,T33,S33) -> 2.9529173e-06 | W33: =IF(C33>O33,(J33*M33)*(SQRT(I33*F33*C33*((2/I33+1)^((I33+1)/(I33-1))))),0) -> 0 | X33: =IF(C33>O33,0,(J33*(PI()/4)*((L33/1000)^2)*F33*(2*(((C33-D33)*100000))/(F33*(1-(L33/K33)^4)))^0.5)) -> 2.9529173e-06 | Y33: =U33 -> 2.9529173e-06 | Z33: =(Y33/F33)*1000*60 -> 4963.8466
B34: 29 | C34: =C33 -> 200 | D34: =(C34/50)*B34 -> 116 | E34: 0 | F34: =((4*C34)/(0.0821*(E34+273)))/1000/1000 -> 3.5693093e-05 | G34: 5.1926 | H34: 3.1156 | I34: =G34/H34 -> 1.6666453 | J34: 0.6 | K34: 5 | L34: 0.5 | M34: =PI()*(L34/1000/2)^2 -> 1.9634954e-07 | N34: =(2/(I34+1))^(I34/(I34-1)) -> 0.48714231 | O34: =D34/N34 -> 238.12343 | P34: =C34/D34 -> 1.7241379 | Q34: =IF(C34>O34,"SONIC","SUBSONIC") -> SUBSONIC | R34: =IF(C34>O34,(J34*(PI()/4)*((L34/1000)^2)*F34*(2*(((O34-D34)*100000))/(F34*(1-(L34/K34)^4)))^0.5),(J34*(PI()/4)*((L34/1000)^2)*F34*(2*(((C34-D34)*100000))/(F34*(1-(L34/K34)^4)))^0.5)) -> 2.8850251e-06 | S34: =(J34*(PI()/4)*((L34/1000)^2)*F34*(2*(((C34-D34)*100000))/(F34*(1-(L34/K34)^4)))^0.5) -> 2.8850251e-06 | T34: {=MAX((Q34:Q68="SONIC")*R34:R68)} -> 0 | U34: =IF(C34>O34,T34,S34) -> 2.8850251e-06 | W34: =IF(C34>O34,(J34*M34)*(SQRT(I34*F34*C34*((2/I34+1)^((I34+1)/(I34-1))))),0) -> 0 | X34: =IF(C34>O34,0,(J34*(PI()/4)*((L34/1000)^2)*F34*(2*(((C34-D34)*100000))/(F34*(1-(L34/K34)^4)))^0.5)) -> 2.8850251e-06 | Y34: =U34 -> 2.8850251e-06 | Z34: =(Y34/F34)*1000*60 -> 4849.7199
B35: 30 | C35: =C34 -> 200 | D35: =(C35/50)*B35 -> 120 | E35: 0 | F35: =((4*C35)/(0.0821*(E35+273)))/1000/1000 -> 3.5693093e-05 | G35: 5.1926 | H35: 3.1156 | I35: =G35/H35 -> 1.6666453 | J35: 0.6 | K35: 5 | L35: 0.5 | M35: =PI()*(L35/1000/2)^2 -> 1.9634954e-07 | N35: =(2/(I35+1))^(I35/(I35-1)) -> 0.48714231 | O35: =D35/N35 -> 246.33459 | P35: =C35/D35 -> 1.6666667 | Q35: =IF(C35>O35,"SONIC","SUBSONIC") -> SUBSONIC | R35: =IF(C35>O35,(J35*(PI()/4)*((L35/1000)^2)*F35*(2*(((O35-D35)*100000))/(F35*(1-(L35/K35)^4)))^0.5),(J35*(PI()/4)*((L35/1000)^2)*F35*(2*(((C35-D35)*100000))/(F35*(1-(L35/K35)^4)))^0.5)) -> 2.8154962e-06 | S35: =(J35*(PI()/4)*((L35/1000)^2)*F35*(2*(((C35-D35)*100000))/(F35*(1-(L35/K35)^4)))^0.5) -> 2.8154962e-06 | T35: {=MAX((Q35:Q69="SONIC")*R35:R69)} -> 0 | U35: =IF(C35>O35,T35,S35) -> 2.8154962e-06 | W35: =IF(C35>O35,(J35*M35)*(SQRT(I35*F35*C35*((2/I35+1)^((I35+1)/(I35-1))))),0) -> 0 | X35: =IF(C35>O35,0,(J35*(PI()/4)*((L35/1000)^2)*F35*(2*(((C35-D35)*100000))/(F35*(1-(L35/K35)^4)))^0.5)) -> 2.8154962e-06 | Y35: =U35 -> 2.8154962e-06 | Z35: =(Y35/F35)*1000*60 -> 4732.842
B36: 31 | C36: =C35 -> 200 | D36: =(C36/50)*B36 -> 124 | E36: 0 | F36: =((4*C36)/(0.0821*(E36+273)))/1000/1000 -> 3.5693093e-05 | G36: 5.1926 | H36: 3.1156 | I36: =G36/H36 -> 1.6666453 | J36: 0.6 | K36: 5 | L36: 0.5 | M36: =PI()*(L36/1000/2)^2 -> 1.9634954e-07 | N36: =(2/(I36+1))^(I36/(I36-1)) -> 0.48714231 | O36: =D36/N36 -> 254.54574 | P36: =C36/D36 -> 1.6129032 | Q36: =IF(C36>O36,"SONIC","SUBSONIC") -> SUBSONIC | R36: =IF(C36>O36,(J36*(PI()/4)*((L36/1000)^2)*F36*(2*(((O36-D36)*100000))/(F36*(1-(L36/K36)^4)))^0.5),(J36*(PI()/4)*((L36/1000)^2)*F36*(2*(((C36-D36)*100000))/(F36*(1-(L36/K36)^4)))^0.5)) -> 2.7442062e-06 | S36: =(J36*(PI()/4)*((L36/1000)^2)*F36*(2*(((C36-D36)*100000))/(F36*(1-(L36/K36)^4)))^0.5) -> 2.7442062e-06 | T36: {=MAX((Q36:Q70="SONIC")*R36:R70)} -> 0 | U36: =IF(C36>O36,T36,S36) -> 2.7442062e-06 | W36: =IF(C36>O36,(J36*M36)*(SQRT(I36*F36*C36*((2/I36+1)^((I36+1)/(I36-1))))),0) -> 0 | X36: =IF(C36>O36,0,(J36*(PI()/4)*((L36/1000)^2)*F36*(2*(((C36-D36)*100000))/(F36*(1-(L36/K36)^4)))^0.5)) -> 2.7442062e-06 | Y36: =U36 -> 2.7442062e-06 | Z36: =(Y36/F36)*1000*60 -> 4613.0038
B37: 32 | C37: =C36 -> 200 | D37: =(C37/50)*B37 -> 128 | E37: 0 | F37: =((4*C37)/(0.0821*(E37+273)))/1000/1000 -> 3.5693093e-05 | G37: 5.1926 | H37: 3.1156 | I37: =G37/H37 -> 1.6666453 | J37: 0.6 | K37: 5 | L37: 0.5 | M37: =PI()*(L37/1000/2)^2 -> 1.9634954e-07 | N37: =(2/(I37+1))^(I37/(I37-1)) -> 0.48714231 | O37: =D37/N37 -> 262.75689 | P37: =C37/D37 -> 1.5625 | Q37: =IF(C37>O37,"SONIC","SUBSONIC") -> SUBSONIC | R37: =IF(C37>O37,(J37*(PI()/4)*((L37/1000)^2)*F37*(2*(((O37-D37)*100000))/(F37*(1-(L37/K37)^4)))^0.5),(J37*(PI()/4)*((L37/1000)^2)*F37*(2*(((C37-D37)*100000))/(F37*(1-(L37/K37)^4)))^0.5)) -> 2.6710142e-06 | S37: =(J37*(PI()/4)*((L37/1000)^2)*F37*(2*(((C37-D37)*100000))/(F37*(1-(L37/K37)^4)))^0.5) -> 2.6710142e-06 | T37: {=MAX((Q37:Q71="SONIC")*R37:R71)} -> 0 | U37: =IF(C37>O37,T37,S37) -> 2.6710142e-06 | W37: =IF(C37>O37,(J37*M37)*(SQRT(I37*F37*C37*((2/I37+1)^((I37+1)/(I37-1))))),0) -> 0 | X37: =IF(C37>O37,0,(J37*(PI()/4)*((L37/1000)^2)*F37*(2*(((C37-D37)*100000))/(F37*(1-(L37/K37)^4)))^0.5)) -> 2.6710142e-06 | Y37: =U37 -> 2.6710142e-06 | Z37: =(Y37/F37)*1000*60 -> 4489.9682
B38: 33 | C38: =C37 -> 200 | D38: =(C38/50)*B38 -> 132 | E38: 0 | F38: =((4*C38)/(0.0821*(E38+273)))/1000/1000 -> 3.5693093e-05 | G38: 5.1926 | H38: 3.1156 | I38: =G38/H38 -> 1.6666453 | J38: 0.6 | K38: 5 | L38: 0.5 | M38: =PI()*(L38/1000/2)^2 -> 1.9634954e-07 | N38: =(2/(I38+1))^(I38/(I38-1)) -> 0.48714231 | O38: =D38/N38 -> 270.96804 | P38: =C38/D38 -> 1.5151515 | Q38: =IF(C38>O38,"SONIC","SUBSONIC") -> SUBSONIC | R38: =IF(C38>O38,(J38*(PI()/4)*((L38/1000)^2)*F38*(2*(((O38-D38)*100000))/(F38*(1-(L38/K38)^4)))^0.5),(J38*(PI()/4)*((L38/1000)^2)*F38*(2*(((C38-D38)*100000))/(F38*(1-(L38/K38)^4)))^0.5)) -> 2.5957592e-06 | S38: =(J38*(PI()/4)*((L38/1000)^2)*F38*(2*(((C38-D38)*100000))/(F38*(1-(L38/K38)^4)))^0.5) -> 2.5957592e-06 | T38: {=MAX((Q38:Q72="SONIC")*R38:R72)} -> 0 | U38: =IF(C38>O38,T38,S38) -> 2.5957592e-06 | W38: =IF(C38>O38,(J38*M38)*(SQRT(I38*F38*C38*((2/I38+1)^((I38+1)/(I38-1))))),0) -> 0 | X38: =IF(C38>O38,0,(J38*(PI()/4)*((L38/1000)^2)*F38*(2*(((C38-D38)*100000))/(F38*(1-(L38/K38)^4)))^0.5)) -> 2.5957592e-06 | Y38: =U38 -> 2.5957592e-06 | Z38: =(Y38/F38)*1000*60 -> 4363.4647
B39: 34 | C39: =C38 -> 200 | D39: =(C39/50)*B39 -> 136 | E39: 0 | F39: =((4*C39)/(0.0821*(E39+273)))/1000/1000 -> 3.5693093e-05 | G39: 5.1926 | H39: 3.1156 | I39: =G39/H39 -> 1.6666453 | J39: 0.6 | K39: 5 | L39: 0.5 | M39: =PI()*(L39/1000/2)^2 -> 1.9634954e-07 | N39: =(2/(I39+1))^(I39/(I39-1)) -> 0.48714231 | O39: =D39/N39 -> 279.1792 | P39: =C39/D39 -> 1.4705882 | Q39: =IF(C39>O39,"SONIC","SUBSONIC") -> SUBSONIC | R39: =IF(C39>O39,(J39*(PI()/4)*((L39/1000)^2)*F39*(2*(((O39-D39)*100000))/(F39*(1-(L39/K39)^4)))^0.5),(J39*(PI()/4)*((L39/1000)^2)*F39*(2*(((C39-D39)*100000))/(F39*(1-(L39/K39)^4)))^0.5)) -> 2.5182563e-06 | S39: =(J39*(PI()/4)*((L39/1000)^2)*F39*(2*(((C39-D39)*100000))/(F39*(1-(L39/K39)^4)))^0.5) -> 2.5182563e-06 | T39: {=MAX((Q39:Q73="SONIC")*R39:R73)} -> 0 | U39: =IF(C39>O39,T39,S39) -> 2.5182563e-06 | W39: =IF(C39>O39,(J39*M39)*(SQRT(I39*F39*C39*((2/I39+1)^((I39+1)/(I39-1))))),0) -> 0 | X39: =IF(C39>O39,0,(J39*(PI()/4)*((L39/1000)^2)*F39*(2*(((C39-D39)*100000))/(F39*(1-(L39/K39)^4)))^0.5)) -> 2.5182563e-06 | Y39: =U39 -> 2.5182563e-06 | Z39: =(Y39/F39)*1000*60 -> 4233.1826
B40: 35 | C40: =C39 -> 200 | D40: =(C40/50)*B40 -> 140 | E40: 0 | F40: =((4*C40)/(0.0821*(E40+273)))/1000/1000 -> 3.5693093e-05 | G40: 5.1926 | H40: 3.1156 | I40: =G40/H40 -> 1.6666453 | J40: 0.6 | K40: 5 | L40: 0.5 | M40: =PI()*(L40/1000/2)^2 -> 1.9634954e-07 | N40: =(2/(I40+1))^(I40/(I40-1)) -> 0.48714231 | O40: =D40/N40 -> 287.39035 | P40: =C40/D40 -> 1.4285714 | Q40: =IF(C40>O40,"SONIC","SUBSONIC") -> SUBSONIC | R40: =IF(C40>O40,(J40*(PI()/4)*((L40/1000)^2)*F40*(2*(((O40-D40)*100000))/(F40*(1-(L40/K40)^4)))^0.5),(J40*(PI()/4)*((L40/1000)^2)*F40*(2*(((C40-D40)*100000))/(F40*(1-(L40/K40)^4)))^0.5)) -> 2.4382912e-06 | S40: =(J40*(PI()/4)*((L40/1000)^2)*F40*(2*(((C40-D40)*100000))/(F40*(1-(L40/K40)^4)))^0.5) -> 2.4382912e-06 | T40: {=MAX((Q40:Q74="SONIC")*R40:R74)} -> 0 | U40: =IF(C40>O40,T40,S40) -> 2.4382912e-06 | W40: =IF(C40>O40,(J40*M40)*(SQRT(I40*F40*C40*((2/I40+1)^((I40+1)/(I40-1))))),0) -> 0 | X40: =IF(C40>O40,0,(J40*(PI()/4)*((L40/1000)^2)*F40*(2*(((C40-D40)*100000))/(F40*(1-(L40/K40)^4)))^0.5)) -> 2.4382912e-06 | Y40: =U40 -> 2.4382912e-06 | Z40: =(Y40/F40)*1000*60 -> 4098.7614
B41: 36 | C41: =C40 -> 200 | D41: =(C41/50)*B41 -> 144 | E41: 0 | F41: =((4*C41)/(0.0821*(E41+273)))/1000/1000 -> 3.5693093e-05 | G41: 5.1926 | H41: 3.1156 | I41: =G41/H41 -> 1.6666453 | J41: 0.6 | K41: 5 | L41: 0.5 | M41: =PI()*(L41/1000/2)^2 -> 1.9634954e-07 | N41: =(2/(I41+1))^(I41/(I41-1)) -> 0.48714231 | O41: =D41/N41 -> 295.6015 | P41: =C41/D41 -> 1.3888889 | Q41: =IF(C41>O41,"SONIC","SUBSONIC") -> SUBSONIC | R41: =IF(C41>O41,(J41*(PI()/4)*((L41/1000)^2)*F41*(2*(((O41-D41)*100000))/(F41*(1-(L41/K41)^4)))^0.5),(J41*(PI()/4)*((L41/1000)^2)*F41*(2*(((C41-D41)*100000))/(F41*(1-(L41/K41)^4)))^0.5)) -> 2.3556131e-06 | S41: =(J41*(PI()/4)*((L41/1000)^2)*F41*(2*(((C41-D41)*100000))/(F41*(1-(L41/K41)^4)))^0.5) -> 2.3556131e-06 | T41: {=MAX((Q41:Q75="SONIC")*R41:R75)} -> 0 | U41: =IF(C41>O41,T41,S41) -> 2.3556131e-06 | W41: =IF(C41>O41,(J41*M41)*(SQRT(I41*F41*C41*((2/I41+1)^((I41+1)/(I41-1))))),0) -> 0 | X41: =IF(C41>O41,0,(J41*(PI()/4)*((L41/1000)^2)*F41*(2*(((C41-D41)*100000))/(F41*(1-(L41/K41)^4)))^0.5)) -> 2.3556131e-06 | Y41: =U41 -> 2.3556131e-06 | Z41: =(Y41/F41)*1000*60 -> 3959.7797
... B55: 50 | C55: =C54 -> 200 | D55: =(C55/50)*B55 -> 200 | E55: 0 | F55: =((4*C55)/(0.0821*(E55+273)))/1000/1000 -> 3.5693093e-05 | G55: 5.1926 | H55: 3.1156 | I55: =G55/H55 -> 1.6666453 | J55: 0.6 | K55: 5 | L55: 0.5 | M55: =PI()*(L55/1000/2)^2 -> 1.9634954e-07 | N55: =(2/(I55+1))^(I55/(I55-1)) -> 0.48714231 | O55: =D55/N55 -> 410.55764 | P55: =C55/D55 -> 1 | Q55: =IF(C55>O55,"SONIC","SUBSONIC") -> SUBSONIC | R55: =IF(C55>O55,(J55*(PI()/4)*((L55/1000)^2)*F55*(2*(((O55-D55)*100000))/(F55*(1-(L55/K55)^4)))^0.5),(J55*(PI()/4)*((L55/1000)^2)*F55*(2*(((C55-D55)*100000))/(F55*(1-(L55/K55)^4)))^0.5)) -> 0 | S55: =(J55*(PI()/4)*((L55/1000)^2)*F55*(2*(((C55-D55)*100000))/(F55*(1-(L55/K55)^4)))^0.5) -> 0 | T55: {=MAX((Q55:Q89="SONIC")*R55:R89)} -> 0 | U55: =IF(C55>O55,T55,S55) -> 0 | W55: =IF(C55>O55,(J55*M55)*(SQRT(I55*F55*C55*((2/I55+1)^((I55+1)/(I55-1))))),0) -> 0 | X55: =IF(C55>O55,0,(J55*(PI()/4)*((L55/1000)^2)*F55*(2*(((C55-D55)*100000))/(F55*(1-(L55/K55)^4)))^0.5)) -> 0 | Y55: =U55 -> 0 | Z55: =(Y55/F55)*1000*60 -> 0

Sheet Sheet2
B1: Live | I1: Recorded | N1: Recorded | S1: Recorded | X1: Recorded
B2: P0 | C2: P1 | D2: m (total) | E2: volumetric | I2: P0 | J2: P1 | K2: m (total) | L2: volumetric | N2: P0 | O2: P1 | P2: m (total) | Q2: volumetric | S2: P0 | T2: P1 | U2: m (total) | V2: volumetric | X2: P0 | Y2: P1 | Z2: m (total) | AA2: volumetric
B3: BarA | C3: BarA | D3: kg/sec | E3: L/min | I3: BarA | J3: BarA | K3: kg/sec | L3: L/min | N3: BarA | O3: BarA | P3: kg/sec | Q3: L/min | S3: BarA | T3: BarA | U3: kg/sec | V3: L/min | X3: BarA | Y3: BarA | Z3: kg/sec | AA3: L/min
B4: =Sheet1!C6 -> 200 | C4: =Sheet1!D6 -> 4 | D4: =Sheet1!Y6 -> 3.1645799e-06 | E4: =Sheet1!Z6 -> 5319.6509 | I4: 300 | J4: 6 | K4: 4.7468699e-06 | L4: 5319.6509 | N4: 200 | O4: 4 | P4: 3.1645799e-06 | Q4: 5319.6509 | S4: 100 | T4: 2 | U4: 1.58229e-06 | V4: 5319.6509 | X4: 50 | Y4: 1 | Z4: 7.9114498e-07 | AA4: 5319.6509
B5: =Sheet1!C7 -> 200 | C5: =Sheet1!D7 -> 8 | D5: =Sheet1!Y7 -> 3.1645799e-06 | E5: =Sheet1!Z7 -> 5319.6509 | I5: 300 | J5: 12 | K5: 4.7468699e-06 | L5: 5319.6509 | N5: 200 | O5: 8 | P5: 3.1645799e-06 | Q5: 5319.6509 | S5: 100 | T5: 4 | U5: 1.58229e-06 | V5: 5319.6509 | X5: 50 | Y5: 2 | Z5: 7.9114498e-07 | AA5: 5319.6509
B6: =Sheet1!C8 -> 200 | C6: =Sheet1!D8 -> 12 | D6: =Sheet1!Y8 -> 3.1645799e-06 | E6: =Sheet1!Z8 -> 5319.6509 | I6: 300 | J6: 18 | K6: 4.7468699e-06 | L6: 5319.6509 | N6: 200 | O6: 12 | P6: 3.1645799e-06 | Q6: 5319.6509 | S6: 100 | T6: 6 | U6: 1.58229e-06 | V6: 5319.6509 | X6: 50 | Y6: 3 | Z6: 7.9114498e-07 | AA6: 5319.6509
B7: =Sheet1!C9 -> 200 | C7: =Sheet1!D9 -> 16 | D7: =Sheet1!Y9 -> 3.1645799e-06 | E7: =Sheet1!Z9 -> 5319.6509 | I7: 300 | J7: 24 | K7: 4.7468699e-06 | L7: 5319.6509 | N7: 200 | O7: 16 | P7: 3.1645799e-06 | Q7: 5319.6509 | S7: 100 | T7: 8 | U7: 1.58229e-06 | V7: 5319.6509 | X7: 50 | Y7: 4 | Z7: 7.9114498e-07 | AA7: 5319.6509
B8: =Sheet1!C10 -> 200 | C8: =Sheet1!D10 -> 20 | D8: =Sheet1!Y10 -> 3.1645799e-06 | E8: =Sheet1!Z10 -> 5319.6509 | I8: 300 | J8: 30 | K8: 4.7468699e-06 | L8: 5319.6509 | N8: 200 | O8: 20 | P8: 3.1645799e-06 | Q8: 5319.6509 | S8: 100 | T8: 10 | U8: 1.58229e-06 | V8: 5319.6509 | X8: 50 | Y8: 5 | Z8: 7.9114498e-07 | AA8: 5319.6509
B9: =Sheet1!C11 -> 200 | C9: =Sheet1!D11 -> 24 | D9: =Sheet1!Y11 -> 3.1645799e-06 | E9: =Sheet1!Z11 -> 5319.6509 | I9: 300 | J9: 36 | K9: 4.7468699e-06 | L9: 5319.6509 | N9: 200 | O9: 24 | P9: 3.1645799e-06 | Q9: 5319.6509 | S9: 100 | T9: 12 | U9: 1.58229e-06 | V9: 5319.6509 | X9: 50 | Y9: 6 | Z9: 7.9114498e-07 | AA9: 5319.6509
B10: =Sheet1!C12 -> 200 | C10: =Sheet1!D12 -> 28 | D10: =Sheet1!Y12 -> 3.1645799e-06 | E10: =Sheet1!Z12 -> 5319.6509 | I10: 300 | J10: 42 | K10: 4.7468699e-06 | L10: 5319.6509 | N10: 200 | O10: 28 | P10: 3.1645799e-06 | Q10: 5319.6509 | S10: 100 | T10: 14 | U10: 1.58229e-06 | V10: 5319.6509 | X10: 50 | Y10: 7 | Z10: 7.9114498e-07 | AA10: 5319.6509
B11: =Sheet1!C13 -> 200 | C11: =Sheet1!D13 -> 32 | D11: =Sheet1!Y13 -> 3.1645799e-06 | E11: =Sheet1!Z13 -> 5319.6509 | I11: 300 | J11: 48 | K11: 4.7468699e-06 | L11: 5319.6509 | N11: 200 | O11: 32 | P11: 3.1645799e-06 | Q11: 5319.6509 | S11: 100 | T11: 16 | U11: 1.58229e-06 | V11: 5319.6509 | X11: 50 | Y11: 8 | Z11: 7.9114498e-07 | AA11: 5319.6509
B12: =Sheet1!C14 -> 200 | C12: =Sheet1!D14 -> 36 | D12: =Sheet1!Y14 -> 3.1645799e-06 | E12: =Sheet1!Z14 -> 5319.6509 | I12: 300 | J12: 54 | K12: 4.7468699e-06 | L12: 5319.6509 | N12: 200 | O12: 36 | P12: 3.1645799e-06 | Q12: 5319.6509 | S12: 100 | T12: 18 | U12: 1.58229e-06 | V12: 5319.6509 | X12: 50 | Y12: 9 | Z12: 7.9114498e-07 | AA12: 5319.6509
B13: =Sheet1!C15 -> 200 | C13: =Sheet1!D15 -> 40 | D13: =Sheet1!Y15 -> 3.1645799e-06 | E13: =Sheet1!Z15 -> 5319.6509 | I13: 300 | J13: 60 | K13: 4.7468699e-06 | L13: 5319.6509 | N13: 200 | O13: 40 | P13: 3.1645799e-06 | Q13: 5319.6509 | S13: 100 | T13: 20 | U13: 1.58229e-06 | V13: 5319.6509 | X13: 50 | Y13: 10 | Z13: 7.9114498e-07 | AA13: 5319.6509
B14: =Sheet1!C16 -> 200 | C14: =Sheet1!D16 -> 44 | D14: =Sheet1!Y16 -> 3.1645799e-06 | E14: =Sheet1!Z16 -> 5319.6509 | I14: 300 | J14: 66 | K14: 4.7468699e-06 | L14: 5319.6509 | N14: 200 | O14: 44 | P14: 3.1645799e-06 | Q14: 5319.6509 | S14: 100 | T14: 22 | U14: 1.58229e-06 | V14: 5319.6509 | X14: 50 | Y14: 11 | Z14: 7.9114498e-07 | AA14: 5319.6509
B15: =Sheet1!C17 -> 200 | C15: =Sheet1!D17 -> 48 | D15: =Sheet1!Y17 -> 3.1645799e-06 | E15: =Sheet1!Z17 -> 5319.6509 | I15: 300 | J15: 72 | K15: 4.7468699e-06 | L15: 5319.6509 | N15: 200 | O15: 48 | P15: 3.1645799e-06 | Q15: 5319.6509 | S15: 100 | T15: 24 | U15: 1.58229e-06 | V15: 5319.6509 | X15: 50 | Y15: 12 | Z15: 7.9114498e-07 | AA15: 5319.6509
... B53: =Sheet1!C55 -> 200 | C53: =Sheet1!D55 -> 200 | D53: =Sheet1!Y55 -> 0 | E53: =Sheet1!Z55 -> 0 | I53: 300 | J53: 300 | K53: 0 | L53: 0 | N53: 200 | O53: 200 | P53: 0 | Q53: 0 | S53: 100 | T53: 100 | U53: 0 | V53: 0 | X53: 50 | Y53: 50 | Z53: 0 | AA53: 0
