Workbook

Sheet total
B4: E | C4: F8 | D4: Err | G4: y (µm) | H4: yiFi | I4: yd(y)i
B5: 0 | C5: =proton!D5+HI!D5+alpha!D5 -> 0 | D5: 0 | G5: =(B5*3/2)*1000 -> 0
B6: 1.39e-11 | C6: =proton!D6+HI!D6+alpha!D6 -> 0 | D6: 0 | G6: =(B6*3/2)*1000 -> 2.085e-08 | H6: =C6*G6 -> 0 | I6: =(H6/$H$196)/(LOG(G6)-LOG(G5)) -> #NUM!
B7: 0.0004 | C7: =proton!D7+HI!D7+alpha!D7 -> 8.4e-07 | D7: 0.0077 | G7: =(B7*3/2)*1000 -> 0.6 | H7: =C7*G7 -> 5.04e-07 | I7: =(H7/$H$196)/(LN(G7)-LN(G6)) -> 1.9676311e-05
B8: 0.00041897 | C8: =proton!D8+HI!D8+alpha!D8 -> 4e-08 | D8: 0.0267 | G8: =(B8*3/2)*1000 -> 0.628455 | H8: =C8*G8 -> 2.51382e-08 | I8: =(H8/$H$196)/(LN(G8)-LN(G7)) -> 0.00036378035
B9: 0.00043885 | C9: =proton!D9+HI!D9+alpha!D9 -> 4e-08 | D9: 0.0259 | G9: =(B9*3/2)*1000 -> 0.658275 | H9: =C9*G9 -> 2.6331e-08 | I9: =(H9/$H$196)/(LN(G9)-LN(G8)) -> 0.0003808478
B10: 0.00045966 | C10: =proton!D10+HI!D10+alpha!D10 -> 7e-08 | D10: 0.0246 | G10: =(B10*3/2)*1000 -> 0.68949 | H10: =C10*G10 -> 4.82643e-08 | I10: =(H10/$H$196)/(LN(G10)-LN(G9)) -> 0.00069852388
B11: 0.00048147 | C11: =proton!D11+HI!D11+alpha!D11 -> 7e-08 | D11: 0.0231 | G11: =(B11*3/2)*1000 -> 0.722205 | H11: =C11*G11 -> 5.055435e-08 | I11: =(H11/$H$196)/(LN(G11)-LN(G10)) -> 0.00073123471
B12: 0.0005043 | C12: =proton!D12+HI!D12+alpha!D12 -> 1.1e-07 | D12: 0.0226 | G12: =(B12*3/2)*1000 -> 0.75645 | H12: =C12*G12 -> 8.32095e-08 | I12: =(H12/$H$196)/(LN(G12)-LN(G11)) -> 0.0012043342
B13: 0.00052823 | C13: =proton!D13+HI!D13+alpha!D13 -> 1.3e-07 | D13: 0.0216 | G13: =(B13*3/2)*1000 -> 0.792345 | H13: =C13*G13 -> 1.0300485e-07 | I13: =(H13/$H$196)/(LN(G13)-LN(G12)) -> 0.0014897794
B14: 0.00055328 | C14: =proton!D14+HI!D14+alpha!D14 -> 1e-07 | D14: 0.0209 | G14: =(B14*3/2)*1000 -> 0.82992 | H14: =C14*G14 -> 8.2992e-08 | I14: =(H14/$H$196)/(LN(G14)-LN(G13)) -> 0.0012010565
B15: 0.00057953 | C15: =proton!D15+HI!D15+alpha!D15 -> 1.1e-07 | D15: 0.02 | G15: =(B15*3/2)*1000 -> 0.869295 | H15: =C15*G15 -> 9.562245e-08 | I15: =(H15/$H$196)/(LN(G15)-LN(G14)) -> 0.0013832222
B16: 0.00060701 | C16: =proton!D16+HI!D16+alpha!D16 -> 1.6e-07 | D16: 0.0194 | G16: =(B16*3/2)*1000 -> 0.910515 | H16: =C16*G16 -> 1.456824e-07 | I16: =(H16/$H$196)/(LN(G16)-LN(G15)) -> 0.0021085172
B17: 0.00063581 | C17: =proton!D17+HI!D17+alpha!D17 -> 1.8e-07 | D17: 0.0183 | G17: =(B17*3/2)*1000 -> 0.953715 | H17: =C17*G17 -> 1.716687e-07 | I17: =(H17/$H$196)/(LN(G17)-LN(G16)) -> 0.0024831971
B18: 0.00066597 | C18: =proton!D18+HI!D18+alpha!D18 -> 8e-08 | D18: 0.0179 | G18: =(B18*3/2)*1000 -> 0.998955 | H18: =C18*G18 -> 7.99164e-08 | I18: =(H18/$H$196)/(LN(G18)-LN(G17)) -> 0.0011562361
... B46: 0.0024378 | C46: =proton!D46+HI!D46+alpha!D46 -> 1.71e-06 | D46: 0.007 | G46: =(B46*3/2)*1000 -> 3.6567 | H46: =C46*G46 -> 6.252957e-06 | I46: =(H46/$H$196)/(LN(G46)-LN(G45)) -> 0.090469432
B47: 0.0025534 | C47: =proton!D47+HI!D47+alpha!D47 -> 1.82e-06 | D47: 0.007 | G47: =(B47*3/2)*1000 -> 3.8301 | H47: =C47*G47 -> 6.970782e-06 | I47: =(H47/$H$196)/(LN(G47)-LN(G46)) -> 0.1008865 | W47: 0 | X47: 0 | Y47: 0
B48: 0.0026745 | C48: =proton!D48+HI!D48+alpha!D48 -> 2.11e-06 | D48: 0.007 | G48: =(B48*3/2)*1000 -> 4.01175 | H48: =C48*G48 -> 8.4647925e-06 | I48: =(H48/$H$196)/(LN(G48)-LN(G47)) -> 0.1224909 | W48: 1.39e-11 | X48: 0 | Y48: 0
B49: 0.0028014 | C49: =proton!D49+HI!D49+alpha!D49 -> 2.02e-06 | D49: 0.007 | G49: =(B49*3/2)*1000 -> 4.2021 | H49: =C49*G49 -> 8.488242e-06 | I49: =(H49/$H$196)/(LN(G49)-LN(G48)) -> 0.1227767 | W49: 0.0004 | X49: 1.54664e-05 | Y49: 0.0026
B50: 0.0029343 | C50: =proton!D50+HI!D50+alpha!D50 -> 2.16e-06 | D50: 0.007 | G50: =(B50*3/2)*1000 -> 4.40145 | H50: =C50*G50 -> 9.507132e-06 | I50: =(H50/$H$196)/(LN(G50)-LN(G49)) -> 0.13753566 | W50: 0.00041897 | X50: 1.26797e-06 | Y50: 0.0091
B51: 0.0030735 | C51: =proton!D51+HI!D51+alpha!D51 -> 2.26e-06 | D51: 0.0071 | G51: =(B51*3/2)*1000 -> 4.61025 | H51: =C51*G51 -> 1.0419165e-05 | I51: =(H51/$H$196)/(LN(G51)-LN(G50)) -> 0.15073479 | W51: 0.00043885 | X51: 1.38466e-06 | Y51: 0.0087
B52: 0.0032193 | C52: =proton!D52+HI!D52+alpha!D52 -> 2.43e-06 | D52: 0.0072 | G52: =(B52*3/2)*1000 -> 4.82895 | H52: =C52*G52 -> 1.1734348e-05 | I52: =(H52/$H$196)/(LN(G52)-LN(G51)) -> 0.16976562 | W52: 0.00045966 | X52: 1.51652e-06 | Y52: 0.0083
B53: 0.003372 | C53: =proton!D53+HI!D53+alpha!D53 -> 2.6e-06 | D53: 0.0072 | G53: =(B53*3/2)*1000 -> 5.058 | H53: =C53*G53 -> 1.31508e-05 | I53: =(H53/$H$196)/(LN(G53)-LN(G52)) -> 0.190278 | W53: 0.00048147 | X53: 1.61803e-06 | Y53: 0.008
B54: 0.0035319 | C54: =proton!D54+HI!D54+alpha!D54 -> 2.41e-06 | D54: 0.0073 | G54: =(B54*3/2)*1000 -> 5.29785 | H54: =C54*G54 -> 1.2767818e-05 | I54: =(H54/$H$196)/(LN(G54)-LN(G53)) -> 0.18478518 | W54: 0.0005043 | X54: 1.73856e-06 | Y54: 0.0077
B55: 0.0036994 | C55: =proton!D55+HI!D55+alpha!D55 -> 2.42e-06 | D55: 0.0074 | G55: =(B55*3/2)*1000 -> 5.5491 | H55: =C55*G55 -> 1.3428822e-05 | I55: =(H55/$H$196)/(LN(G55)-LN(G54)) -> 0.1943318 | W55: 0.00052823 | X55: 1.9444e-06 | Y55: 0.0073
B56: 0.0038749 | C56: =proton!D56+HI!D56+alpha!D56 -> 2.76e-06 | D56: 0.0075 | G56: =(B56*3/2)*1000 -> 5.81235 | H56: =C56*G56 -> 1.6042086e-05 | I56: =(H56/$H$196)/(LN(G56)-LN(G55)) -> 0.23207618 | W56: 0.00055328 | X56: 2.06784e-06 | Y56: 0.0071
B57: 0.0040587 | C57: =proton!D57+HI!D57+alpha!D57 -> 2.24e-06 | D57: 0.0076 | G57: =(B57*3/2)*1000 -> 6.08805 | H57: =C57*G57 -> 1.3637232e-05 | I57: =(H57/$H$196)/(LN(G57)-LN(G56)) -> 0.19731286 | W57: 0.00057953 | X57: 2.26942e-06 | Y57: 0.0068
B58: 0.0042512 | C58: =proton!D58+HI!D58+alpha!D58 -> 2.37e-06 | D58: 0.0077 | G58: =(B58*3/2)*1000 -> 6.3768 | H58: =C58*G58 -> 1.5113016e-05 | I58: =(H58/$H$196)/(LN(G58)-LN(G57)) -> 0.2186858 | W58: 0.00060701 | X58: 2.42134e-06 | Y58: 0.0066
... B191: 2.02 | C191: =proton!D191+HI!D191+alpha!D191 -> 0 | D191: 0 | G191: =(B191*3/2)*1000 -> 3030 | H191: =C191*G191 -> 0 | I191: =(H191/$H$196)/(LN(G191)-LN(G190)) -> 0 | W191: 0.28843 | X191: 4.15626e-08 | Y191: 0.05
W192: 0.30211 | X192: 4.85244e-08 | Y192: 0.0463
W193: 0.31644 | X193: 4.86283e-08 | Y193: 0.0462
W194: 0.33145 | X194: 4.43681e-08 | Y194: 0.0484
W195: 0.34717 | X195: 4.76931e-08 | Y195: 0.0467
E196: somme(yi*fi) | H196: =SUM(H6:H191) -> 0.0014913787 | W196: 0.36364 | X196: 4.20822e-08 | Y196: 0.0497
W197: 0.38089 | X197: 4.73814e-08 | Y197: 0.0468
W198: 0.39895 | X198: 4.57189e-08 | Y198: 0.0477
W199: 0.41788 | X199: 4.6758e-08 | Y199: 0.0471
W200: 0.4377 | X200: 4.53033e-08 | Y200: 0.0479
W201: 0.45846 | X201: 4.32251e-08 | Y201: 0.049
W202: 0.48021 | X202: 5.04986e-08 | Y202: 0.0454
...

Sheet proton
C4: E | D4: F8 | E4: Err | H4: y (µm) | I4: yiFi | J4: yd(y)i
C5: 0 | D5: 0 | E5: 0 | H5: =(C5*3/2)*1000 -> 0
C6: 1.39e-11 | D6: 0 | E6: 0 | H6: =(C6*3/2)*1000 -> 2.085e-08 | I6: =D6*H6 -> 0 | J6: =(I6/total!$H$196)/(LN(H6)-LN(H5)) -> #NUM! | K6: =J6*H6 -> #NUM!
C7: 0.0004 | D7: 8.4e-07 | E7: 0.1091 | H7: =(C7*3/2)*1000 -> 0.6 | I7: =D7*H7 -> 5.04e-07 | J7: =(I7/total!$H$196)/(LN(H7)-LN(H6)) -> 1.9676311e-05 | K7: =J7*H7 -> 1.1805787e-05
C8: 0.00041897 | D8: 4e-08 | E8: 0.5 | H8: =(C8*3/2)*1000 -> 0.628455 | I8: =D8*H8 -> 2.51382e-08 | J8: =(I8/total!$H$196)/(LN(H8)-LN(H7)) -> 0.00036378035 | K8: =J8*H8 -> 0.00022861958
C9: 0.00043885 | D9: 4e-08 | E9: 0.5 | H9: =(C9*3/2)*1000 -> 0.658275 | I9: =D9*H9 -> 2.6331e-08 | J9: =(I9/total!$H$196)/(LN(H9)-LN(H8)) -> 0.0003808478 | K9: =J9*H9 -> 0.00025070259
C10: 0.00045966 | D10: 7e-08 | E10: 0.378 | H10: =(C10*3/2)*1000 -> 0.68949 | I10: =D10*H10 -> 4.82643e-08 | J10: =(I10/total!$H$196)/(LN(H10)-LN(H9)) -> 0.00069852388 | K10: =J10*H10 -> 0.00048162523
C11: 0.00048147 | D11: 7e-08 | E11: 0.378 | H11: =(C11*3/2)*1000 -> 0.722205 | I11: =D11*H11 -> 5.055435e-08 | J11: =(I11/total!$H$196)/(LN(H11)-LN(H10)) -> 0.00073123471 | K11: =J11*H11 -> 0.00052810137
C12: 0.0005043 | D12: 1.1e-07 | E12: 0.3015 | H12: =(C12*3/2)*1000 -> 0.75645 | I12: =D12*H12 -> 8.32095e-08 | J12: =(I12/total!$H$196)/(LN(H12)-LN(H11)) -> 0.0012043342 | K12: =J12*H12 -> 0.0009110186
C13: 0.00052823 | D13: 1.3e-07 | E13: 0.2774 | H13: =(C13*3/2)*1000 -> 0.792345 | I13: =D13*H13 -> 1.0300485e-07 | J13: =(I13/total!$H$196)/(LN(H13)-LN(H12)) -> 0.0014897794 | K13: =J13*H13 -> 0.0011804192
C14: 0.00055328 | D14: 1e-07 | E14: 0.3162 | H14: =(C14*3/2)*1000 -> 0.82992 | I14: =D14*H14 -> 8.2992e-08 | J14: =(I14/total!$H$196)/(LN(H14)-LN(H13)) -> 0.0012010565 | K14: =J14*H14 -> 0.00099678081
C15: 0.00057953 | D15: 1.1e-07 | E15: 0.3015 | H15: =(C15*3/2)*1000 -> 0.869295 | I15: =D15*H15 -> 9.562245e-08 | J15: =(I15/total!$H$196)/(LN(H15)-LN(H14)) -> 0.0013832222 | K15: =J15*H15 -> 0.0012024282
C16: 0.00060701 | D16: 1.6e-07 | E16: 0.25 | H16: =(C16*3/2)*1000 -> 0.910515 | I16: =D16*H16 -> 1.456824e-07 | J16: =(I16/total!$H$196)/(LN(H16)-LN(H15)) -> 0.0021085172 | K16: =J16*H16 -> 0.0019198366
C17: 0.00063581 | D17: 1.8e-07 | E17: 0.2357 | H17: =(C17*3/2)*1000 -> 0.953715 | I17: =D17*H17 -> 1.716687e-07 | J17: =(I17/total!$H$196)/(LN(H17)-LN(H16)) -> 0.0024831971 | K17: =J17*H17 -> 0.0023682623
C18: 0.00066597 | D18: 8e-08 | E18: 0.3536 | H18: =(C18*3/2)*1000 -> 0.998955 | I18: =D18*H18 -> 7.99164e-08 | J18: =(I18/total!$H$196)/(LN(H18)-LN(H17)) -> 0.0011562361 | K18: =J18*H18 -> 0.0011550278 | W18: 0 | X18: 0 | Y18: 0
C19: 0.00069756 | D19: 2.3e-07 | E19: 0.2085 | H19: =(C19*3/2)*1000 -> 1.04634 | I19: =D19*H19 -> 2.406582e-07 | J19: =(I19/total!$H$196)/(LN(H19)-LN(H18)) -> 0.0034819305 | K19: =J19*H19 -> 0.0036432831 | W19: 1.39e-11 | X19: 0 | Y19: 0
C20: 0.00073064 | D20: 2.2e-07 | E20: 0.2132 | H20: =(C20*3/2)*1000 -> 1.09596 | I20: =D20*H20 -> 2.411112e-07 | J20: =(I20/total!$H$196)/(LN(H20)-LN(H19)) -> 0.0034893563 | K20: =J20*H20 -> 0.0038241949 | W20: 0.0004 | X20: 1.54665e-05 | Y20: 0.0026
C21: 0.0007653 | D21: 2.1e-07 | E21: 0.2182 | H21: =(C21*3/2)*1000 -> 1.14795 | I21: =D21*H21 -> 2.410695e-07 | J21: =(I21/total!$H$196)/(LN(H21)-LN(H20)) -> 0.0034876447 | K21: =J21*H21 -> 0.0040036417 | W21: 0.00041897 | X21: 1.26828e-06 | Y21: 0.0091
C22: 0.0008016 | D22: 2e-07 | E22: 0.2236 | H22: =(C22*3/2)*1000 -> 1.2024 | I22: =D22*H22 -> 2.4048e-07 | J22: =(I22/total!$H$196)/(LN(H22)-LN(H21)) -> 0.0034795092 | K22: =J22*H22 -> 0.0041837618 | W22: 0.00043885 | X22: 1.38476e-06 | Y22: 0.0087
C23: 0.00083962 | D23: 2.8e-07 | E23: 0.189 | H23: =(C23*3/2)*1000 -> 1.25943 | I23: =D23*H23 -> 3.526404e-07 | J23: =(I23/total!$H$196)/(LN(H23)-LN(H22)) -> 0.0051025954 | K23: =J23*H23 -> 0.0064263617 | W23: 0.00045966 | X23: 1.51652e-06 | Y23: 0.0083
C24: 0.00087945 | D24: 2.3e-07 | E24: 0.2085 | H24: =(C24*3/2)*1000 -> 1.319175 | I24: =D24*H24 -> 3.0341025e-07 | J24: =(I24/total!$H$196)/(LN(H24)-LN(H23)) -> 0.0043895283 | K24: =J24*H24 -> 0.005790556 | W24: 0.00048147 | X24: 1.61803e-06 | Y24: 0.008
C25: 0.00092117 | D25: 2.2e-07 | E25: 0.2132 | H25: =(C25*3/2)*1000 -> 1.381755 | I25: =D25*H25 -> 3.039861e-07 | J25: =(I25/total!$H$196)/(LN(H25)-LN(H24)) -> 0.0043978037 | K25: =J25*H25 -> 0.0060766873 | W25: 0.0005043 | X25: 1.73867e-06 | Y25: 0.0077
C26: 0.00096486 | D26: 3.3e-07 | E26: 0.1741 | H26: =(C26*3/2)*1000 -> 1.44729 | I26: =D26*H26 -> 4.776057e-07 | J26: =(I26/total!$H$196)/(LN(H26)-LN(H25)) -> 0.0069109927 | K26: =J26*H26 -> 0.010002211 | W26: 0.00052823 | X26: 1.94472e-06 | Y26: 0.0073
C27: 0.0010106 | D27: 3.4e-07 | E27: 0.1715 | H27: =(C27*3/2)*1000 -> 1.5159 | I27: =D27*H27 -> 5.15406e-07 | J27: =(I27/total!$H$196)/(LN(H27)-LN(H26)) -> 0.0074614976 | K27: =J27*H27 -> 0.011310884 | W27: 0.00055328 | X27: 2.06774e-06 | Y27: 0.0071
C28: 0.0010586 | D28: 2.4e-07 | E28: 0.2041 | H28: =(C28*3/2)*1000 -> 1.5879 | I28: =D28*H28 -> 3.81096e-07 | J28: =(I28/total!$H$196)/(LN(H28)-LN(H27)) -> 0.0055068061 | K28: =J28*H28 -> 0.0087442574 | W28: 0.00057953 | X28: 2.26953e-06 | Y28: 0.0068
C29: 0.0011088 | D29: 3.7e-07 | E29: 0.1644 | H29: =(C29*3/2)*1000 -> 1.6632 | I29: =D29*H29 -> 6.15384e-07 | J29: =(I29/total!$H$196)/(LN(H29)-LN(H28)) -> 0.008906067 | K29: =J29*H29 -> 0.014812571 | W29: 0.00060701 | X29: 2.42154e-06 | Y29: 0.0066
... C191: 2.02 | D191: 0 | E191: 0 | H191: =(C191*3/2)*1000 -> 3030 | I191: =D191*H191 -> 0 | J191: =(I191/total!$H$196)/(LN(H191)-LN(H190)) -> 0 | K191: =J191*H191 -> 0 | W191: 1.1059 | X191: 0 | Y191: 0
J192: =SUM(J7:J191) -> 18.094304 | K192: =SUM(K7:K191) -> 464.51659 | W192: 1.1583 | X192: 0 | Y192: 0
K193: =K192/J192 -> 25.671979 | W193: 1.2133 | X193: 0 | Y193: 0
W194: 1.2708 | X194: 0 | Y194: 0
W195: 1.3311 | X195: 0 | Y195: 0
F196: somme(yi*fi) | I196: =SUM(I6:I191) -> 0.0012510992 | W196: 1.3942 | X196: 0 | Y196: 0

Sheet HI
N1: a | O1: 5510 | Q1: factor norm | R1: =total!H196 -> 0.0014913787
N2: b | O2: 5e-05
N3: c | O3: 2e-07
C4: E | D4: F8 | E4: Err | H4: y (µm) | I4: yiFi | J4: y2fi | K4: yd(y)i | M4: Qi
H5: =(C5*3/2)*1000 -> 0
H6: =(C6*3/2)*1000 -> 0 | I6: =D6*H6 -> 0 | J6: =D6*((C6+C5)/2)^2 -> 0 | K6: =(I6/total!$H$196)/(LN(H6)-LN(H5)) -> #NUM! | L6: 1 | M6: =N6*I6/$I$196 -> #DIV/0! | N6: =($O$1/H6)*(1-EXP(-$O$2*H6*H6-$O$3*H6^3)) -> #DIV/0!
H7: =(C7*3/2)*1000 -> 0 | I7: =D7*H7 -> 0 | J7: =D7*((C7+C6)/2)^2 -> 0 | K7: =(I7/total!$H$196)/(LN(H7)-LN(H6)) -> #NUM! | L7: 1 | M7: =N7*I7/$I$196 -> #DIV/0! | N7: =($O$1/H7)*(1-EXP(-$O$2*H7*H7-$O$3*H7^3)) -> #DIV/0!
H8: =(C8*3/2)*1000 -> 0 | I8: =D8*H8 -> 0 | J8: =D8*((C8+C7)/2)^2 -> 0 | K8: =(I8/total!$H$196)/(LN(H8)-LN(H7)) -> #NUM! | L8: 1 | M8: =N8*I8/$I$196 -> #DIV/0! | N8: =($O$1/H8)*(1-EXP(-$O$2*H8*H8-$O$3*H8^3)) -> #DIV/0!
H9: =(C9*3/2)*1000 -> 0 | I9: =D9*H9 -> 0 | J9: =D9*((C9+C8)/2)^2 -> 0 | K9: =(I9/total!$H$196)/(LN(H9)-LN(H8)) -> #NUM! | L9: 1 | M9: =N9*I9/$I$196 -> #DIV/0! | N9: =($O$1/H9)*(1-EXP(-$O$2*H9*H9-$O$3*H9^3)) -> #DIV/0!
H10: =(C10*3/2)*1000 -> 0 | I10: =D10*H10 -> 0 | J10: =D10*((C10+C9)/2)^2 -> 0 | K10: =(I10/total!$H$196)/(LN(H10)-LN(H9)) -> #NUM! | L10: 1 | M10: =N10*I10/$I$196 -> #DIV/0! | N10: =($O$1/H10)*(1-EXP(-$O$2*H10*H10-$O$3*H10^3)) -> #DIV/0!
H11: =(C11*3/2)*1000 -> 0 | I11: =D11*H11 -> 0 | J11: =D11*((C11+C10)/2)^2 -> 0 | K11: =(I11/total!$H$196)/(LN(H11)-LN(H10)) -> #NUM! | L11: 1 | M11: =N11*I11/$I$196 -> #DIV/0! | N11: =($O$1/H11)*(1-EXP(-$O$2*H11*H11-$O$3*H11^3)) -> #DIV/0!
H12: =(C12*3/2)*1000 -> 0 | I12: =D12*H12 -> 0 | J12: =D12*((C12+C11)/2)^2 -> 0 | K12: =(I12/total!$H$196)/(LN(H12)-LN(H11)) -> #NUM! | L12: 1 | M12: =N12*I12/$I$196 -> #DIV/0! | N12: =($O$1/H12)*(1-EXP(-$O$2*H12*H12-$O$3*H12^3)) -> #DIV/0!
H13: =(C13*3/2)*1000 -> 0 | I13: =D13*H13 -> 0 | J13: =D13*((C13+C12)/2)^2 -> 0 | K13: =(I13/total!$H$196)/(LN(H13)-LN(H12)) -> #NUM! | L13: 1 | M13: =N13*I13/$I$196 -> #DIV/0! | N13: =($O$1/H13)*(1-EXP(-$O$2*H13*H13-$O$3*H13^3)) -> #DIV/0!
H14: =(C14*3/2)*1000 -> 0 | I14: =D14*H14 -> 0 | J14: =D14*((C14+C13)/2)^2 -> 0 | K14: =(I14/total!$H$196)/(LN(H14)-LN(H13)) -> #NUM! | L14: 1 | M14: =N14*I14/$I$196 -> #DIV/0! | N14: =($O$1/H14)*(1-EXP(-$O$2*H14*H14-$O$3*H14^3)) -> #DIV/0!
H15: =(C15*3/2)*1000 -> 0 | I15: =D15*H15 -> 0 | J15: =D15*((C15+C14)/2)^2 -> 0 | K15: =(I15/total!$H$196)/(LN(H15)-LN(H14)) -> #NUM! | L15: 1 | M15: =N15*I15/$I$196 -> #DIV/0! | N15: =($O$1/H15)*(1-EXP(-$O$2*H15*H15-$O$3*H15^3)) -> #DIV/0!
H16: =(C16*3/2)*1000 -> 0 | I16: =D16*H16 -> 0 | J16: =D16*((C16+C15)/2)^2 -> 0 | K16: =(I16/total!$H$196)/(LN(H16)-LN(H15)) -> #NUM! | L16: 1 | M16: =N16*I16/$I$196 -> #DIV/0! | N16: =($O$1/H16)*(1-EXP(-$O$2*H16*H16-$O$3*H16^3)) -> #DIV/0!
H17: =(C17*3/2)*1000 -> 0 | I17: =D17*H17 -> 0 | J17: =D17*((C17+C16)/2)^2 -> 0 | K17: =(I17/total!$H$196)/(LN(H17)-LN(H16)) -> #NUM! | L17: 1 | M17: =N17*I17/$I$196 -> #DIV/0! | N17: =($O$1/H17)*(1-EXP(-$O$2*H17*H17-$O$3*H17^3)) -> #DIV/0!
... H22: =(C22*3/2)*1000 -> 0 | I22: =D22*H22 -> 0 | J22: =D22*((C22+C21)/2)^2 -> 0 | K22: =(I22/total!$H$196)/(LN(H22)-LN(H21)) -> #NUM! | L22: 1 | M22: =N22*I22/$I$196 -> #DIV/0! | N22: =($O$1/H22)*(1-EXP(-$O$2*H22*H22-$O$3*H22^3)) -> #DIV/0!
H23: =(C23*3/2)*1000 -> 0 | I23: =D23*H23 -> 0 | J23: =D23*((C23+C22)/2)^2 -> 0 | K23: =(I23/total!$H$196)/(LN(H23)-LN(H22)) -> #NUM! | L23: 1 | M23: =N23*I23/$I$196 -> #DIV/0! | N23: =($O$1/H23)*(1-EXP(-$O$2*H23*H23-$O$3*H23^3)) -> #DIV/0! | Y23: 0 | Z23: 0 | AA23: 0
H24: =(C24*3/2)*1000 -> 0 | I24: =D24*H24 -> 0 | J24: =D24*((C24+C23)/2)^2 -> 0 | K24: =(I24/total!$H$196)/(LN(H24)-LN(H23)) -> #NUM! | L24: 1 | M24: =N24*I24/$I$196 -> #DIV/0! | N24: =($O$1/H24)*(1-EXP(-$O$2*H24*H24-$O$3*H24^3)) -> #DIV/0! | Y24: 1.39e-11 | Z24: 0 | AA24: 0
H25: =(C25*3/2)*1000 -> 0 | I25: =D25*H25 -> 0 | J25: =D25*((C25+C24)/2)^2 -> 0 | K25: =(I25/total!$H$196)/(LN(H25)-LN(H24)) -> #NUM! | L25: 1 | M25: =N25*I25/$I$196 -> #DIV/0! | N25: =($O$1/H25)*(1-EXP(-$O$2*H25*H25-$O$3*H25^3)) -> #DIV/0! | Y25: 0.0004 | Z25: 1.24688e-09 | AA25: 0.2887
H26: =(C26*3/2)*1000 -> 0 | I26: =D26*H26 -> 0 | J26: =D26*((C26+C25)/2)^2 -> 0 | K26: =(I26/total!$H$196)/(LN(H26)-LN(H25)) -> #NUM! | L26: 1 | M26: =N26*I26/$I$196 -> #DIV/0! | N26: =($O$1/H26)*(1-EXP(-$O$2*H26*H26-$O$3*H26^3)) -> #DIV/0! | Y26: 0.00041897 | Z26: 0 | AA26: 0
H27: =(C27*3/2)*1000 -> 0 | I27: =D27*H27 -> 0 | J27: =D27*((C27+C26)/2)^2 -> 0 | K27: =(I27/total!$H$196)/(LN(H27)-LN(H26)) -> #NUM! | L27: 1 | M27: =N27*I27/$I$196 -> #DIV/0! | N27: =($O$1/H27)*(1-EXP(-$O$2*H27*H27-$O$3*H27^3)) -> #DIV/0! | Y27: 0.00043885 | Z27: 0 | AA27: 0
H28: =(C28*3/2)*1000 -> 0 | I28: =D28*H28 -> 0 | J28: =D28*((C28+C27)/2)^2 -> 0 | K28: =(I28/total!$H$196)/(LN(H28)-LN(H27)) -> #NUM! | L28: 1 | M28: =N28*I28/$I$196 -> #DIV/0! | N28: =($O$1/H28)*(1-EXP(-$O$2*H28*H28-$O$3*H28^3)) -> #DIV/0! | Y28: 0.00045966 | Z28: 1.03907e-10 | AA28: 1
H29: =(C29*3/2)*1000 -> 0 | I29: =D29*H29 -> 0 | J29: =D29*((C29+C28)/2)^2 -> 0 | K29: =(I29/total!$H$196)/(LN(H29)-LN(H28)) -> #NUM! | L29: 1 | M29: =N29*I29/$I$196 -> #DIV/0! | N29: =($O$1/H29)*(1-EXP(-$O$2*H29*H29-$O$3*H29^3)) -> #DIV/0! | Y29: 0.00048147 | Z29: 0 | AA29: 0
H30: =(C30*3/2)*1000 -> 0 | I30: =D30*H30 -> 0 | J30: =D30*((C30+C29)/2)^2 -> 0 | K30: =(I30/total!$H$196)/(LN(H30)-LN(H29)) -> #NUM! | L30: 1 | M30: =N30*I30/$I$196 -> #DIV/0! | N30: =($O$1/H30)*(1-EXP(-$O$2*H30*H30-$O$3*H30^3)) -> #DIV/0! | Y30: 0.0005043 | Z30: 0 | AA30: 0
H31: =(C31*3/2)*1000 -> 0 | I31: =D31*H31 -> 0 | J31: =D31*((C31+C30)/2)^2 -> 0 | K31: =(I31/total!$H$196)/(LN(H31)-LN(H30)) -> #NUM! | L31: 1 | M31: =N31*I31/$I$196 -> #DIV/0! | N31: =($O$1/H31)*(1-EXP(-$O$2*H31*H31-$O$3*H31^3)) -> #DIV/0! | Y31: 0.00052823 | Z31: 1.03907e-10 | AA31: 1
H32: =(C32*3/2)*1000 -> 0 | I32: =D32*H32 -> 0 | J32: =D32*((C32+C31)/2)^2 -> 0 | K32: =(I32/total!$H$196)/(LN(H32)-LN(H31)) -> #NUM! | L32: 1 | M32: =N32*I32/$I$196 -> #DIV/0! | N32: =($O$1/H32)*(1-EXP(-$O$2*H32*H32-$O$3*H32^3)) -> #DIV/0! | Y32: 0.00055328 | Z32: 1.03907e-10 | AA32: 1
H33: =(C33*3/2)*1000 -> 0 | I33: =D33*H33 -> 0 | J33: =D33*((C33+C32)/2)^2 -> 0 | K33: =(I33/total!$H$196)/(LN(H33)-LN(H32)) -> #NUM! | L33: 1 | M33: =N33*I33/$I$196 -> #DIV/0! | N33: =($O$1/H33)*(1-EXP(-$O$2*H33*H33-$O$3*H33^3)) -> #DIV/0! | Y33: 0.00057953 | Z33: 0 | AA33: 0
H34: =(C34*3/2)*1000 -> 0 | I34: =D34*H34 -> 0 | J34: =D34*((C34+C33)/2)^2 -> 0 | K34: =(I34/total!$H$196)/(LN(H34)-LN(H33)) -> #NUM! | L34: 1 | M34: =N34*I34/$I$196 -> #DIV/0! | N34: =($O$1/H34)*(1-EXP(-$O$2*H34*H34-$O$3*H34^3)) -> #DIV/0! | Y34: 0.00060701 | Z34: 1.03907e-10 | AA34: 1
... H67: =(C67*3/2)*1000 -> 0 | I67: =D67*H67 -> 0 | J67: =D67*((C67+C66)/2)^2 -> 0 | K67: =(I67/total!$H$196)/(LN(H67)-LN(H66)) -> #NUM! | L67: 1 | M67: =N67*I67/$I$196 -> #DIV/0! | N67: =($O$1/H67)*(1-EXP(-$O$2*H67*H67-$O$3*H67^3)) -> #DIV/0! | Y67: 0.0028014 | Z67: 2.38985e-09 | AA67: 0.2085
H68: =(C68*3/2)*1000 -> 0 | I68: =D68*H68 -> 0 | J68: =D68*((C68+C67)/2)^2 -> 0 | K68: =(I68/total!$H$196)/(LN(H68)-LN(H67)) -> #NUM! | L68: =0.32*H68-2.2 -> -2.2 | M68: =N68*I68/$I$196 -> #DIV/0! | N68: =($O$1/H68)*(1-EXP(-$O$2*H68*H68-$O$3*H68^3)) -> #DIV/0! | Y68: 0.0029343 | Z68: 2.80548e-09 | AA68: 0.1925
H69: =(C69*3/2)*1000 -> 0 | I69: =D69*H69 -> 0 | J69: =D69*((C69+C68)/2)^2 -> 0 | K69: =(I69/total!$H$196)/(LN(H69)-LN(H68)) -> #NUM! | L69: =0.32*H69-2.2 -> -2.2 | M69: =N69*I69/$I$196 -> #DIV/0! | N69: =($O$1/H69)*(1-EXP(-$O$2*H69*H69-$O$3*H69^3)) -> #DIV/0! | Y69: 0.0030735 | Z69: 1.5586e-09 | AA69: 0.2582
H70: =(C70*3/2)*1000 -> 0 | I70: =D70*H70 -> 0 | J70: =D70*((C70+C69)/2)^2 -> 0 | K70: =(I70/total!$H$196)/(LN(H70)-LN(H69)) -> #NUM! | L70: =0.32*H70-2.2 -> -2.2 | M70: =N70*I70/$I$196 -> #DIV/0! | N70: =($O$1/H70)*(1-EXP(-$O$2*H70*H70-$O$3*H70^3)) -> #DIV/0! | Y70: 0.0032193 | Z70: 2.38985e-09 | AA70: 0.2085
H71: =(C71*3/2)*1000 -> 0 | I71: =D71*H71 -> 0 | J71: =D71*((C71+C70)/2)^2 -> 0 | K71: =(I71/total!$H$196)/(LN(H71)-LN(H70)) -> #NUM! | L71: =0.32*H71-2.2 -> -2.2 | M71: =N71*I71/$I$196 -> #DIV/0! | N71: =($O$1/H71)*(1-EXP(-$O$2*H71*H71-$O$3*H71^3)) -> #DIV/0! | Y71: 0.003372 | Z71: 2.07813e-09 | AA71: 0.2236
H72: =(C72*3/2)*1000 -> 0 | I72: =D72*H72 -> 0 | J72: =D72*((C72+C71)/2)^2 -> 0 | K72: =(I72/total!$H$196)/(LN(H72)-LN(H71)) -> #NUM! | L72: =0.32*H72-2.2 -> -2.2 | M72: =N72*I72/$I$196 -> #DIV/0! | N72: =($O$1/H72)*(1-EXP(-$O$2*H72*H72-$O$3*H72^3)) -> #DIV/0! | Y72: 0.0035319 | Z72: 2.59766e-09 | AA72: 0.2
H73: =(C73*3/2)*1000 -> 0 | I73: =D73*H73 -> 0 | J73: =D73*((C73+C72)/2)^2 -> 0 | K73: =(I73/total!$H$196)/(LN(H73)-LN(H72)) -> #NUM! | L73: =0.32*H73-2.2 -> -2.2 | M73: =N73*I73/$I$196 -> #DIV/0! | N73: =($O$1/H73)*(1-EXP(-$O$2*H73*H73-$O$3*H73^3)) -> #DIV/0! | Y73: 0.0036994 | Z73: 2.38985e-09 | AA73: 0.2085
H74: =(C74*3/2)*1000 -> 0 | I74: =D74*H74 -> 0 | J74: =D74*((C74+C73)/2)^2 -> 0 | K74: =(I74/total!$H$196)/(LN(H74)-LN(H73)) -> #NUM! | L74: =0.32*H74-2.2 -> -2.2 | M74: =N74*I74/$I$196 -> #DIV/0! | N74: =($O$1/H74)*(1-EXP(-$O$2*H74*H74-$O$3*H74^3)) -> #DIV/0! | Y74: 0.0038749 | Z74: 2.49376e-09 | AA74: 0.2041
H75: =(C75*3/2)*1000 -> 0 | I75: =D75*H75 -> 0 | J75: =D75*((C75+C74)/2)^2 -> 0 | K75: =(I75/total!$H$196)/(LN(H75)-LN(H74)) -> #NUM! | L75: =0.32*H75-2.2 -> -2.2 | M75: =N75*I75/$I$196 -> #DIV/0! | N75: =($O$1/H75)*(1-EXP(-$O$2*H75*H75-$O$3*H75^3)) -> #DIV/0! | Y75: 0.0040587 | Z75: 2.38985e-09 | AA75: 0.2085
H76: =(C76*3/2)*1000 -> 0 | I76: =D76*H76 -> 0 | J76: =D76*((C76+C75)/2)^2 -> 0 | K76: =(I76/total!$H$196)/(LN(H76)-LN(H75)) -> #NUM! | L76: =0.32*H76-2.2 -> -2.2 | M76: =N76*I76/$I$196 -> #DIV/0! | N76: =($O$1/H76)*(1-EXP(-$O$2*H76*H76-$O$3*H76^3)) -> #DIV/0! | Y76: 0.0042512 | Z76: 1.35079e-09 | AA76: 0.2774
...

Sheet alpha
C4: E | D4: F8 | E4: Err | H4: y (µm) | I4: yiFi | J4: yd(y)i
C5: 0 | D5: 0 | E5: 0 | H5: =(C5*3/2)*1000 -> 0
C6: 1.39e-11 | D6: 0 | E6: 0 | H6: =(C6*3/2)*1000 -> 2.085e-08 | I6: =D6*H6 -> 0 | J6: =(I6/total!$H$196)/(LN(H6)-LN(H5)) -> #NUM!
C7: 0.0004 | D7: 0 | E7: 0 | H7: =(C7*3/2)*1000 -> 0.6 | I7: =D7*H7 -> 0 | J7: =(I7/total!$H$196)/(LN(H7)-LN(H6)) -> 0
C8: 0.00041897 | D8: 0 | E8: 0 | H8: =(C8*3/2)*1000 -> 0.628455 | I8: =D8*H8 -> 0 | J8: =(I8/total!$H$196)/(LN(H8)-LN(H7)) -> 0
C9: 0.00043885 | D9: 0 | E9: 0 | H9: =(C9*3/2)*1000 -> 0.658275 | I9: =D9*H9 -> 0 | J9: =(I9/total!$H$196)/(LN(H9)-LN(H8)) -> 0
C10: 0.00045966 | D10: 0 | E10: 0 | H10: =(C10*3/2)*1000 -> 0.68949 | I10: =D10*H10 -> 0 | J10: =(I10/total!$H$196)/(LN(H10)-LN(H9)) -> 0
C11: 0.00048147 | D11: 0 | E11: 0 | H11: =(C11*3/2)*1000 -> 0.722205 | I11: =D11*H11 -> 0 | J11: =(I11/total!$H$196)/(LN(H11)-LN(H10)) -> 0
C12: 0.0005043 | D12: 0 | E12: 0 | H12: =(C12*3/2)*1000 -> 0.75645 | I12: =D12*H12 -> 0 | J12: =(I12/total!$H$196)/(LN(H12)-LN(H11)) -> 0
C13: 0.00052823 | D13: 0 | E13: 0 | H13: =(C13*3/2)*1000 -> 0.792345 | I13: =D13*H13 -> 0 | J13: =(I13/total!$H$196)/(LN(H13)-LN(H12)) -> 0
C14: 0.00055328 | D14: 0 | E14: 0 | H14: =(C14*3/2)*1000 -> 0.82992 | I14: =D14*H14 -> 0 | J14: =(I14/total!$H$196)/(LN(H14)-LN(H13)) -> 0
C15: 0.00057953 | D15: 0 | E15: 0 | H15: =(C15*3/2)*1000 -> 0.869295 | I15: =D15*H15 -> 0 | J15: =(I15/total!$H$196)/(LN(H15)-LN(H14)) -> 0
C16: 0.00060701 | D16: 0 | E16: 0 | H16: =(C16*3/2)*1000 -> 0.910515 | I16: =D16*H16 -> 0 | J16: =(I16/total!$H$196)/(LN(H16)-LN(H15)) -> 0
C17: 0.00063581 | D17: 0 | E17: 0 | H17: =(C17*3/2)*1000 -> 0.953715 | I17: =D17*H17 -> 0 | J17: =(I17/total!$H$196)/(LN(H17)-LN(H16)) -> 0
... C191: 2.02 | D191: 0 | E191: 0 | H191: =(C191*3/2)*1000 -> 3030 | I191: =D191*H191 -> 0 | J191: =(I191/total!$H$196)/(LN(H191)-LN(H190)) -> 0
J192: =SUM(J7:J191) -> 3.4765125
F196: somme(yi*fi) | I196: =SUM(I6:I191) -> 0.00024027945

Sheet deutons
C4: E | D4: F8 | E4: Err | H4: y (µm) | I4: yiFi | J4: yd(y)i
C5: 0 | E5: 0 | H5: =(C5*3/2)*1000 -> 0
C6: 1.39e-11 | E6: 0 | H6: =(C6*3/2)*1000 -> 2.085e-08 | I6: =D6*H6 -> 0 | J6: =(I6/total!$H$196)/(LN(H6)-LN(H5)) -> #NUM!
C7: 0.0004 | E7: 0 | H7: =(C7*3/2)*1000 -> 0.6 | I7: =D7*H7 -> 0 | J7: =(I7/total!$H$196)/(LN(H7)-LN(H6)) -> 0
C8: 0.00041897 | E8: 0 | H8: =(C8*3/2)*1000 -> 0.628455 | I8: =D8*H8 -> 0 | J8: =(I8/total!$H$196)/(LN(H8)-LN(H7)) -> 0
C9: 0.00043885 | E9: 0 | H9: =(C9*3/2)*1000 -> 0.658275 | I9: =D9*H9 -> 0 | J9: =(I9/total!$H$196)/(LN(H9)-LN(H8)) -> 0
C10: 0.00045966 | E10: 0 | H10: =(C10*3/2)*1000 -> 0.68949 | I10: =D10*H10 -> 0 | J10: =(I10/total!$H$196)/(LN(H10)-LN(H9)) -> 0
C11: 0.00048147 | E11: 0 | H11: =(C11*3/2)*1000 -> 0.722205 | I11: =D11*H11 -> 0 | J11: =(I11/total!$H$196)/(LN(H11)-LN(H10)) -> 0
C12: 0.0005043 | E12: 0 | H12: =(C12*3/2)*1000 -> 0.75645 | I12: =D12*H12 -> 0 | J12: =(I12/total!$H$196)/(LN(H12)-LN(H11)) -> 0
C13: 0.00052823 | E13: 0 | H13: =(C13*3/2)*1000 -> 0.792345 | I13: =D13*H13 -> 0 | J13: =(I13/total!$H$196)/(LN(H13)-LN(H12)) -> 0
C14: 0.00055328 | E14: 0 | H14: =(C14*3/2)*1000 -> 0.82992 | I14: =D14*H14 -> 0 | J14: =(I14/total!$H$196)/(LN(H14)-LN(H13)) -> 0
C15: 0.00057953 | E15: 0 | H15: =(C15*3/2)*1000 -> 0.869295 | I15: =D15*H15 -> 0 | J15: =(I15/total!$H$196)/(LN(H15)-LN(H14)) -> 0
C16: 0.00060701 | E16: 0 | H16: =(C16*3/2)*1000 -> 0.910515 | I16: =D16*H16 -> 0 | J16: =(I16/total!$H$196)/(LN(H16)-LN(H15)) -> 0
C17: 0.00063581 | E17: 0 | H17: =(C17*3/2)*1000 -> 0.953715 | I17: =D17*H17 -> 0 | J17: =(I17/total!$H$196)/(LN(H17)-LN(H16)) -> 0
... C191: 2.02 | E191: 0 | H191: =(C191*3/2)*1000 -> 3030 | I191: =D191*H191 -> 0 | J191: =(I191/total!$H$196)/(LN(H191)-LN(H190)) -> 0
F196: somme(yi*fi) | I196: =SUM(I6:I191) -> 0
F197: somme(fi) | I197: =SUM(D5:D191) -> 0
F198: yF | I198: =I196/I197 -> #DIV/0!
F199: yD | I199: =(SUM(#REF!))/I196 -> #REF!
F200: D/phi | I200: =PI()*(0.00000000000016*I196*(2/3))/0.0000833425 -> 0
F201: Q | I201: =SUM(L6:L191) -> 0
F202: H/phi | I202: =I200*I201 -> 0 | J202: =I202/total!H200 -> #DIV/0!
