Workbook
Name _c: Setup!$B$4
Name _contraction: Setup!$B$10
Name _dilation: Setup!$B$9
Name _v: Setup!$B$5
Name β: Setup!$B$6
Name γ: Setup!$B$7

Sheet Setup
A1: Video Mapping of Twin Paradox - Setup
A2: General Setup
A4: Speed of light | B4: 1 | C4: LS per second
A5: Velocity | B5: 0.8 | C5: LS per second
A6: β | B6: =_v/_c -> 0.8 | C6: Unitless
A7: γ | B7: =1/SQRT(1 - (_v^2)/(_c^2)) -> 1.6666667 | C7: Unitless
A9: Time dilation | B9: =γ -> 1.6666667 | C9: Unitless
A10: Length contraction | B10: =1/γ -> 0.6 | C10: Unitless
A12: From A's View
A14: Distance to M | B14: 4 | C14: LY
A15: Time to M | B15: =B14/_v -> 5 | C15: Years
A16: Distance to C | B16: 8 | C16: LY
A18: From B's View
A20: Distance to M | B20: =B14*_contraction -> 2.4 | C20: LY
A21: Time to M | B21: =B20/_v -> 3 | C21: Years
A23: From C's View
A25: Distance to M | B25: 2.4 | C25: LY
A26: Distance to A | B26: 4.8 | C26: LY
A27: Time to M | B27: 3 | C27: years
A28: Time to A | B28: 6 | C28: years

Sheet Simulation
C1: `
C3: A's View | I3: B's View | O3: C's View | U3: Mapping
A4: Frame | C4: Sent | D4: B's Distance | E4: Arrives | F4: C's Distance | G4: Arrives | I4: Sent | J4: A's Distance | K4: Arrives | L4: A's Distance | M4: Mapped To | O4: Sent | P4: A's Distance | Q4: Arrives | R4: A's Distance | S4: Mapped To
A6: 0 | C6: =A6 -> 0 | D6: =C6*_v -> 0 | E6: =D6/(1-_v)+C6 -> 0 | F6: =Setup!$B$16-(Simulation!C6*_v) -> 8 | G6: =F6/(1+_v)+C6 -> 4.4444444 | I6: =C6/_dilation -> 0 | J6: =I6*_v -> 0 | K6: =J6/(1-_v)+I6 -> 0 | L6: =K6*_v -> 0 | M6: =K6-L6/(1+_v) -> 0 | O6: =C6/_dilation -> 0 | P6: =(6-O6)*_v -> 4.8 | Q6: =P6/(1+_v)+O6 -> 2.6666667 | R6: =Setup!$B$26-Q6*_v -> 2.6666667 | S6: =Q6-R6/(1-_v) -> -10.666667 | U6: =C6 -> 0 | V6: =M6 -> 0
A7: =A6+1 -> 1 | C7: =A7 -> 1 | D7: =C7*_v -> 0.8 | E7: =D7/(1-_v)+C7 -> 5 | F7: =Setup!$B$16-(Simulation!C7*_v) -> 7.2 | G7: =F7/(1+_v)+C7 -> 5 | I7: =C7/_dilation -> 0.6 | J7: =I7*_v -> 0.48 | K7: =J7/(1-_v)+I7 -> 3 | L7: =K7*_v -> 2.4 | M7: =K7-L7/(1+_v) -> 1.6666667 | O7: =C7/_dilation -> 0.6 | P7: =(6-O7)*_v -> 4.32 | Q7: =P7/(1+_v)+O7 -> 3 | R7: =Setup!$B$26-Q7*_v -> 2.4 | S7: =Q7-R7/(1-_v) -> -9 | U7: =C7 -> 1 | V7: =M7 -> 1.6666667
A8: 1.8 | C8: =A8 -> 1.8 | D8: =C8*_v -> 1.44 | E8: =D8/(1-_v)+C8 -> 9 | F8: =Setup!$B$16-(Simulation!C8*_v) -> 6.56 | G8: =F8/(1+_v)+C8 -> 5.4444444 | I8: =C8/_dilation -> 1.08 | J8: =I8*_v -> 0.864 | K8: =J8/(1-_v)+I8 -> 5.4 | L8: =K8*_v -> 4.32 | M8: =K8-L8/(1+_v) -> 3 | O8: =C8/_dilation -> 1.08 | P8: =(6-O8)*_v -> 3.936 | Q8: =P8/(1+_v)+O8 -> 3.2666667 | R8: =Setup!$B$26-Q8*_v -> 2.1866667 | S8: =Q8-R8/(1-_v) -> -7.6666667 | U8: =C8 -> 1.8 | V8: =M8 -> 3
A9: =A7+1 -> 2 | C9: =A9 -> 2 | D9: =C9*_v -> 1.6 | E9: =D9/(1-_v)+C9 -> 10 | F9: =Setup!$B$16-(Simulation!C9*_v) -> 6.4 | G9: =F9/(1+_v)+C9 -> 5.5555556 | I9: =C9/_dilation -> 1.2 | J9: =I9*_v -> 0.96 | K9: =J9/(1-_v)+I9 -> 6 | L9: =K9*_v -> 4.8 | M9: =K9-L9/(1+_v) -> 3.3333333 | O9: =C9/_dilation -> 1.2 | P9: =(6-O9)*_v -> 3.84 | Q9: =P9/(1+_v)+O9 -> 3.3333333 | R9: =Setup!$B$26-Q9*_v -> 2.1333333 | S9: =Q9-R9/(1-_v) -> -7.3333333 | U9: =C9 -> 2
A10: =A9+1 -> 3 | C10: =A10 -> 3 | D10: =C10*_v -> 2.4 | E10: =D10/(1-_v)+C10 -> 15 | F10: =Setup!$B$16-(Simulation!C10*_v) -> 5.6 | G10: =F10/(1+_v)+C10 -> 6.1111111 | I10: =C10/_dilation -> 1.8 | J10: =I10*_v -> 1.44 | K10: =J10/(1-_v)+I10 -> 9 | L10: =K10*_v -> 7.2 | M10: =K10-L10/(1+_v) -> 5 | O10: =C10/_dilation -> 1.8 | P10: =(6-O10)*_v -> 3.36 | Q10: =P10/(1+_v)+O10 -> 3.6666667 | R10: =Setup!$B$26-Q10*_v -> 1.8666667 | S10: =Q10-R10/(1-_v) -> -5.6666667 | U10: =C10 -> 3
A11: =A10+1 -> 4 | C11: =A11 -> 4 | D11: =C11*_v -> 3.2 | E11: =D11/(1-_v)+C11 -> 20 | F11: =Setup!$B$16-(Simulation!C11*_v) -> 4.8 | G11: =F11/(1+_v)+C11 -> 6.6666667 | I11: =C11/_dilation -> 2.4 | J11: =I11*_v -> 1.92 | K11: =J11/(1-_v)+I11 -> 12 | L11: =K11*_v -> 9.6 | M11: =K11-L11/(1+_v) -> 6.6666667 | O11: =C11/_dilation -> 2.4 | P11: =(6-O11)*_v -> 2.88 | Q11: =P11/(1+_v)+O11 -> 4 | R11: =Setup!$B$26-Q11*_v -> 1.6 | S11: =Q11-R11/(1-_v) -> -4 | U11: =C11 -> 4
A12: =A11+1 -> 5 | C12: =A12 -> 5 | D12: =C12*_v -> 4 | E12: =D12/(1-_v)+C12 -> 25 | F12: =Setup!$B$16-(Simulation!C12*_v) -> 4 | G12: =F12/(1+_v)+C12 -> 7.2222222 | I12: =C12/_dilation -> 3 | J12: =I12*_v -> 2.4 | K12: =J12/(1-_v)+I12 -> 15 | L12: =K12*_v -> 12 | M12: =K12-L12/(1+_v) -> 8.3333333 | O12: =C12/_dilation -> 3 | P12: =(6-O12)*_v -> 2.4 | Q12: =P12/(1+_v)+O12 -> 4.3333333 | R12: =Setup!$B$26-Q12*_v -> 1.3333333 | S12: =Q12-R12/(1-_v) -> -2.3333333 | U12: =C12 -> 5
A13: =A12+1 -> 6 | C13: =A13 -> 6 | D13: =C13*_v -> 4.8 | E13: =D13/(1-_v)+C13 -> 30 | F13: =Setup!$B$16-(Simulation!C13*_v) -> 3.2 | G13: =F13/(1+_v)+C13 -> 7.7777778 | I13: =C13/_dilation -> 3.6 | J13: =I13*_v -> 2.88 | K13: =J13/(1-_v)+I13 -> 18 | L13: =K13*_v -> 14.4 | M13: =K13-L13/(1+_v) -> 10 | O13: =C13/_dilation -> 3.6 | P13: =(6-O13)*_v -> 1.92 | Q13: =P13/(1+_v)+O13 -> 4.6666667 | R13: =Setup!$B$26-Q13*_v -> 1.0666667 | S13: =Q13-R13/(1-_v) -> -0.66666667 | U13: =C13 -> 6
A14: =A13+1 -> 7 | C14: =A14 -> 7 | D14: =C14*_v -> 5.6 | E14: =D14/(1-_v)+C14 -> 35 | F14: =Setup!$B$16-(Simulation!C14*_v) -> 2.4 | G14: =F14/(1+_v)+C14 -> 8.3333333 | I14: =C14/_dilation -> 4.2 | J14: =I14*_v -> 3.36 | K14: =J14/(1-_v)+I14 -> 21 | L14: =K14*_v -> 16.8 | M14: =K14-L14/(1+_v) -> 11.666667 | O14: =C14/_dilation -> 4.2 | P14: =(6-O14)*_v -> 1.44 | Q14: =P14/(1+_v)+O14 -> 5 | R14: =Setup!$B$26-Q14*_v -> 0.8 | S14: =Q14-R14/(1-_v) -> 1 | U14: =C14 -> 7
A15: =A14+1 -> 8 | C15: =A15 -> 8 | D15: =C15*_v -> 6.4 | E15: =D15/(1-_v)+C15 -> 40 | F15: =Setup!$B$16-(Simulation!C15*_v) -> 1.6 | G15: =F15/(1+_v)+C15 -> 8.8888889 | I15: =C15/_dilation -> 4.8 | J15: =I15*_v -> 3.84 | K15: =J15/(1-_v)+I15 -> 24 | L15: =K15*_v -> 19.2 | M15: =K15-L15/(1+_v) -> 13.333333 | O15: =C15/_dilation -> 4.8 | P15: =(6-O15)*_v -> 0.96 | Q15: =P15/(1+_v)+O15 -> 5.3333333 | R15: =Setup!$B$26-Q15*_v -> 0.53333333 | S15: =Q15-R15/(1-_v) -> 2.6666667 | U15: =C15 -> 8
A16: 8.2 | C16: =A16 -> 8.2 | D16: =C16*_v -> 6.56 | E16: =D16/(1-_v)+C16 -> 41 | F16: =Setup!$B$16-(Simulation!C16*_v) -> 1.44 | G16: =F16/(1+_v)+C16 -> 9 | I16: =C16/_dilation -> 4.92 | J16: =I16*_v -> 3.936 | K16: =J16/(1-_v)+I16 -> 24.6 | L16: =K16*_v -> 19.68 | M16: =K16-L16/(1+_v) -> 13.666667 | O16: =C16/_dilation -> 4.92 | P16: =(6-O16)*_v -> 0.864 | Q16: =P16/(1+_v)+O16 -> 5.4 | R16: =Setup!$B$26-Q16*_v -> 0.48 | S16: =Q16-R16/(1-_v) -> 3 | U16: =C16 -> 8.2 | V16: =S16 -> 3
A17: =A15+1 -> 9 | C17: =A17 -> 9 | D17: =C17*_v -> 7.2 | E17: =D17/(1-_v)+C17 -> 45 | F17: =Setup!$B$16-(Simulation!C17*_v) -> 0.8 | G17: =F17/(1+_v)+C17 -> 9.4444444 | I17: =C17/_dilation -> 5.4 | J17: =I17*_v -> 4.32 | K17: =J17/(1-_v)+I17 -> 27 | L17: =K17*_v -> 21.6 | M17: =K17-L17/(1+_v) -> 15 | O17: =C17/_dilation -> 5.4 | P17: =(6-O17)*_v -> 0.48 | Q17: =P17/(1+_v)+O17 -> 5.6666667 | R17: =Setup!$B$26-Q17*_v -> 0.26666667 | S17: =Q17-R17/(1-_v) -> 4.3333333 | U17: =C17 -> 9 | V17: =S17 -> 4.3333333
A18: =A17+1 -> 10 | C18: =A18 -> 10 | D18: =C18*_v -> 8 | E18: =D18/(1-_v)+C18 -> 50 | F18: =Setup!$B$16-(Simulation!C18*_v) -> 0 | G18: =F18/(1+_v)+C18 -> 10 | I18: =C18/_dilation -> 6 | J18: =I18*_v -> 4.8 | K18: =J18/(1-_v)+I18 -> 30 | L18: =K18*_v -> 24 | M18: =K18-L18/(1+_v) -> 16.666667 | O18: =C18/_dilation -> 6 | P18: =(6-O18)*_v -> 7.1054274e-16 | Q18: =P18/(1+_v)+O18 -> 6 | R18: =Setup!$B$26-Q18*_v -> 0 | S18: =Q18-R18/(1-_v) -> 6 | U18: =C18 -> 10 | V18: =S18 -> 6
B22: Formulas
B24: Velocity, distance and time: v = d / t OR d = t * v OR t = d * v
B25: Arrival time of light sent at time t to an object at distance d moving away at v: t + d / (1 - v), where (1 - v) is the light beam moving relative to the object.
B26: Origin time of light received at time t and sent by an object now at distance d and moving away at v: t - d / (1 + v), where (1 + v) is the light beam moving one way and the object moving the other to create the total distance of d
B27: Arrival time of light sent at time t to an object at distance d approaching at v: t + d / (1 + v), where (1 + v) is the light beam moving relative to the object.
B28: Origin time of light received at time t and sent by an object now at distance d and approaching at v: t - d / (1 - v), where (1 - v) is the light beam moving one way and the object approaching to create the total distance of d
